Workbook

Sheet PANEL DE CONTROL DISTRITAL
A1: INSTITUTO NACIONAL ELECTORAL SISTEMA DE GESTIÓN DE LA CALIDAD ESTADO DE MÉXICO
M2: Fecha de corte: 13/09/2024 | Q2: Version: 0
A4: TABLERO DE CONTROL DISTRITAL DE PROCESOS SUSTANTIVOS DEL SISTEMA DE GESTIÓN DE LA CALIDAD
A5: CAMPAÑA ANUAL PERMANENTE 2024
A6: Número | B6: PROCESOS SUSTANTIVOS E INDICADORES | I6: % AVANCE REGISTRADO | K6: % AVANCE REGISTRADO | M6: % AVANCE REGISTRADO | O6: % AVANCE REGISTRADO | Q6: % AVANCE REGISTRADO | S6: % AVANCE REGISTRADO | U6: % AVANCE REGISTRADO | W6: % AVANCE REGISTRADO | Y6: % AVANCE REGISTRADO | AA6: % AVANCE REGISTRADO | AC6: % AVANCE REGISTRADO | AE6: % AVANCE REGISTRADO | AG6: % AVANCE REGISTRADO | AI6: % AVANCE REGISTRADO | AK6: % AVANCE REGISTRADO | AM6: % AVANCE REGISTRADO | AO6: % AVANCE REGISTRADO | AQ6: % AVANCE REGISTRADO | AS6: % AVANCE REGISTRADO | AU6: % AVANCE REGISTRADO | AW6: % AVANCE REGISTRADO | AY6: % AVANCE REGISTRADO | BA6: % AVANCE REGISTRADO | BC6: % AVANCE REGISTRADO | BE6: % AVANCE REGISTRADO | BG6: % AVANCE REGISTRADO | BI6: % AVANCE REGISTRADO | BK6: % AVANCE REGISTRADO | BM6: % AVANCE REGISTRADO | BO6: % AVANCE REGISTRADO | BQ6: % AVANCE REGISTRADO | BS6: % AVANCE REGISTRADO | BU6: % AVANCE REGISTRADO | BW6: % AVANCE REGISTRADO | BY6: % AVANCE REGISTRADO | CA6: % AVANCE REGISTRADO | CC6: % AVANCE REGISTRADO | CE6: % AVANCE REGISTRADO | CG6: % AVANCE REGISTRADO | CI6: % AVANCE REGISTRADO | CK6: % AVANCE REGISTRADO
B7: DESCRIPCIÓN | E7: MEDICIÓN
B8: Proceso | C8: Dueño de Proceso | D8: Indicador | E8: Cálculo | F8: Periodo | G8: Estimado | H8: Nominativo | I8: Distrito 01 | K8: Distrito 02 | M8: Distrito 03 | O8: Distrito 04 | Q8: Distrito 05 | S8: Distrito 06 | U8: Distrito 07 | W8: Distrito 08 | Y8: Distrito 09 | AA8: Distrito 10 | AC8: Distrito 11 | AE8: Distrito 12 | AG8: Distrito 13 | AI8: Distrito 14 | AK8: Distrito 15 | AM8: Distrito 16 | AO8: Distrito 17 | AQ8: Distrito 18 | AS8: Distrito 19 | AU8: Distrito 20 | AW8: Distrito 21 | AY8: Distrito 22 | BA8: Distrito 23 | BC8: Distrito 24 | BE8: Distrito 25 | BG8: Distrito 26 | BI8: Distrito 27 | BK8: Distrito 28 | BM8: Distrito 29 | BO8: Distrito 30 | BQ8: Distrito 31 | BS8: Distrito 32 | BU8: Distrito 33 | BW8: Distrito 34 | BY8: Distrito 35 | CA8: Distrito 36 | CC8: Distrito 37 | CE8: Distrito 38 | CG8: Distrito 39 | CI8: Distrito 40 | CK8: Estatal
A9: 1 | B9: Entrevista | C9: Auxiliar de Atención Ciudadana | D9: Fichas requisitadas correctamente. | E9: (Fichas requisitadas correctamente / Fichas revisadas en la muestra del 10%) x 100 | F9: Semanal (remesa) | G9: 0.9 | H9: Fichas requistadas correctamente | I9: =AVERAGE('150151'!AS10:AS11,'150152'!AS10:AS11,'150153'!AS10:AS11) -> 1 | K9: =AVERAGE('150251'!AS10:AS11,'150253'!AS10:AS11) -> 0.99284254 | M9: =AVERAGE('150351'!AS10:AS11,'150352'!AS10:AS11,'150353'!AS10:AS11) -> 1 | O9: =AVERAGE('150451'!AS10:AS11) -> 0.98455598 | Q9: =AVERAGE('150551'!AS10:AS11) -> 1 | S9: =AVERAGE('150651'!AS10:AS11,'150652'!AS10:AS11) -> 1 | U9: =AVERAGE('150751'!AS10:AS11) -> 0.99968051 | W9: =AVERAGE('150851'!AS10:AS11) -> 0.9984326 | Y9: =AVERAGE('150951'!AS10:AS11,'150952'!AS10:AS11,'150953'!AS10:AS11,'150954'!AS10:AS11) -> 1 | AA9: =AVERAGE('151051'!AS10:AS11) -> 1 | AC9: =AVERAGE('151151'!AS10:AS11) -> 1 | AE9: =AVERAGE('151251'!AS10:AS11,'151252'!AS10:AS11,'151253'!AS10:AS11) -> 0.99501916 | AG9: =AVERAGE('151351'!AS10:AS11) -> 0.99180328 | AI9: =AVERAGE('151452'!AS10:AS11,'151453'!AS10:AS11) -> 1 | AK9: =AVERAGE('151551'!AS10:AS11) -> 1 | AM9: =AVERAGE('151651'!AS10:AS11,'151652'!AS10:AS11) -> 1 | AO9: =AVERAGE('151751'!AS10:AS11) -> 1 | AQ9: =AVERAGE('151851'!AS10:AS11,'151852'!AS10:AS11,'151853'!AS10:AS11) -> 1 | AS9: =AVERAGE('151951'!AS10:AS11,'151952'!AS10:AS11) -> 1 | AU9: =AVERAGE('152052'!AS10:AS11,'152053'!AS10:AS11,'152054'!AS10:AS11) -> 0.99984036 | AW9: =AVERAGE('152151'!AS10:AS11,'152152'!AS10:AS11) -> 0.99818906 | AY9: =AVERAGE('152251'!AS10:AS11,'152252'!AS10:AS11) -> 0.99388523 | BA9: =AVERAGE('152351'!AS10:AS11,'152352'!AS10:AS11,'152353'!AS10:AS11) -> 1 | BC9: =AVERAGE('152451'!AS10:AS11) -> 1 | BE9: =AVERAGE('152551'!AS10:AS11) -> 1 | BG9: =AVERAGE('152651'!AS10:AS11) -> 1 | BI9: =AVERAGE('152751'!AS10:AS11,'152752'!AS10:AS11,'152753'!AS10:AS11) -> 0.97765576 | BK9: =AVERAGE('152851'!AS10:AS11,'152853'!AS10:AS11) -> 1 | BM9: =AVERAGE('152951'!AS10:AS11) -> 0.99912816 | BO9: =AVERAGE('153051'!AS10:AS11,'153052'!AS10:AS11) -> 0.99939976 | BQ9: =AVERAGE('153151'!AS10:AS11) -> 1 | BS9: =AVERAGE('153251'!AS10:AS11) -> 1 | BU9: =AVERAGE('153351'!AS10:AS11) -> 1 | BW9: =AVERAGE('153451'!AS10:AS11) -> 1 | BY9: =AVERAGE('153551'!AS10:AS11,'153552'!AS10:AS11,'153553'!AS10:AS11) -> 1 | CA9: =AVERAGE('153651'!AS10:AS11,'153652'!AS10:AS11,'153653'!AS10:AS11,'153654'!AS10:AS11) -> 1 | CC9: =AVERAGE('153753'!AS10:AS11,'153752'!AS10:AS11) -> 0.97742373 | CE9: =AVERAGE('153851'!AS10:AS11,'153852'!AS10:AS11) -> 1 | CG9: =AVERAGE('153951'!AS10:AS11) -> 1 | CI9: =AVERAGE('154051'!AS10:AS11,'154052'!AS10:AS11,'154053'!AS10:AS11) -> 1 | CK9: =AVERAGE(I9,K9,M9,O9,Q9,S9,U9,W9,Y9,AA9,AC9,AE9,AG9,AI9,AK9,AM9,AO9,AQ9,AS9,AU9,AW9,AY9,BA9,BC9,BE9,BG9,BI9,BK9,BM9,BO9,BQ9,BS9,BU9,BW9,BY9,CA9,CC9,CE9,CG9,CI9) -> 0.9976964
H10: Fichas revisadas en la Muestra del 10%
A12: 2 | B12: Trámite | C12: Operador de Equipo Tecnológico | D12: Trámites exitosos. | E12: (Número de trámites exitosos / Número de trámites aplicados) x 100 | F12: Semanal (remesa) | G12: 0.9 | H12: Número de trámites exitosos | I12: =AVERAGE('150151'!AS13:AS14,'150152'!AS13:AS14,'150153'!AS13:AS14) -> 0.9983473 | K12: =AVERAGE('150251'!AS13:AS14,'150253'!AS13:AS14) -> 0.99758147 | M12: =AVERAGE('150351'!AS13:AS14,'150352'!AS13:AS14,'150353'!AS13:AS14) -> 0.9988192 | O12: =AVERAGE('150451'!AS13:AS14) -> 0.99792128 | Q12: =AVERAGE('150551'!AS13:AS14) -> 0.99623969 | S12: =AVERAGE('150651'!AS13:AS14,'150652'!AS13:AS14) -> 0.99752236 | U12: =AVERAGE('150751'!AS13:AS14) -> 0.99722484 | W12: =AVERAGE('150851'!AS13:AS14) -> 0.99718939 | Y12: =AVERAGE('150951'!AS13:AS14,'150952'!AS13:AS14,'150953'!AS13:AS14,'150954'!AS13:AS14) -> 0.98347803 | AA12: =AVERAGE('151051'!AS13:AS14) -> 0.97964471 | AC12: =AVERAGE('151151'!AS13:AS14) -> 0.99644172 | AE12: =AVERAGE('151251'!AS13:AS14,'151252'!AS13:AS14) -> 0.99629578 | AG12: =AVERAGE('151351'!AS13:AS14) -> 0.9956436 | AI12: =AVERAGE('151452'!AS13:AS14,'151453'!AS13:AS14) -> 0.99733876 | AK12: =AVERAGE('151551'!AS13:AS14) -> 0.97853346 | AM12: =AVERAGE('151651'!AS13:AS14,'151652'!AS13:AS14) -> 0.98164659 | AO12: =AVERAGE('151751'!AS13:AS14) -> 0.97700175 | AQ12: =AVERAGE('151851'!AS13:AS14,'151852'!AS13:AS14,'151853'!AS13:AS14) -> 0.98144663 | AS12: =AVERAGE('151951'!AS13:AS14,'151952'!AS13:AS14) -> 0.98328275 | AU12: =AVERAGE('152052'!AS13:AS14,'152053'!AS13:AS14,'152054'!AS13:AS14) -> 0.99668773 | AW12: =AVERAGE('152151'!AS13:AS14,'152152'!AS13:AS14) -> 0.99777198 | AY12: =AVERAGE('152251'!AS13:AS14,'152252'!AS13:AS14) -> 0.98442518 | BA12: =AVERAGE('152351'!AS13:AS14,'152352'!AS13:AS14,'152353'!AS13:AS14) -> 0.99559705 | BC12: =AVERAGE('152451'!AS13:AS14) -> 1 | BE12: =AVERAGE('152551'!AS13:AS14) -> 0.99475746 | BG12: =AVERAGE('152651'!AS13:AS14) -> 0.99824407 | BI12: =AVERAGE('152751'!AS13:AS14,'152752'!AS13:AS14,'152753'!AS13:AS14) -> 0.99782081 | BK12: =AVERAGE('152851'!AS13:AS14,'152853'!AS13:AS14) -> 0.99836252 | BM12: =AVERAGE('152951'!AS13:AS14) -> 0.99995632 | BO12: =AVERAGE('153051'!AS13:AS14,'153052'!AS13:AS14) -> 0.99407216 | BQ12: =AVERAGE('153151'!AS13:AS14) -> 0.99688632 | BS12: =AVERAGE('153251'!AS13:AS14) -> 0.98061752 | BU12: =AVERAGE('153351'!AS13:AS14) -> 0.99724457 | BW12: =AVERAGE('153451'!AS13:AS14) -> 0.99912956 | BY12: =AVERAGE('153551'!AS13:AS14,'153552'!AS13:AS14,'153553'!AS13:AS14) -> 0.99715252 | CA12: =AVERAGE('153651'!AS13:AS14,'153652'!AS13:AS14,'153653'!AS13:AS14,'153654'!AS13:AS14) -> 0.99101676 | CC12: =AVERAGE('153753'!AS13:AS14,'153752'!AS13:AS14) -> 0.99795081 | CE12: =AVERAGE('153851'!AS13:AS14,'153852'!AS13:AS14) -> 0.99620893 | CG12: =AVERAGE('153951'!AS13:AS14) -> 0.99604345 | CI12: =AVERAGE('154051'!AS13:AS14,'154052'!AS13:AS14,'154053'!AS13:AS14) -> 0.99790143 | CK12: =AVERAGE(I12,K12,M12,O12,Q12,S12,U12,W12,Y12,AA12,AC12,AE12,AG12,AI12,AK12,AM12,AO12,AQ12,AS12,AU12,AW12,AY12,BA12,BC12,BE12,BG12,BI12,BK12,BM12,BO12,BQ12,BS12,BU12,BW12,BY12,CA12,CC12,CE12,CG12,CI12) -> 0.99348616
H13: Número de trámites aplicados
A15: 3 | B15: Transferencia de la Información. | C15: Responsable de Módulo | D15: Reenvíos exitosos. | E15: (Ejecución de los scripts de reenvío de notificaciones / Solicitud de reenvíos de scripts requeridos) x100 | F15: Semanal (remesa) | G15: 1 | H15: Ejecución de los scripts de reenvío de notificaciones | I15: =AVERAGE('150151'!AS16:AS17,'150152'!AS16:AS17,'150153'!AS16:AS17) -> 1 | K15: =AVERAGE('150251'!AS16:AS17,'150253'!AS16:AS17) -> 1 | M15: =AVERAGE('150351'!AS16:AS17,'150352'!AS16:AS17,'150353'!AS16:AS17) -> 1 | O15: =AVERAGE('150451'!AS16:AS17) -> 1 | Q15: =AVERAGE('150551'!AS16:AS17) -> 1 | S15: =AVERAGE('150651'!AS16:AS17,'150652'!AS16:AS17) -> 1 | U15: =AVERAGE('150751'!AS16:AS17) -> 1 | W15: =AVERAGE('150851'!AS16:AS17) -> 1 | Y15: =AVERAGE('150951'!AS16:AS17,'150952'!AS16:AS17,'150953'!AS16:AS17,'150954'!AS16:AS17) -> 1 | AA15: =AVERAGE('151051'!AS16:AS17) -> 1 | AC15: =AVERAGE('151151'!AS16:AS17) -> 1 | AE15: =AVERAGE('151251'!AS16:AS17,'151252'!AS16:AS17) -> 1 | AG15: =AVERAGE('151351'!AS16:AS17) -> 1 | AI15: =AVERAGE('151452'!AS16:AS17,'151453'!AS16:AS17) -> 1 | AK15: =AVERAGE('151551'!AS16:AS17) -> 1 | AM15: =AVERAGE('151651'!AS16:AS17,'151652'!AS16:AS17) -> 1 | AO15: =AVERAGE('151751'!AS16:AS17) -> 1 | AQ15: =AVERAGE('151851'!AS16:AS17,'151852'!AS16:AS17,'151853'!AS16:AS17) -> 1 | AS15: =AVERAGE('151951'!AS16:AS17,'151952'!AS16:AS17) -> 1 | AU15: =AVERAGE('152052'!AS16:AS17,'152053'!AS16:AS17,'152054'!AS16:AS17) -> 0.97435897 | AW15: =AVERAGE('152151'!AS16:AS17,'152152'!AS16:AS17) -> 1 | AY15: =AVERAGE('152251'!AS16:AS17,'152252'!AS16:AS17) -> 1 | BA15: =AVERAGE('152351'!AS16:AS17,'152352'!AS16:AS17,'152353'!AS16:AS17) -> 1 | BC15: =AVERAGE('152451'!AS16:AS17) -> 1 | BE15: =AVERAGE('152551'!AS16:AS17) -> 1 | BG15: =AVERAGE('152651'!AS16:AS17) -> 1 | BI15: =AVERAGE('152751'!AS16:AS17,'152752'!AS16:AS17,'152753'!AS16:AS17) -> 1 | BK15: =AVERAGE('152851'!AS16:AS17,'152853'!AS16:AS17) -> 1 | BM15: =AVERAGE('152951'!AS16:AS17) -> 1 | BO15: =AVERAGE('153051'!AS16:AS17,'153052'!AS16:AS17) -> 1 | BQ15: =AVERAGE('153151'!AS16:AS17) -> 1 | BS15: =AVERAGE('153251'!AS16:AS17) -> 1 | BU15: =AVERAGE('153351'!AS16:AS17) -> 1 | BW15: =AVERAGE('153451'!AS16:AS17) -> 1 | BY15: =AVERAGE('153551'!AS16:AS17,'153552'!AS16:AS17,'153553'!AS16:AS17) -> 1 | CA15: =AVERAGE('153651'!AS16:AS17,'153652'!AS16:AS17,'153653'!AS16:AS17,'153654'!AS16:AS17) -> 1 | CC15: =AVERAGE('153753'!AS16:AS17,'153752'!AS16:AS17) -> 1 | CE15: =AVERAGE('153851'!AS16:AS17,'153852'!AS16:AS17) -> 1 | CG15: =AVERAGE('153951'!AS16:AS17) -> 1 | CI15: =AVERAGE('154051'!AS16:AS17,'154052'!AS16:AS17,'154053'!AS16:AS17) -> 1 | CK15: =AVERAGE(I15,K15,M15,O15,Q15,S15,U15,W15,Y15,AA15,AC15,AE15,AG15,AI15,AK15,AM15,AO15,AQ15,AS15,AU15,AW15,AY15,BA15,BC15,BE15,BG15,BI15,BK15,BM15,BO15,BQ15,BS15,BU15,BW15,BY15,CA15,CC15,CE15,CG15,CI15) -> 0.99935897
H16: Solicitud de reevíos de scripts requeridos
A18: 4 | B18: Conciliación de Credenciales para Votar. | C18: Responsable de Módulo | D18: Credenciales disponibles para entrega. | E18: [(Credenciales recibidas - Credenciales inconsistentes) / Credenciales recibidas] x 100 | F18: Semanal (remesa) | G18: 0.9 | H18: Credenciales Recibidas - Credenciales inconsistentes | I18: =AVERAGE('150151'!AS19:AS20,'150152'!AS19:AS20,'150153'!AS19:AS20) -> 1 | K18: =AVERAGE('150251'!AS19:AS20,'150253'!AS19:AS20) -> 1 | M18: =AVERAGE('150351'!AS19:AS20,'150352'!AS19:AS20,'150353'!AS19:AS20) -> 1 | O18: =AVERAGE('150451'!AS19:AS20) -> 1 | Q18: =AVERAGE('150551'!AS19:AS20) -> 1 | S18: =AVERAGE('150651'!AS19:AS20,'150652'!AS19:AS20) -> 1 | U18: =AVERAGE('150751'!AS19:AS20) -> 1 | W18: =AVERAGE('150851'!AS19:AS20) -> 1 | Y18: =AVERAGE('150951'!AS19:AS20,'150952'!AS19:AS20,'150953'!AS19:AS20,'150954'!AS19:AS20) -> 1 | AA18: =AVERAGE('151051'!AS19:AS20) -> 1 | AC18: =AVERAGE('151151'!AS19:AS20) -> 1 | AE18: =AVERAGE('151251'!AS19:AS20,'151252'!AS19:AS20) -> 1 | AG18: =AVERAGE('151351'!AS19:AS20) -> 1 | AI18: =AVERAGE('151452'!AS19:AS20,'151453'!AS19:AS20) -> 1 | AK18: =AVERAGE('151551'!AS19:AS20) -> 1 | AM18: =AVERAGE('151651'!AS19:AS20,'151652'!AS19:AS20) -> 1 | AO18: =AVERAGE('151751'!AS19:AS20) -> 1 | AQ18: =AVERAGE('151851'!AS19:AS20,'151852'!AS19:AS20,'151853'!AS19:AS20) -> 1 | AS18: =AVERAGE('151951'!AS19:AS20,'151952'!AS19:AS20) -> 1 | AU18: =AVERAGE('152052'!AS19:AS20,'152053'!AS19:AS20,'152054'!AS19:AS20) -> 1.0000625 | AW18: =AVERAGE('152151'!AS19:AS20,'152152'!AS19:AS20) -> 1 | AY18: =AVERAGE('152251'!AS19:AS20,'152252'!AS19:AS20) -> 1 | BA18: =AVERAGE('152351'!AS19:AS20,'152352'!AS19:AS20,'152353'!AS19:AS20) -> 1 | BC18: =AVERAGE('152451'!AS19:AS20) -> 1 | BE18: =AVERAGE('152551'!AS19:AS20) -> 1 | BG18: =AVERAGE('152651'!AS19:AS20) -> 1 | BI18: =AVERAGE('152751'!AS19:AS20,'152752'!AS19:AS20,'152753'!AS19:AS20) -> 1 | BK18: =AVERAGE('152851'!AS19:AS20,'152853'!AS19:AS20) -> 1 | BM18: =AVERAGE('152951'!AS19:AS20) -> 1 | BO18: =AVERAGE('153051'!AS19:AS20,'153052'!AS19:AS20) -> 1 | BQ18: =AVERAGE('153151'!AS19:AS20) -> 1 | BS18: =AVERAGE('153251'!AS19:AS20) -> 1 | BU18: =AVERAGE('153351'!AS19:AS20) -> 1 | BW18: =AVERAGE('153451'!AS19:AS20) -> 1 | BY18: =AVERAGE('153551'!AS19:AS20,'153552'!AS19:AS20,'153553'!AS19:AS20) -> 1 | CA18: =AVERAGE('153651'!AS19:AS20,'153652'!AS19:AS20,'153653'!AS19:AS20,'153654'!AS19:AS20) -> 1 | CC18: =AVERAGE('153753'!AS19:AS20,'153752'!AS19:AS20) -> 1 | CE18: =AVERAGE('153851'!AS19:AS20,'153852'!AS19:AS20) -> 1 | CG18: =AVERAGE('153951'!AS19:AS20) -> 1 | CI18: =AVERAGE('154051'!AS19:AS20,'154052'!AS19:AS20,'154053'!AS19:AS20) -> 1 | CK18: =AVERAGE(I18,K18,M18,O18,Q18,S18,U18,W18,Y18,AA18,AC18,AE18,AG18,AI18,AK18,AM18,AO18,AQ18,AS18,AU18,AW18,AY18,BA18,BC18,BE18,BG18,BI18,BK18,BM18,BO18,BQ18,BS18,BU18,BW18,BY18,CA18,CC18,CE18,CG18,CI18) -> 1.0000016
H19: Credenciales recibidas
A21: 5 | B21: Conciliación de Credenciales para Votar. | C21: Responsable de Módulo | D21: Arqueo de credenciales. | E21: (Credenciales disponibles (físicas) / Credenciales disponibles registradas en SIIRFE-MAC) x 100 | F21: Semanal (remesa) | G21: 1 | H21: Credenciales disponibles (físicas) | I21: =AVERAGE('150151'!AS22:AS23,'150152'!AS22:AS23,'150153'!AS22:AS23) -> 1 | K21: =AVERAGE('150251'!AS22:AS23,'150253'!AS22:AS23) -> 1 | M21: =AVERAGE('150351'!AS22:AS23,'150352'!AS22:AS23,'150353'!AS22:AS23) -> 1 | O21: =AVERAGE('150451'!AS22:AS23) -> 1 | Q21: =AVERAGE('150551'!AS22:AS23) -> 1 | S21: =AVERAGE('150651'!AS22:AS23,'150652'!AS22:AS23) -> 1 | U21: =AVERAGE('150751'!AS22:AS23) -> 1 | W21: =AVERAGE('150851'!AS22:AS23) -> 1 | Y21: =AVERAGE('150951'!AS22:AS23,'150952'!AS22:AS23,'150953'!AS22:AS23,'150954'!AS22:AS23) -> 1 | AA21: =AVERAGE('151051'!AS22:AS23) -> 1 | AC21: =AVERAGE('151151'!AS22:AS23) -> 1 | AE21: =AVERAGE('151251'!AS22:AS23,'151252'!AS22:AS23) -> 1 | AG21: =AVERAGE('151351'!AS22:AS23) -> 1 | AI21: =AVERAGE('151452'!AS22:AS23,'151453'!AS22:AS23) -> 1 | AK21: =AVERAGE('151551'!AS22:AS23) -> 1 | AM21: =AVERAGE('151651'!AS22:AS23,'151652'!AS22:AS23) -> 1 | AO21: =AVERAGE('151751'!AS22:AS23) -> 1 | AQ21: =AVERAGE('151851'!AS22:AS23,'151852'!AS22:AS23,'151853'!AS22:AS23) -> 1 | AS21: =AVERAGE('151951'!AS22:AS23,'151952'!AS22:AS23) -> 1 | AU21: =AVERAGE('152052'!AS22:AS23,'152053'!AS22:AS23,'152054'!AS22:AS23) -> 1 | AW21: =AVERAGE('152151'!AS22:AS23,'152152'!AS22:AS23) -> 1 | AY21: =AVERAGE('152251'!AS22:AS23,'152252'!AS22:AS23) -> 1 | BA21: =AVERAGE('152351'!AS22:AS23,'152352'!AS22:AS23,'152353'!AS22:AS23) -> 1 | BC21: =AVERAGE('152451'!AS22:AS23) -> 1 | BE21: =AVERAGE('152551'!AS22:AS23) -> 1 | BG21: =AVERAGE('152651'!AS22:AS23) -> 1 | BI21: =AVERAGE('152751'!AS22:AS23,'152752'!AS22:AS23,'152753'!AS22:AS23) -> 1 | BK21: =AVERAGE('152851'!AS22:AS23,'152853'!AS22:AS23) -> 1 | BM21: =AVERAGE('152951'!AS22:AS23) -> 1 | BO21: =AVERAGE('153051'!AS22:AS23,'153052'!AS22:AS23) -> 1 | BQ21: =AVERAGE('153151'!AS22:AS23) -> 1 | BS21: =AVERAGE('153251'!AS22:AS23) -> 1 | BU21: =AVERAGE('153351'!AS22:AS23) -> 1 | BW21: =AVERAGE('153451'!AS22:AS23) -> 1 | BY21: =AVERAGE('153551'!AS22:AS23,'153552'!AS22:AS23,'153553'!AS22:AS23) -> 1 | CA21: =AVERAGE('153651'!AS22:AS23,'153652'!AS22:AS23,'153653'!AS22:AS23,'153654'!AS22:AS23) -> 1 | CC21: =AVERAGE('153753'!AS22:AS23,'153752'!AS22:AS23) -> 1 | CE21: =AVERAGE('153851'!AS22:AS23,'153852'!AS22:AS23) -> 1 | CG21: =AVERAGE('153951'!AS22:AS23) -> 1 | CI21: =AVERAGE('154051'!AS22:AS23,'154052'!AS22:AS23,'154053'!AS22:AS23) -> 1 | CK21: =AVERAGE(I21,K21,M21,O21,Q21,S21,U21,W21,Y21,AA21,AC21,AE21,AG21,AI21,AK21,AM21,AO21,AQ21,AS21,AU21,AW21,AY21,BA21,BC21,BE21,BG21,BI21,BK21,BM21,BO21,BQ21,BS21,BU21,BW21,BY21,CA21,CC21,CE21,CG21,CI21) -> 1
H22: Credenciales disponibles registradas en SIIRFE
A24: 6 | B24: Entrega de la Credencial para Votar. | C24: Operador de Equipo Tecnológico | D24: Efectividad de entrega de CPV en MAC. | E24: (Total de credenciales entregadas / Total de ciudadanas y ciudadanos que acuden al MAC a recoger su credencial) x 100 | F24: Semanal (remesa) | G24: 0.9 | H24: Total de credenciales entregadas | I24: =AVERAGE('150151'!AS25:AS26,'150152'!AS25:AS26,'150153'!AS25:AS26) -> 1 | K24: =AVERAGE('150251'!AS25:AS26,'150253'!AS25:AS26) -> 0.99937994 | M24: =AVERAGE('150351'!AS25:AS26,'150352'!AS25:AS26,'150353'!AS25:AS26) -> 0.99913335 | O24: =AVERAGE('150451'!AS25:AS26) -> 0.99956099 | Q24: =AVERAGE('150551'!AS25:AS26) -> 0.99919818 | S24: =AVERAGE('150651'!AS25:AS26,'150652'!AS25:AS26) -> 0.99996331 | U24: =AVERAGE('150751'!AS25:AS26) -> 0.99949809 | W24: =AVERAGE('150851'!AS25:AS26) -> 1 | Y24: =AVERAGE('150951'!AS25:AS26,'150952'!AS25:AS26,'150953'!AS25:AS26,'150954'!AS25:AS26) -> 0.99936594 | AA24: =AVERAGE('151051'!AS25:AS26) -> 1 | AC24: =AVERAGE('151151'!AS25:AS26) -> 0.99965664 | AE24: =AVERAGE('151251'!AS25:AS26,'151252'!AS25:AS26) -> 0.99993586 | AG24: =AVERAGE('151351'!AS25:AS26) -> 0.99900064 | AI24: =AVERAGE('151452'!AS25:AS26,'151453'!AS25:AS26) -> 1 | AK24: =AVERAGE('151551'!AS25:AS26) -> 1 | AM24: =AVERAGE('151651'!AS25:AS26,'151652'!AS25:AS26) -> 1 | AO24: =AVERAGE('151751'!AS25:AS26) -> 1 | AQ24: =AVERAGE('151851'!AS25:AS26,'151852'!AS25:AS26,'151853'!AS25:AS26) -> 0.9999676 | AS24: =AVERAGE('151951'!AS25:AS26,'151952'!AS25:AS26) -> 1 | AU24: =AVERAGE('152052'!AS25:AS26,'152053'!AS25:AS26,'152054'!AS25:AS26) -> 1 | AW24: =AVERAGE('152151'!AS25:AS26,'152152'!AS25:AS26) -> 0.99986723 | AY24: =AVERAGE('152251'!AS25:AS26,'152252'!AS25:AS26) -> 0.99723758 | BA24: =AVERAGE('152351'!AS25:AS26,'152352'!AS25:AS26,'152353'!AS25:AS26) -> 0.99005618 | BC24: =AVERAGE('152451'!AS25:AS26) -> 1 | BE24: =AVERAGE('152551'!AS25:AS26) -> 0.99987591 | BG24: =AVERAGE('152651'!AS25:AS26) -> 1 | BI24: =AVERAGE('152751'!AS25:AS26,'152752'!AS25:AS26,'152753'!AS25:AS26) -> 1.0381876 | BK24: =AVERAGE('152851'!AS25:AS26,'152853'!AS25:AS26) -> 0.99975223 | BM24: =AVERAGE('152951'!AS25:AS26) -> 0.99990184 | BO24: =AVERAGE('153051'!AS25:AS26,'153052'!AS25:AS26) -> 0.99949691 | BQ24: =AVERAGE('153151'!AS25:AS26) -> 1 | BS24: =AVERAGE('153251'!AS25:AS26) -> 1 | BU24: =AVERAGE('153351'!AS25:AS26) -> 1 | BW24: =AVERAGE('153451'!AS25:AS26) -> 0.99947893 | BY24: =AVERAGE('153551'!AS25:AS26,'153552'!AS25:AS26,'153553'!AS25:AS26) -> 1 | CA24: =AVERAGE('153651'!AS25:AS26,'153652'!AS25:AS26,'153653'!AS25:AS26,'153654'!AS25:AS26) -> 1 | CC24: =AVERAGE('153753'!AS25:AS26,'153752'!AS25:AS26) -> 0.9994393 | CE24: =AVERAGE('153851'!AS25:AS26,'153852'!AS25:AS26) -> 1 | CG24: =AVERAGE('153951'!AS25:AS26) -> 1 | CI24: =AVERAGE('154051'!AS25:AS26,'154052'!AS25:AS26,'154053'!AS25:AS26) -> 0.99959418 | CK24: =AVERAGE(I24,K24,M24,O24,Q24,S24,U24,W24,Y24,AA24,AC24,AE24,AG24,AI24,AK24,AM24,AO24,AQ24,AS24,AU24,AW24,AY24,BA24,BC24,BE24,BG24,BI24,BK24,BM24,BO24,BQ24,BS24,BU24,BW24,BY24,CA24,CC24,CE24,CG24,CI24) -> 1.0004387
H25: Total de ciudadanos que acuden a MAC a recoger su credencial

Sheet 150151
A1: ='PANEL DE CONTROL DISTRITAL'!A1:Q1 -> INSTITUTO NACIONAL ELECTORAL SISTEMA DE GESTIÓN DE LA CALIDAD ESTADO DE MÉXICO
D2: Distrito | E2: 1 | F2: Módulo | H2: 150151
A4: TABLERO DE CONTROL DE PROCESOS SUSTANTIVOS DEL SISTEMA DE GESTIÓN DE LA CALIDAD
A6: ='PANEL DE CONTROL DISTRITAL'!A6 -> Número | B6: ='PANEL DE CONTROL DISTRITAL'!B6 -> PROCESOS SUSTANTIVOS E INDICADORES | I6: SEMANA OPERATIVA | AS6: % AVANCE REGISTRADO
B7: ='PANEL DE CONTROL DISTRITAL'!B7 -> DESCRIPCIÓN | E7: ='PANEL DE CONTROL DISTRITAL'!E7 -> MEDICIÓN | I7: ='PANEL DE CONTROL DISTRITAL'!A5 -> CAMPAÑA ANUAL PERMANENTE 2024
B9: ='PANEL DE CONTROL DISTRITAL'!B8 -> Proceso | C9: ='PANEL DE CONTROL DISTRITAL'!C8 -> Dueño de Proceso | D9: ='PANEL DE CONTROL DISTRITAL'!D8 -> Indicador | E9: ='PANEL DE CONTROL DISTRITAL'!E8 -> Cálculo | F9: ='PANEL DE CONTROL DISTRITAL'!F8 -> Periodo | G9: ='PANEL DE CONTROL DISTRITAL'!G8 -> Estimado | H9: ='PANEL DE CONTROL DISTRITAL'!H8 -> Nominativo | I9: 2024-05 | J9: 2024-06 | K9: 2024-07 | L9: 2024-08 | M9: 2024-09 | N9: 2024-10 | O9: 2024-11 | P9: 2024-12 | Q9: 2024-13 | R9: 2024-14 | S9: 2024-15 | T9: 2024-16 | U9: 2024-17 | V9: 2024-18 | W9: 2024-19 | X9: 2024-20 | Y9: 2024-21 | Z9: 2024-22 | AA9: 2024-23 | AB9: 2024-24 | AC9: 2024-25 | AD9: 2024-26 | AE9: 2024-27 | AF9: 2024-28 | AG9: 2024-29 | AH9: 2024-30 | AI9: 2024-31 | AJ9: 2024-32 | AK9: 2024-33 | AL9: 2024-34 | AM9: 2024-35 | AN9: 2024-36 | AO9: 2024-37 | AP9: 2024-38 | AQ9: 2024-39 | AR9: 2024-40
A10: ='PANEL DE CONTROL DISTRITAL'!A9 -> 1 | B10: ='PANEL DE CONTROL DISTRITAL'!B9 -> Entrevista | C10: ='PANEL DE CONTROL DISTRITAL'!C9 -> Auxiliar de Atención Ciudadana | D10: ='PANEL DE CONTROL DISTRITAL'!D9 -> Fichas requisitadas correctamente. | E10: ='PANEL DE CONTROL DISTRITAL'!E9 -> (Fichas requisitadas correctamente / Fichas revisadas en la muestra del 10%) x 100 | F10: ='PANEL DE CONTROL DISTRITAL'!F9 -> Semanal (remesa) | G10: ='PANEL DE CONTROL DISTRITAL'!G9 -> 0.9 | H10: ='PANEL DE CONTROL DISTRITAL'!H9 -> Fichas requistadas correctamente | I10: 0 | J10: 0 | K10: 0 | L10: 0 | M10: 0 | N10: 0 | O10: 0 | P10: 0 | Q10: 0 | R10: 0 | S10: 0 | T10: 0 | U10: 0 | V10: 11 | W10: 13 | X10: 15 | Y10: 13 | Z10: 16 | AA10: 21 | AB10: 9 | AC10: 0 | AD10: 0 | AE10: 0 | AF10: 27 | AG10: 37 | AH10: 58 | AI10: 60 | AJ10: 57 | AK10: 54 | AL10: 54 | AM10: 53 | AN10: 54 | AO10: 55 | AP10: 53 | AQ10: 51 | AR10: 48 | AS10: =IFERROR(SUM(I10:AR10)/SUM(I11:AR11),0) -> 1
H11: ='PANEL DE CONTROL DISTRITAL'!H10 -> Fichas revisadas en la Muestra del 10% | I11: 0 | J11: 0 | K11: 0 | L11: 0 | M11: 0 | N11: 0 | O11: 0 | P11: 0 | Q11: 0 | R11: 0 | S11: 0 | T11: 0 | U11: 0 | V11: 11 | W11: 13 | X11: 15 | Y11: 13 | Z11: 16 | AA11: 21 | AB11: 9 | AC11: 0 | AD11: 0 | AE11: 0 | AF11: 27 | AG11: 37 | AH11: 58 | AI11: 60 | AJ11: 57 | AK11: 54 | AL11: 54 | AM11: 53 | AN11: 54 | AO11: 55 | AP11: 53 | AQ11: 51 | AR11: 48
A13: ='PANEL DE CONTROL DISTRITAL'!A12 -> 2 | B13: ='PANEL DE CONTROL DISTRITAL'!B12 -> Trámite | C13: ='PANEL DE CONTROL DISTRITAL'!C12 -> Operador de Equipo Tecnológico | D13: ='PANEL DE CONTROL DISTRITAL'!D12 -> Trámites exitosos. | E13: ='PANEL DE CONTROL DISTRITAL'!E12 -> (Número de trámites exitosos / Número de trámites aplicados) x 100 | F13: ='PANEL DE CONTROL DISTRITAL'!F12 -> Semanal (remesa) | G13: ='PANEL DE CONTROL DISTRITAL'!G12 -> 0.9 | H13: ='PANEL DE CONTROL DISTRITAL'!H12 -> Número de trámites exitosos | I13: 0 | J13: 0 | K13: 0 | L13: 0 | M13: 0 | N13: 0 | O13: 0 | P13: 0 | Q13: 0 | R13: 0 | S13: 0 | T13: 0 | U13: 0 | V13: 101 | W13: 121 | X13: 144 | Y13: 121 | Z13: 160 | AA13: 210 | AB13: 82 | AC13: 0 | AD13: 0 | AE13: 0 | AF13: 270 | AG13: 364 | AH13: 574 | AI13: 600 | AJ13: 566 | AK13: 532 | AL13: 535 | AM13: 520 | AN13: 536 | AO13: 548 | AP13: 523 | AQ13: 503 | AR13: 472 | AS13: =IFERROR(SUM(I13:AR13)/SUM(I14:AR14),0) -> 0.9990653
H14: ='PANEL DE CONTROL DISTRITAL'!H13 -> Número de trámites aplicados | I14: 0 | J14: 0 | K14: 0 | L14: 0 | M14: 0 | N14: 0 | O14: 0 | P14: 0 | Q14: 0 | R14: 0 | S14: 0 | T14: 0 | U14: 0 | V14: 101 | W14: 121 | X14: 144 | Y14: 121 | Z14: 160 | AA14: 210 | AB14: 82 | AC14: 0 | AD14: 0 | AE14: 0 | AF14: 270 | AG14: 364 | AH14: 575 | AI14: 600 | AJ14: 566 | AK14: 533 | AL14: 536 | AM14: 521 | AN14: 537 | AO14: 548 | AP14: 523 | AQ14: 504 | AR14: 473
A16: ='PANEL DE CONTROL DISTRITAL'!A15 -> 3 | B16: ='PANEL DE CONTROL DISTRITAL'!B15 -> Transferencia de la Información. | C16: ='PANEL DE CONTROL DISTRITAL'!C15 -> Responsable de Módulo | D16: ='PANEL DE CONTROL DISTRITAL'!D15 -> Reenvíos exitosos. | E16: ='PANEL DE CONTROL DISTRITAL'!E15 -> (Ejecución de los scripts de reenvío de notificaciones / Solicitud de reenvíos de scripts requeridos) x100 | F16: ='PANEL DE CONTROL DISTRITAL'!F15 -> Semanal (remesa) | G16: ='PANEL DE CONTROL DISTRITAL'!G15 -> 1 | H16: ='PANEL DE CONTROL DISTRITAL'!H15 -> Ejecución de los scripts de reenvío de notificaciones | I16: 0 | J16: 0 | K16: 0 | L16: 0 | M16: 0 | N16: 0 | O16: 0 | P16: 0 | Q16: 0 | R16: 0 | S16: 0 | T16: 0 | U16: 0 | V16: 0 | W16: 0 | X16: 0 | Y16: 0 | Z16: 0 | AA16: 0 | AB16: 0 | AC16: 0 | AD16: 0 | AE16: 0 | AF16: 0 | AG16: 0 | AH16: 0 | AI16: 0 | AJ16: 0 | AK16: 0 | AL16: 0 | AM16: 0 | AN16: 1 | AO16: 0 | AP16: 0 | AQ16: 0 | AR16: 0 | AS16: =IFERROR(SUM(I16:AR16)/SUM(I17:AR17),1) -> 1
H17: ='PANEL DE CONTROL DISTRITAL'!H16 -> Solicitud de reevíos de scripts requeridos | I17: 0 | J17: 0 | K17: 0 | L17: 0 | M17: 0 | N17: 0 | O17: 0 | P17: 0 | Q17: 0 | R17: 0 | S17: 0 | T17: 0 | U17: 0 | V17: 0 | W17: 0 | X17: 0 | Y17: 0 | Z17: 0 | AA17: 0 | AB17: 0 | AC17: 0 | AD17: 0 | AE17: 0 | AF17: 0 | AG17: 0 | AH17: 0 | AI17: 0 | AJ17: 0 | AK17: 0 | AL17: 0 | AM17: 0 | AN17: 1 | AO17: 0 | AP17: 0 | AQ17: 0 | AR17: 0
A19: ='PANEL DE CONTROL DISTRITAL'!A18 -> 4 | B19: ='PANEL DE CONTROL DISTRITAL'!B18 -> Conciliación de Credenciales para Votar. | C19: ='PANEL DE CONTROL DISTRITAL'!C18 -> Responsable de Módulo | D19: ='PANEL DE CONTROL DISTRITAL'!D18 -> Credenciales disponibles para entrega. | E19: ='PANEL DE CONTROL DISTRITAL'!E18 -> [(Credenciales recibidas - Credenciales inconsistentes) / Credenciales recibidas] x 100 | F19: ='PANEL DE CONTROL DISTRITAL'!F18 -> Semanal (remesa) | G19: ='PANEL DE CONTROL DISTRITAL'!G18 -> 0.9 | H19: ='PANEL DE CONTROL DISTRITAL'!H18 -> Credenciales Recibidas - Credenciales inconsistentes | I19: 0 | J19: 0 | K19: 0 | L19: 0 | M19: 0 | N19: 0 | O19: 0 | P19: 0 | Q19: 0 | R19: 0 | S19: 0 | T19: 0 | U19: 0 | V19: 95 | W19: 135 | X19: 128 | Y19: 125 | Z19: 138 | AA19: 176 | AB19: 49 | AC19: 147 | AD19: 0 | AE19: 0 | AF19: 112 | AG19: 319 | AH19: 419 | AI19: 569 | AJ19: 566 | AK19: 594 | AL19: 516 | AM19: 549 | AN19: 424 | AO19: 562 | AP19: 506 | AQ19: 556 | AR19: 0 | AS19: =IFERROR(SUM(I19:AR19)/SUM(I20:AR20),0) -> 1
H20: ='PANEL DE CONTROL DISTRITAL'!H19 -> Credenciales recibidas | I20: 0 | J20: 0 | K20: 0 | L20: 0 | M20: 0 | N20: 0 | O20: 0 | P20: 0 | Q20: 0 | R20: 0 | S20: 0 | T20: 0 | U20: 0 | V20: 95 | W20: 135 | X20: 128 | Y20: 125 | Z20: 138 | AA20: 176 | AB20: 49 | AC20: 147 | AD20: 0 | AE20: 0 | AF20: 112 | AG20: 319 | AH20: 419 | AI20: 569 | AJ20: 566 | AK20: 594 | AL20: 516 | AM20: 549 | AN20: 424 | AO20: 562 | AP20: 506 | AQ20: 556 | AR20: 0
A22: ='PANEL DE CONTROL DISTRITAL'!A21 -> 5 | B22: ='PANEL DE CONTROL DISTRITAL'!B21 -> Conciliación de Credenciales para Votar. | C22: ='PANEL DE CONTROL DISTRITAL'!C21 -> Responsable de Módulo | D22: ='PANEL DE CONTROL DISTRITAL'!D21 -> Arqueo de credenciales. | E22: ='PANEL DE CONTROL DISTRITAL'!E21 -> (Credenciales disponibles (físicas) / Credenciales disponibles registradas en SIIRFE-MAC) x 100 | F22: ='PANEL DE CONTROL DISTRITAL'!F21 -> Semanal (remesa) | G22: ='PANEL DE CONTROL DISTRITAL'!G21 -> 1 | H22: ='PANEL DE CONTROL DISTRITAL'!H21 -> Credenciales disponibles (físicas) | I22: 0 | J22: 0 | K22: 0 | L22: 0 | M22: 0 | N22: 0 | O22: 0 | P22: 0 | Q22: 0 | R22: 0 | S22: 0 | T22: 0 | U22: 0 | V22: 73 | W22: 88 | X22: 110 | Y22: 120 | Z22: 98 | AA22: 93 | AB22: 105 | AC22: 55 | AD22: 0 | AE22: 0 | AF22: 205 | AG22: 457 | AH22: 495 | AI22: 606 | AJ22: 673 | AK22: 716 | AL22: 644 | AM22: 702 | AN22: 606 | AO22: 592 | AP22: 576 | AQ22: 596 | AR22: 0 | AS22: =IFERROR(SUM(I22:AR22)/SUM(I23:AR23),0) -> 1
H23: ='PANEL DE CONTROL DISTRITAL'!H22 -> Credenciales disponibles registradas en SIIRFE | I23: 0 | J23: 0 | K23: 0 | L23: 0 | M23: 0 | N23: 0 | O23: 0 | P23: 0 | Q23: 0 | R23: 0 | S23: 0 | T23: 0 | U23: 0 | V23: 73 | W23: 88 | X23: 110 | Y23: 120 | Z23: 98 | AA23: 93 | AB23: 105 | AC23: 55 | AD23: 0 | AE23: 0 | AF23: 205 | AG23: 457 | AH23: 495 | AI23: 606 | AJ23: 673 | AK23: 716 | AL23: 644 | AM23: 702 | AN23: 606 | AO23: 592 | AP23: 576 | AQ23: 596 | AR23: 0
A25: ='PANEL DE CONTROL DISTRITAL'!A24 -> 6 | B25: ='PANEL DE CONTROL DISTRITAL'!B24 -> Entrega de la Credencial para Votar. | C25: ='PANEL DE CONTROL DISTRITAL'!C24 -> Operador de Equipo Tecnológico | D25: ='PANEL DE CONTROL DISTRITAL'!D24 -> Efectividad de entrega de CPV en MAC. | E25: ='PANEL DE CONTROL DISTRITAL'!E24 -> (Total de credenciales entregadas / Total de ciudadanas y ciudadanos que acuden al MAC a recoger su credencial) x 100 | F25: ='PANEL DE CONTROL DISTRITAL'!F24 -> Semanal (remesa) | G25: ='PANEL DE CONTROL DISTRITAL'!G24 -> 0.9 | H25: ='PANEL DE CONTROL DISTRITAL'!H24 -> Total de credenciales entregadas | I25: 0 | J25: 0 | K25: 0 | L25: 0 | M25: 0 | N25: 0 | O25: 0 | P25: 0 | Q25: 0 | R25: 0 | S25: 0 | T25: 0 | U25: 0 | V25: 100 | W25: 120 | X25: 106 | Y25: 115 | Z25: 160 | AA25: 181 | AB25: 37 | AC25: 197 | AD25: 26 | AE25: 0 | AF25: 5 | AG25: 67 | AH25: 381 | AI25: 458 | AJ25: 499 | AK25: 547 | AL25: 588 | AM25: 491 | AN25: 520 | AO25: 543 | AP25: 522 | AQ25: 536 | AR25: 0 | AS25: =IFERROR(SUM(I25:AR25)/SUM(I26:AR26),0) -> 1
H26: ='PANEL DE CONTROL DISTRITAL'!H25 -> Total de ciudadanos que acuden a MAC a recoger su credencial | I26: 0 | J26: 0 | K26: 0 | L26: 0 | M26: 0 | N26: 0 | O26: 0 | P26: 0 | Q26: 0 | R26: 0 | S26: 0 | T26: 0 | U26: 0 | V26: 100 | W26: 120 | X26: 106 | Y26: 115 | Z26: 160 | AA26: 181 | AB26: 37 | AC26: 197 | AD26: 26 | AE26: 0 | AF26: 5 | AG26: 67 | AH26: 381 | AI26: 458 | AJ26: 499 | AK26: 547 | AL26: 588 | AM26: 491 | AN26: 520 | AO26: 543 | AP26: 522 | AQ26: 536 | AR26: 0
B27: *Registre el valor nominal solicitado en la celda, el resultado proporcional esta automatizado.
I29: Semaforización
J30: Valor que requiere atención y justificación en el apartado de observaciones
J31: Valor suficiente
J32: Valor esperado
B34: CUADRO DE OBSERVACIONES
B35: Descripción | H35: No conformidad

Sheet 150152
A1: ='PANEL DE CONTROL DISTRITAL'!A1:Q1 -> INSTITUTO NACIONAL ELECTORAL SISTEMA DE GESTIÓN DE LA CALIDAD ESTADO DE MÉXICO
D2: Distrito | E2: 1 | F2: Módulo | H2: 150152
A4: TABLERO DE CONTROL DE PROCESOS SUSTANTIVOS DEL SISTEMA DE GESTIÓN DE LA CALIDAD
A6: ='PANEL DE CONTROL DISTRITAL'!A6 -> Número | B6: ='PANEL DE CONTROL DISTRITAL'!B6 -> PROCESOS SUSTANTIVOS E INDICADORES | I6: SEMANA OPERATIVA | AS6: % AVANCE REGISTRADO
B7: ='PANEL DE CONTROL DISTRITAL'!B7 -> DESCRIPCIÓN | E7: ='PANEL DE CONTROL DISTRITAL'!E7 -> MEDICIÓN | I7: ='PANEL DE CONTROL DISTRITAL'!A5 -> CAMPAÑA ANUAL PERMANENTE 2024
B9: ='PANEL DE CONTROL DISTRITAL'!B8 -> Proceso | C9: ='PANEL DE CONTROL DISTRITAL'!C8 -> Dueño de Proceso | D9: ='PANEL DE CONTROL DISTRITAL'!D8 -> Indicador | E9: ='PANEL DE CONTROL DISTRITAL'!E8 -> Cálculo | F9: ='PANEL DE CONTROL DISTRITAL'!F8 -> Periodo | G9: ='PANEL DE CONTROL DISTRITAL'!G8 -> Estimado | H9: ='PANEL DE CONTROL DISTRITAL'!H8 -> Nominativo | I9: ='150151'!I9 -> 2024-05 | J9: ='150151'!J9 -> 2024-06 | K9: ='150151'!K9 -> 2024-07 | L9: ='150151'!L9 -> 2024-08 | M9: ='150151'!M9 -> 2024-09 | N9: ='150151'!N9 -> 2024-10 | O9: ='150151'!O9 -> 2024-11 | P9: ='150151'!P9 -> 2024-12 | ... AR9: ='150151'!AR9 -> 2024-40
A10: ='PANEL DE CONTROL DISTRITAL'!A9 -> 1 | B10: ='PANEL DE CONTROL DISTRITAL'!B9 -> Entrevista | C10: ='PANEL DE CONTROL DISTRITAL'!C9 -> Auxiliar de Atención Ciudadana | D10: ='PANEL DE CONTROL DISTRITAL'!D9 -> Fichas requisitadas correctamente. | E10: ='PANEL DE CONTROL DISTRITAL'!E9 -> (Fichas requisitadas correctamente / Fichas revisadas en la muestra del 10%) x 100 | F10: ='PANEL DE CONTROL DISTRITAL'!F9 -> Semanal (remesa) | G10: ='PANEL DE CONTROL DISTRITAL'!G9 -> 0.9 | H10: ='PANEL DE CONTROL DISTRITAL'!H9 -> Fichas requistadas correctamente | I10: 0 | J10: 0 | K10: 0 | L10: 0 | M10: 0 | N10: 0 | O10: 0 | P10: 0 | Q10: 0 | R10: 0 | S10: 0 | T10: 0 | U10: 0 | V10: 0 | W10: 0 | X10: 0 | Y10: 0 | Z10: 0 | AA10: 0 | AB10: 0 | AC10: 0 | AD10: 0 | AE10: 0 | AF10: 4 | AG10: 23 | AH10: 28 | AI10: 17 | AJ10: 25 | AK10: 23 | AL10: 17 | AM10: 25 | AN10: 28 | AO10: 16 | AP10: 23 | AQ10: 20 | AR10: 14 | AS10: =IFERROR(SUM(I10:AR10)/SUM(I11:AR11),0) -> 1
H11: ='PANEL DE CONTROL DISTRITAL'!H10 -> Fichas revisadas en la Muestra del 10% | I11: 0 | J11: 0 | K11: 0 | L11: 0 | M11: 0 | N11: 0 | O11: 0 | P11: 0 | Q11: 0 | R11: 0 | S11: 0 | T11: 0 | U11: 0 | V11: 0 | W11: 0 | X11: 0 | Y11: 0 | Z11: 0 | AA11: 0 | AB11: 0 | AC11: 0 | AD11: 0 | AE11: 0 | AF11: 4 | AG11: 23 | AH11: 28 | AI11: 17 | AJ11: 25 | AK11: 23 | AL11: 17 | AM11: 25 | AN11: 28 | AO11: 16 | AP11: 23 | AQ11: 20 | AR11: 14
A13: ='PANEL DE CONTROL DISTRITAL'!A12 -> 2 | B13: ='PANEL DE CONTROL DISTRITAL'!B12 -> Trámite | C13: ='PANEL DE CONTROL DISTRITAL'!C12 -> Operador de Equipo Tecnológico | D13: ='PANEL DE CONTROL DISTRITAL'!D12 -> Trámites exitosos. | E13: ='PANEL DE CONTROL DISTRITAL'!E12 -> (Número de trámites exitosos / Número de trámites aplicados) x 100 | F13: ='PANEL DE CONTROL DISTRITAL'!F12 -> Semanal (remesa) | G13: ='PANEL DE CONTROL DISTRITAL'!G12 -> 0.9 | H13: ='PANEL DE CONTROL DISTRITAL'!H12 -> Número de trámites exitosos | I13: 0 | J13: 0 | K13: 0 | L13: 0 | M13: 0 | N13: 0 | O13: 0 | P13: 0 | Q13: 0 | R13: 0 | S13: 0 | T13: 0 | U13: 0 | V13: 0 | W13: 0 | X13: 0 | Y13: 0 | Z13: 0 | AA13: 0 | AB13: 0 | AC13: 0 | AD13: 0 | AE13: 0 | AF13: 33 | AG13: 227 | AH13: 279 | AI13: 165 | AJ13: 244 | AK13: 223 | AL13: 162 | AM13: 245 | AN13: 277 | AO13: 154 | AP13: 229 | AQ13: 195 | AR13: 134 | AS13: =IFERROR(SUM(I13:AR13)/SUM(I14:AR14),0) -> 0.99766809
H14: ='PANEL DE CONTROL DISTRITAL'!H13 -> Número de trámites aplicados | I14: 0 | J14: 0 | K14: 0 | L14: 0 | M14: 0 | N14: 0 | O14: 0 | P14: 0 | Q14: 0 | R14: 0 | S14: 0 | T14: 0 | U14: 0 | V14: 0 | W14: 0 | X14: 0 | Y14: 0 | Z14: 0 | AA14: 0 | AB14: 0 | AC14: 0 | AD14: 0 | AE14: 0 | AF14: 33 | AG14: 227 | AH14: 279 | AI14: 165 | AJ14: 244 | AK14: 223 | AL14: 162 | AM14: 246 | AN14: 278 | AO14: 155 | AP14: 230 | AQ14: 197 | AR14: 134
A16: ='PANEL DE CONTROL DISTRITAL'!A15 -> 3 | B16: ='PANEL DE CONTROL DISTRITAL'!B15 -> Transferencia de la Información. | C16: ='PANEL DE CONTROL DISTRITAL'!C15 -> Responsable de Módulo | D16: ='PANEL DE CONTROL DISTRITAL'!D15 -> Reenvíos exitosos. | E16: ='PANEL DE CONTROL DISTRITAL'!E15 -> (Ejecución de los scripts de reenvío de notificaciones / Solicitud de reenvíos de scripts requeridos) x100 | F16: ='PANEL DE CONTROL DISTRITAL'!F15 -> Semanal (remesa) | G16: ='PANEL DE CONTROL DISTRITAL'!G15 -> 1 | H16: ='PANEL DE CONTROL DISTRITAL'!H15 -> Ejecución de los scripts de reenvío de notificaciones | I16: 0 | J16: 0 | K16: 0 | L16: 0 | M16: 0 | N16: 0 | O16: 0 | P16: 0 | Q16: 0 | R16: 0 | S16: 0 | T16: 0 | U16: 0 | V16: 0 | W16: 0 | X16: 0 | Y16: 0 | Z16: 0 | AA16: 0 | AB16: 0 | AC16: 0 | AD16: 0 | AE16: 0 | AF16: 0 | AG16: 0 | AH16: 0 | AI16: 0 | AJ16: 0 | AK16: 0 | AL16: 0 | AM16: 0 | AN16: 0 | AO16: 0 | AP16: 0 | AQ16: 0 | AR16: 0 | AS16: =IFERROR(SUM(I16:AR16)/SUM(I17:AR17),1) -> 1
H17: ='PANEL DE CONTROL DISTRITAL'!H16 -> Solicitud de reevíos de scripts requeridos | I17: 0 | J17: 0 | K17: 0 | L17: 0 | M17: 0 | N17: 0 | O17: 0 | P17: 0 | Q17: 0 | R17: 0 | S17: 0 | T17: 0 | U17: 0 | V17: 0 | W17: 0 | X17: 0 | Y17: 0 | Z17: 0 | AA17: 0 | AB17: 0 | AC17: 0 | AD17: 0 | AE17: 0 | AF17: 0 | AG17: 0 | AH17: 0 | AI17: 0 | AJ17: 0 | AK17: 0 | AL17: 0 | AM17: 0 | AN17: 0 | AO17: 0 | AP17: 0 | AQ17: 0 | AR17: 0
A19: ='PANEL DE CONTROL DISTRITAL'!A18 -> 4 | B19: ='PANEL DE CONTROL DISTRITAL'!B18 -> Conciliación de Credenciales para Votar. | C19: ='PANEL DE CONTROL DISTRITAL'!C18 -> Responsable de Módulo | D19: ='PANEL DE CONTROL DISTRITAL'!D18 -> Credenciales disponibles para entrega. | E19: ='PANEL DE CONTROL DISTRITAL'!E18 -> [(Credenciales recibidas - Credenciales inconsistentes) / Credenciales recibidas] x 100 | F19: ='PANEL DE CONTROL DISTRITAL'!F18 -> Semanal (remesa) | G19: ='PANEL DE CONTROL DISTRITAL'!G18 -> 0.9 | H19: ='PANEL DE CONTROL DISTRITAL'!H18 -> Credenciales Recibidas - Credenciales inconsistentes | I19: 0 | J19: 0 | K19: 0 | L19: 0 | M19: 0 | N19: 0 | O19: 0 | P19: 0 | Q19: 0 | R19: 0 | S19: 0 | T19: 0 | U19: 0 | V19: 0 | W19: 0 | X19: 0 | Y19: 0 | Z19: 0 | AA19: 0 | AB19: 0 | AC19: 0 | AD19: 0 | AE19: 0 | AF19: 48 | AG19: 98 | AH19: 251 | AI19: 312 | AJ19: 131 | AK19: 226 | AL19: 248 | AM19: 146 | AN19: 200 | AO19: 288 | AP19: 117 | AQ19: 247 | AR19: 218 | AS19: =IFERROR(SUM(I19:AR19)/SUM(I20:AR20),0) -> 1
H20: ='PANEL DE CONTROL DISTRITAL'!H19 -> Credenciales recibidas | I20: 0 | J20: 0 | K20: 0 | L20: 0 | M20: 0 | N20: 0 | O20: 0 | P20: 0 | Q20: 0 | R20: 0 | S20: 0 | T20: 0 | U20: 0 | V20: 0 | W20: 0 | X20: 0 | Y20: 0 | Z20: 0 | AA20: 0 | AB20: 0 | AC20: 0 | AD20: 0 | AE20: 0 | AF20: 48 | AG20: 98 | AH20: 251 | AI20: 312 | AJ20: 131 | AK20: 226 | AL20: 248 | AM20: 146 | AN20: 200 | AO20: 288 | AP20: 117 | AQ20: 247 | AR20: 218
A22: ='PANEL DE CONTROL DISTRITAL'!A21 -> 5 | B22: ='PANEL DE CONTROL DISTRITAL'!B21 -> Conciliación de Credenciales para Votar. | C22: ='PANEL DE CONTROL DISTRITAL'!C21 -> Responsable de Módulo | D22: ='PANEL DE CONTROL DISTRITAL'!D21 -> Arqueo de credenciales. | E22: ='PANEL DE CONTROL DISTRITAL'!E21 -> (Credenciales disponibles (físicas) / Credenciales disponibles registradas en SIIRFE-MAC) x 100 | F22: ='PANEL DE CONTROL DISTRITAL'!F21 -> Semanal (remesa) | G22: ='PANEL DE CONTROL DISTRITAL'!G21 -> 1 | H22: ='PANEL DE CONTROL DISTRITAL'!H21 -> Credenciales disponibles (físicas) | I22: 0 | J22: 0 | K22: 0 | L22: 0 | M22: 0 | N22: 0 | O22: 0 | P22: 0 | Q22: 0 | R22: 0 | S22: 0 | T22: 0 | U22: 0 | V22: 0 | W22: 0 | X22: 0 | Y22: 0 | Z22: 0 | AA22: 0 | AB22: 0 | AC22: 0 | AD22: 0 | AE22: 0 | AF22: 48 | AG22: 145 | AH22: 377 | AI22: 669 | AJ22: 581 | AK22: 465 | AL22: 626 | AM22: 523 | AN22: 497 | AO22: 626 | AP22: 504 | AQ22: 420 | AR22: 538 | AS22: =IFERROR(SUM(I22:AR22)/SUM(I23:AR23),1) -> 1
H23: ='PANEL DE CONTROL DISTRITAL'!H22 -> Credenciales disponibles registradas en SIIRFE | I23: 0 | J23: 0 | K23: 0 | L23: 0 | M23: 0 | N23: 0 | O23: 0 | P23: 0 | Q23: 0 | R23: 0 | S23: 0 | T23: 0 | U23: 0 | V23: 0 | W23: 0 | X23: 0 | Y23: 0 | Z23: 0 | AA23: 0 | AB23: 0 | AC23: 0 | AD23: 0 | AE23: 0 | AF23: 48 | AG23: 145 | AH23: 377 | AI23: 669 | AJ23: 581 | AK23: 465 | AL23: 626 | AM23: 523 | AN23: 497 | AO23: 626 | AP23: 504 | AQ23: 420 | AR23: 538
A25: ='PANEL DE CONTROL DISTRITAL'!A24 -> 6 | B25: ='PANEL DE CONTROL DISTRITAL'!B24 -> Entrega de la Credencial para Votar. | C25: ='PANEL DE CONTROL DISTRITAL'!C24 -> Operador de Equipo Tecnológico | D25: ='PANEL DE CONTROL DISTRITAL'!D24 -> Efectividad de entrega de CPV en MAC. | E25: ='PANEL DE CONTROL DISTRITAL'!E24 -> (Total de credenciales entregadas / Total de ciudadanas y ciudadanos que acuden al MAC a recoger su credencial) x 100 | F25: ='PANEL DE CONTROL DISTRITAL'!F24 -> Semanal (remesa) | G25: ='PANEL DE CONTROL DISTRITAL'!G24 -> 0.9 | H25: ='PANEL DE CONTROL DISTRITAL'!H24 -> Total de credenciales entregadas | I25: 0 | J25: 0 | K25: 0 | L25: 0 | M25: 0 | N25: 0 | O25: 0 | P25: 0 | Q25: 0 | R25: 0 | S25: 0 | T25: 0 | U25: 0 | V25: 0 | W25: 0 | X25: 0 | Y25: 0 | Z25: 0 | AA25: 0 | AB25: 0 | AC25: 0 | AD25: 0 | AE25: 0 | AF25: 0 | AG25: 1 | AH25: 19 | AI25: 20 | AJ25: 219 | AK25: 340 | AL25: 87 | AM25: 249 | AN25: 216 | AO25: 158 | AP25: 239 | AQ25: 331 | AR25: 100 | AS25: =IFERROR(SUM(I25:AR25)/SUM(I26:AR26),0) -> 1
H26: ='PANEL DE CONTROL DISTRITAL'!H25 -> Total de ciudadanos que acuden a MAC a recoger su credencial | I26: 0 | J26: 0 | K26: 0 | L26: 0 | M26: 0 | N26: 0 | O26: 0 | P26: 0 | Q26: 0 | R26: 0 | S26: 0 | T26: 0 | U26: 0 | V26: 0 | W26: 0 | X26: 0 | Y26: 0 | Z26: 0 | AA26: 0 | AB26: 0 | AC26: 0 | AD26: 0 | AE26: 0 | AF26: 0 | AG26: 1 | AH26: 19 | AI26: 20 | AJ26: 219 | AK26: 340 | AL26: 87 | AM26: 249 | AN26: 216 | AO26: 158 | AP26: 239 | AQ26: 331 | AR26: 100
B27: *Registre el valor nominal solicitado en la celda, el resultado proporcional esta automatizado.
I29: Semaforización
J30: Valor que requiere atención y justificación en el apartado de observaciones
J31: Valor suficiente
J32: Valor esperado
B34: CUADRO DE OBSERVACIONES
B35: Descripción | H35: No conformidad

Sheet 150153
A1: ='PANEL DE CONTROL DISTRITAL'!A1:Q1 -> INSTITUTO NACIONAL ELECTORAL SISTEMA DE GESTIÓN DE LA CALIDAD ESTADO DE MÉXICO
D2: Distrito | E2: 1 | F2: Módulo | H2: 150153
A4: TABLERO DE CONTROL DE PROCESOS SUSTANTIVOS DEL SISTEMA DE GESTIÓN DE LA CALIDAD
A6: ='PANEL DE CONTROL DISTRITAL'!A6 -> Número | B6: ='PANEL DE CONTROL DISTRITAL'!B6 -> PROCESOS SUSTANTIVOS E INDICADORES | I6: SEMANA OPERATIVA | AS6: % AVANCE REGISTRADO
B7: ='PANEL DE CONTROL DISTRITAL'!B7 -> DESCRIPCIÓN | E7: ='PANEL DE CONTROL DISTRITAL'!E7 -> MEDICIÓN | I7: ='PANEL DE CONTROL DISTRITAL'!A5 -> CAMPAÑA ANUAL PERMANENTE 2024
B9: ='PANEL DE CONTROL DISTRITAL'!B8 -> Proceso | C9: ='PANEL DE CONTROL DISTRITAL'!C8 -> Dueño de Proceso | D9: ='PANEL DE CONTROL DISTRITAL'!D8 -> Indicador | E9: ='PANEL DE CONTROL DISTRITAL'!E8 -> Cálculo | F9: ='PANEL DE CONTROL DISTRITAL'!F8 -> Periodo | G9: ='PANEL DE CONTROL DISTRITAL'!G8 -> Estimado | H9: ='PANEL DE CONTROL DISTRITAL'!H8 -> Nominativo | I9: ='150151'!I9 -> 2024-05 | J9: ='150151'!J9 -> 2024-06 | K9: ='150151'!K9 -> 2024-07 | L9: ='150151'!L9 -> 2024-08 | M9: ='150151'!M9 -> 2024-09 | N9: ='150151'!N9 -> 2024-10 | O9: ='150151'!O9 -> 2024-11 | P9: ='150151'!P9 -> 2024-12 | ... AR9: ='150151'!AR9 -> 2024-40
A10: ='PANEL DE CONTROL DISTRITAL'!A9 -> 1 | B10: ='PANEL DE CONTROL DISTRITAL'!B9 -> Entrevista | C10: ='PANEL DE CONTROL DISTRITAL'!C9 -> Auxiliar de Atención Ciudadana | D10: ='PANEL DE CONTROL DISTRITAL'!D9 -> Fichas requisitadas correctamente. | E10: ='PANEL DE CONTROL DISTRITAL'!E9 -> (Fichas requisitadas correctamente / Fichas revisadas en la muestra del 10%) x 100 | F10: ='PANEL DE CONTROL DISTRITAL'!F9 -> Semanal (remesa) | G10: ='PANEL DE CONTROL DISTRITAL'!G9 -> 0.9 | H10: ='PANEL DE CONTROL DISTRITAL'!H9 -> Fichas requistadas correctamente | I10: 0 | J10: 0 | K10: 0 | L10: 0 | M10: 0 | N10: 0 | O10: 0 | P10: 0 | Q10: 0 | R10: 0 | S10: 0 | T10: 0 | U10: 0 | V10: 0 | W10: 0 | X10: 0 | Y10: 0 | Z10: 0 | AA10: 0 | AB10: 0 | AC10: 0 | AD10: 0 | AE10: 0 | AF10: 11 | AG10: 18 | AH10: 25 | AI10: 31 | AJ10: 19 | AK10: 29 | AL10: 23 | AM10: 32 | AN10: 16 | AO10: 32 | AP10: 16 | AQ10: 31 | AR10: 18 | AS10: =IFERROR(SUM(I10:AR10)/SUM(I11:AR11),0) -> 1
H11: ='PANEL DE CONTROL DISTRITAL'!H10 -> Fichas revisadas en la Muestra del 10% | I11: 0 | J11: 0 | K11: 0 | L11: 0 | M11: 0 | N11: 0 | O11: 0 | P11: 0 | Q11: 0 | R11: 0 | S11: 0 | T11: 0 | U11: 0 | V11: 0 | W11: 0 | X11: 0 | Y11: 0 | Z11: 0 | AA11: 0 | AB11: 0 | AC11: 0 | AD11: 0 | AE11: 0 | AF11: 11 | AG11: 18 | AH11: 25 | AI11: 31 | AJ11: 19 | AK11: 29 | AL11: 23 | AM11: 32 | AN11: 16 | AO11: 32 | AP11: 16 | AQ11: 31 | AR11: 18
A13: ='PANEL DE CONTROL DISTRITAL'!A12 -> 2 | B13: ='PANEL DE CONTROL DISTRITAL'!B12 -> Trámite | C13: ='PANEL DE CONTROL DISTRITAL'!C12 -> Operador de Equipo Tecnológico | D13: ='PANEL DE CONTROL DISTRITAL'!D12 -> Trámites exitosos. | E13: ='PANEL DE CONTROL DISTRITAL'!E12 -> (Número de trámites exitosos / Número de trámites aplicados) x 100 | F13: ='PANEL DE CONTROL DISTRITAL'!F12 -> Semanal (remesa) | G13: ='PANEL DE CONTROL DISTRITAL'!G12 -> 0.9 | H13: ='PANEL DE CONTROL DISTRITAL'!H12 -> Número de trámites exitosos | I13: 0 | J13: 0 | K13: 0 | L13: 0 | M13: 0 | N13: 0 | O13: 0 | P13: 0 | Q13: 0 | R13: 0 | S13: 0 | T13: 0 | U13: 0 | V13: 0 | W13: 0 | X13: 0 | Y13: 0 | Z13: 0 | AA13: 0 | AB13: 0 | AC13: 0 | AD13: 0 | AE13: 0 | AF13: 107 | AG13: 171 | AH13: 245 | AI13: 303 | AJ13: 190 | AK13: 287 | AL13: 222 | AM13: 312 | AN13: 151 | AO13: 318 | AP13: 159 | AQ13: 307 | AR13: 179 | AS13: =IFERROR(SUM(I13:AR13)/SUM(I14:AR14),0) -> 0.99830853
H14: ='PANEL DE CONTROL DISTRITAL'!H13 -> Número de trámites aplicados | I14: 0 | J14: 0 | K14: 0 | L14: 0 | M14: 0 | N14: 0 | O14: 0 | P14: 0 | Q14: 0 | R14: 0 | S14: 0 | T14: 0 | U14: 0 | V14: 0 | W14: 0 | X14: 0 | Y14: 0 | Z14: 0 | AA14: 0 | AB14: 0 | AC14: 0 | AD14: 0 | AE14: 0 | AF14: 107 | AG14: 171 | AH14: 245 | AI14: 304 | AJ14: 191 | AK14: 287 | AL14: 223 | AM14: 312 | AN14: 152 | AO14: 318 | AP14: 160 | AQ14: 307 | AR14: 179
A16: ='PANEL DE CONTROL DISTRITAL'!A15 -> 3 | B16: ='PANEL DE CONTROL DISTRITAL'!B15 -> Transferencia de la Información. | C16: ='PANEL DE CONTROL DISTRITAL'!C15 -> Responsable de Módulo | D16: ='PANEL DE CONTROL DISTRITAL'!D15 -> Reenvíos exitosos. | E16: ='PANEL DE CONTROL DISTRITAL'!E15 -> (Ejecución de los scripts de reenvío de notificaciones / Solicitud de reenvíos de scripts requeridos) x100 | F16: ='PANEL DE CONTROL DISTRITAL'!F15 -> Semanal (remesa) | G16: ='PANEL DE CONTROL DISTRITAL'!G15 -> 1 | H16: ='PANEL DE CONTROL DISTRITAL'!H15 -> Ejecución de los scripts de reenvío de notificaciones | I16: 0 | J16: 0 | K16: 0 | L16: 0 | M16: 0 | N16: 0 | O16: 0 | P16: 0 | Q16: 0 | R16: 0 | S16: 0 | T16: 0 | U16: 0 | V16: 0 | W16: 0 | X16: 0 | Y16: 0 | Z16: 0 | AA16: 0 | AB16: 0 | AC16: 0 | AD16: 0 | AE16: 0 | AF16: 0 | AG16: 0 | AH16: 0 | AI16: 0 | AJ16: 0 | AK16: 0 | AL16: 0 | AM16: 0 | AN16: 0 | AO16: 0 | AP16: 0 | AQ16: 0 | AR16: 0 | AS16: =IFERROR(SUM(I16:AR16)/SUM(I17:AR17),1) -> 1
H17: ='PANEL DE CONTROL DISTRITAL'!H16 -> Solicitud de reevíos de scripts requeridos | I17: 0 | J17: 0 | K17: 0 | L17: 0 | M17: 0 | N17: 0 | O17: 0 | P17: 0 | Q17: 0 | R17: 0 | S17: 0 | T17: 0 | U17: 0 | V17: 0 | W17: 0 | X17: 0 | Y17: 0 | Z17: 0 | AA17: 0 | AB17: 0 | AC17: 0 | AD17: 0 | AE17: 0 | AF17: 0 | AG17: 0 | AH17: 0 | AI17: 0 | AJ17: 0 | AK17: 0 | AL17: 0 | AM17: 0 | AN17: 0 | AO17: 0 | AP17: 0 | AQ17: 0 | AR17: 0
A19: ='PANEL DE CONTROL DISTRITAL'!A18 -> 4 | B19: ='PANEL DE CONTROL DISTRITAL'!B18 -> Conciliación de Credenciales para Votar. | C19: ='PANEL DE CONTROL DISTRITAL'!C18 -> Responsable de Módulo | D19: ='PANEL DE CONTROL DISTRITAL'!D18 -> Credenciales disponibles para entrega. | E19: ='PANEL DE CONTROL DISTRITAL'!E18 -> [(Credenciales recibidas - Credenciales inconsistentes) / Credenciales recibidas] x 100 | F19: ='PANEL DE CONTROL DISTRITAL'!F18 -> Semanal (remesa) | G19: ='PANEL DE CONTROL DISTRITAL'!G18 -> 0.9 | H19: ='PANEL DE CONTROL DISTRITAL'!H18 -> Credenciales Recibidas - Credenciales inconsistentes | I19: 0 | J19: 0 | K19: 0 | L19: 0 | M19: 0 | N19: 0 | O19: 0 | P19: 0 | Q19: 0 | R19: 0 | S19: 0 | T19: 0 | U19: 0 | V19: 0 | W19: 0 | X19: 0 | Y19: 0 | Z19: 0 | AA19: 0 | AB19: 0 | AC19: 0 | AD19: 0 | AE19: 0 | AF19: 3 | AG19: 137 | AH19: 277 | AI19: 256 | AJ19: 280 | AK19: 169 | AL19: 294 | AM19: 230 | AN19: 261 | AO19: 145 | AP19: 303 | AQ19: 154 | AR19: 356 | AS19: =IFERROR(SUM(I19:AR19)/SUM(I20:AR20),0) -> 1
H20: ='PANEL DE CONTROL DISTRITAL'!H19 -> Credenciales recibidas | I20: 0 | J20: 0 | K20: 0 | L20: 0 | M20: 0 | N20: 0 | O20: 0 | P20: 0 | Q20: 0 | R20: 0 | S20: 0 | T20: 0 | U20: 0 | V20: 0 | W20: 0 | X20: 0 | Y20: 0 | Z20: 0 | AA20: 0 | AB20: 0 | AC20: 0 | AD20: 0 | AE20: 0 | AF20: 3 | AG20: 137 | AH20: 277 | AI20: 256 | AJ20: 280 | AK20: 169 | AL20: 294 | AM20: 230 | AN20: 261 | AO20: 145 | AP20: 303 | AQ20: 154 | AR20: 356
A22: ='PANEL DE CONTROL DISTRITAL'!A21 -> 5 | B22: ='PANEL DE CONTROL DISTRITAL'!B21 -> Conciliación de Credenciales para Votar. | C22: ='PANEL DE CONTROL DISTRITAL'!C21 -> Responsable de Módulo | D22: ='PANEL DE CONTROL DISTRITAL'!D21 -> Arqueo de credenciales. | E22: ='PANEL DE CONTROL DISTRITAL'!E21 -> (Credenciales disponibles (físicas) / Credenciales disponibles registradas en SIIRFE-MAC) x 100 | F22: ='PANEL DE CONTROL DISTRITAL'!F21 -> Semanal (remesa) | G22: ='PANEL DE CONTROL DISTRITAL'!G21 -> 1 | H22: ='PANEL DE CONTROL DISTRITAL'!H21 -> Credenciales disponibles (físicas) | I22: 0 | J22: 0 | K22: 0 | L22: 0 | M22: 0 | N22: 0 | O22: 0 | P22: 0 | Q22: 0 | R22: 0 | S22: 0 | T22: 0 | U22: 0 | V22: 0 | W22: 0 | X22: 0 | Y22: 0 | Z22: 0 | AA22: 0 | AB22: 0 | AC22: 0 | AD22: 0 | AE22: 0 | AF22: 21 | AG22: 156 | AH22: 332 | AI22: 379 | AJ22: 491 | AK22: 333 | AL22: 446 | AM22: 371 | AN22: 436 | AO22: 245 | AP22: 421 | AQ22: 230 | AR22: 451 | AS22: =IFERROR(SUM(I22:AR22)/SUM(I23:AR23),0) -> 1
H23: ='PANEL DE CONTROL DISTRITAL'!H22 -> Credenciales disponibles registradas en SIIRFE | I23: 0 | J23: 0 | K23: 0 | L23: 0 | M23: 0 | N23: 0 | O23: 0 | P23: 0 | Q23: 0 | R23: 0 | S23: 0 | T23: 0 | U23: 0 | V23: 0 | W23: 0 | X23: 0 | Y23: 0 | Z23: 0 | AA23: 0 | AB23: 0 | AC23: 0 | AD23: 0 | AE23: 0 | AF23: 21 | AG23: 156 | AH23: 332 | AI23: 379 | AJ23: 491 | AK23: 333 | AL23: 446 | AM23: 371 | AN23: 436 | AO23: 245 | AP23: 421 | AQ23: 230 | AR23: 451
A25: ='PANEL DE CONTROL DISTRITAL'!A24 -> 6 | B25: ='PANEL DE CONTROL DISTRITAL'!B24 -> Entrega de la Credencial para Votar. | C25: ='PANEL DE CONTROL DISTRITAL'!C24 -> Operador de Equipo Tecnológico | D25: ='PANEL DE CONTROL DISTRITAL'!D24 -> Efectividad de entrega de CPV en MAC. | E25: ='PANEL DE CONTROL DISTRITAL'!E24 -> (Total de credenciales entregadas / Total de ciudadanas y ciudadanos que acuden al MAC a recoger su credencial) x 100 | F25: ='PANEL DE CONTROL DISTRITAL'!F24 -> Semanal (remesa) | G25: ='PANEL DE CONTROL DISTRITAL'!G24 -> 0.9 | H25: ='PANEL DE CONTROL DISTRITAL'!H24 -> Total de credenciales entregadas | I25: 0 | J25: 0 | K25: 0 | L25: 0 | M25: 0 | N25: 0 | O25: 0 | P25: 0 | Q25: 0 | R25: 0 | S25: 0 | T25: 0 | U25: 0 | V25: 0 | W25: 0 | X25: 0 | Y25: 0 | Z25: 0 | AA25: 0 | AB25: 0 | AC25: 0 | AD25: 0 | AE25: 0 | AF25: 1 | AG25: 2 | AH25: 101 | AI25: 209 | AJ25: 168 | AK25: 327 | AL25: 181 | AM25: 305 | AN25: 196 | AO25: 336 | AP25: 127 | AQ25: 345 | AR25: 135 | AS25: =IFERROR(SUM(I25:AR25)/SUM(I26:AR26),0) -> 1
H26: ='PANEL DE CONTROL DISTRITAL'!H25 -> Total de ciudadanos que acuden a MAC a recoger su credencial | I26: 0 | J26: 0 | K26: 0 | L26: 0 | M26: 0 | N26: 0 | O26: 0 | P26: 0 | Q26: 0 | R26: 0 | S26: 0 | T26: 0 | U26: 0 | V26: 0 | W26: 0 | X26: 0 | Y26: 0 | Z26: 0 | AA26: 0 | AB26: 0 | AC26: 0 | AD26: 0 | AE26: 0 | AF26: 1 | AG26: 2 | AH26: 101 | AI26: 209 | AJ26: 168 | AK26: 327 | AL26: 181 | AM26: 305 | AN26: 196 | AO26: 336 | AP26: 127 | AQ26: 345 | AR26: 135
B27: *Registre el valor nominal solicitado en la celda, el resultado proporcional esta automatizado.
I29: Semaforización
J30: Valor que requiere atención y justificación en el apartado de observaciones
J31: Valor suficiente
J32: Valor esperado
B34: CUADRO DE OBSERVACIONES
B35: Descripción | H35: No conformidad

Sheet 150251
A1: ='PANEL DE CONTROL DISTRITAL'!A1:Q1 -> INSTITUTO NACIONAL ELECTORAL SISTEMA DE GESTIÓN DE LA CALIDAD ESTADO DE MÉXICO
D2: Distrito | E2: 2 | F2: Módulo | H2: 150251
A4: TABLERO DE CONTROL DE PROCESOS SUSTANTIVOS DEL SISTEMA DE GESTIÓN DE LA CALIDAD
A6: ='PANEL DE CONTROL DISTRITAL'!A6 -> Número | B6: ='PANEL DE CONTROL DISTRITAL'!B6 -> PROCESOS SUSTANTIVOS E INDICADORES | I6: SEMANA OPERATIVA | AS6: % AVANCE REGISTRADO
B7: ='PANEL DE CONTROL DISTRITAL'!B7 -> DESCRIPCIÓN | E7: ='PANEL DE CONTROL DISTRITAL'!E7 -> MEDICIÓN | I7: ='PANEL DE CONTROL DISTRITAL'!A5 -> CAMPAÑA ANUAL PERMANENTE 2024
B9: ='PANEL DE CONTROL DISTRITAL'!B8 -> Proceso | C9: ='PANEL DE CONTROL DISTRITAL'!C8 -> Dueño de Proceso | D9: ='PANEL DE CONTROL DISTRITAL'!D8 -> Indicador | E9: ='PANEL DE CONTROL DISTRITAL'!E8 -> Cálculo | F9: ='PANEL DE CONTROL DISTRITAL'!F8 -> Periodo | G9: ='PANEL DE CONTROL DISTRITAL'!G8 -> Estimado | H9: ='PANEL DE CONTROL DISTRITAL'!H8 -> Nominativo | I9: ='150151'!I9 -> 2024-05 | J9: ='150151'!J9 -> 2024-06 | K9: ='150151'!K9 -> 2024-07 | L9: ='150151'!L9 -> 2024-08 | M9: ='150151'!M9 -> 2024-09 | N9: ='150151'!N9 -> 2024-10 | O9: ='150151'!O9 -> 2024-11 | P9: ='150151'!P9 -> 2024-12 | ... AR9: ='150151'!AR9 -> 2024-40
A10: ='PANEL DE CONTROL DISTRITAL'!A9 -> 1 | B10: ='PANEL DE CONTROL DISTRITAL'!B9 -> Entrevista | C10: ='PANEL DE CONTROL DISTRITAL'!C9 -> Auxiliar de Atención Ciudadana | D10: ='PANEL DE CONTROL DISTRITAL'!D9 -> Fichas requisitadas correctamente. | E10: ='PANEL DE CONTROL DISTRITAL'!E9 -> (Fichas requisitadas correctamente / Fichas revisadas en la muestra del 10%) x 100 | F10: ='PANEL DE CONTROL DISTRITAL'!F9 -> Semanal (remesa) | G10: ='PANEL DE CONTROL DISTRITAL'!G9 -> 0.9 | H10: ='PANEL DE CONTROL DISTRITAL'!H9 -> Fichas requistadas correctamente | I10: 0 | J10: 0 | K10: 0 | L10: 0 | M10: 0 | N10: 0 | O10: 0 | P10: 0 | Q10: 0 | R10: 0 | S10: 0 | T10: 0 | U10: 0 | V10: 18 | W10: 19 | X10: 18 | Y10: 20 | Z10: 24 | AA10: 34 | AB10: 11 | AC10: 0 | AD10: 0 | AE10: 0 | AF10: 37 | AG10: 58 | AH10: 67 | AI10: 63 | AJ10: 63 | AK10: 64 | AL10: 66 | AM10: 68 | AN10: 68 | AO10: 67 | AP10: 67 | AQ10: 66 | AR10: 66 | AS10: =IFERROR(SUM(I10:AR10)/SUM(I11:AR11),0) -> 0.98568507
H11: ='PANEL DE CONTROL DISTRITAL'!H10 -> Fichas revisadas en la Muestra del 10% | I11: 0 | J11: 0 | K11: 0 | L11: 0 | M11: 0 | N11: 0 | O11: 0 | P11: 0 | Q11: 0 | R11: 0 | S11: 0 | T11: 0 | U11: 0 | V11: 18 | W11: 19 | X11: 18 | Y11: 20 | Z11: 24 | AA11: 34 | AB11: 11 | AC11: 0 | AD11: 0 | AE11: 0 | AF11: 39 | AG11: 58 | AH11: 71 | AI11: 63 | AJ11: 66 | AK11: 64 | AL11: 68 | AM11: 68 | AN11: 68 | AO11: 69 | AP11: 67 | AQ11: 67 | AR11: 66
A13: ='PANEL DE CONTROL DISTRITAL'!A12 -> 2 | B13: ='PANEL DE CONTROL DISTRITAL'!B12 -> Trámite | C13: ='PANEL DE CONTROL DISTRITAL'!C12 -> Operador de Equipo Tecnológico | D13: ='PANEL DE CONTROL DISTRITAL'!D12 -> Trámites exitosos. | E13: ='PANEL DE CONTROL DISTRITAL'!E12 -> (Número de trámites exitosos / Número de trámites aplicados) x 100 | F13: ='PANEL DE CONTROL DISTRITAL'!F12 -> Semanal (remesa) | G13: ='PANEL DE CONTROL DISTRITAL'!G12 -> 0.9 | H13: ='PANEL DE CONTROL DISTRITAL'!H12 -> Número de trámites exitosos | I13: 0 | J13: 0 | K13: 0 | L13: 0 | M13: 0 | N13: 0 | O13: 0 | P13: 0 | Q13: 0 | R13: 0 | S13: 0 | T13: 0 | U13: 0 | V13: 182 | W13: 198 | X13: 185 | Y13: 207 | Z13: 242 | AA13: 347 | AB13: 118 | AC13: 0 | AD13: 0 | AE13: 0 | AF13: 396 | AG13: 580 | AH13: 710 | AI13: 635 | AJ13: 662 | AK13: 644 | AL13: 677 | AM13: 685 | AN13: 599 | AO13: 690 | AP13: 672 | AQ13: 674 | AR13: 658 | AS13: =IFERROR(SUM(I13:AR13)/SUM(I14:AR14),0) -> 0.99713965
H14: ='PANEL DE CONTROL DISTRITAL'!H13 -> Número de trámites aplicados | I14: 0 | J14: 0 | K14: 0 | L14: 0 | M14: 0 | N14: 0 | O14: 0 | P14: 0 | Q14: 0 | R14: 0 | S14: 0 | T14: 0 | U14: 0 | V14: 182 | W14: 198 | X14: 185 | Y14: 207 | Z14: 242 | AA14: 347 | AB14: 118 | AC14: 0 | AD14: 0 | AE14: 0 | AF14: 399 | AG14: 585 | AH14: 711 | AI14: 637 | AJ14: 665 | AK14: 646 | AL14: 680 | AM14: 687 | AN14: 601 | AO14: 691 | AP14: 674 | AQ14: 674 | AR14: 660
A16: ='PANEL DE CONTROL DISTRITAL'!A15 -> 3 | B16: ='PANEL DE CONTROL DISTRITAL'!B15 -> Transferencia de la Información. | C16: ='PANEL DE CONTROL DISTRITAL'!C15 -> Responsable de Módulo | D16: ='PANEL DE CONTROL DISTRITAL'!D15 -> Reenvíos exitosos. | E16: ='PANEL DE CONTROL DISTRITAL'!E15 -> (Ejecución de los scripts de reenvío de notificaciones / Solicitud de reenvíos de scripts requeridos) x100 | F16: ='PANEL DE CONTROL DISTRITAL'!F15 -> Semanal (remesa) | G16: ='PANEL DE CONTROL DISTRITAL'!G15 -> 1 | H16: ='PANEL DE CONTROL DISTRITAL'!H15 -> Ejecución de los scripts de reenvío de notificaciones | I16: 0 | J16: 0 | K16: 0 | L16: 0 | M16: 0 | N16: 0 | O16: 0 | P16: 0 | Q16: 0 | R16: 0 | S16: 0 | T16: 0 | U16: 0 | V16: 0 | W16: 0 | X16: 0 | Y16: 0 | Z16: 0 | AA16: 0 | AB16: 0 | AC16: 0 | AD16: 0 | AE16: 0 | AF16: 0 | AG16: 1 | AH16: 3 | AI16: 0 | AJ16: 0 | AK16: 0 | AL16: 0 | AM16: 2 | AN16: 1 | AO16: 3 | AP16: 0 | AQ16: 0 | AR16: 9 | AS16: =IFERROR(SUM(I16:AR16)/SUM(I17:AR17),1) -> 1
H17: ='PANEL DE CONTROL DISTRITAL'!H16 -> Solicitud de reevíos de scripts requeridos | I17: 0 | J17: 0 | K17: 0 | L17: 0 | M17: 0 | N17: 0 | O17: 0 | P17: 0 | Q17: 0 | R17: 0 | S17: 0 | T17: 0 | U17: 0 | V17: 0 | W17: 0 | X17: 0 | Y17: 0 | Z17: 0 | AA17: 0 | AB17: 0 | AC17: 0 | AD17: 0 | AE17: 0 | AF17: 0 | AG17: 1 | AH17: 3 | AI17: 0 | AJ17: 0 | AK17: 0 | AL17: 0 | AM17: 2 | AN17: 1 | AO17: 3 | AP17: 0 | AQ17: 0 | AR17: 9
A19: ='PANEL DE CONTROL DISTRITAL'!A18 -> 4 | B19: ='PANEL DE CONTROL DISTRITAL'!B18 -> Conciliación de Credenciales para Votar. | C19: ='PANEL DE CONTROL DISTRITAL'!C18 -> Responsable de Módulo | D19: ='PANEL DE CONTROL DISTRITAL'!D18 -> Credenciales disponibles para entrega. | E19: ='PANEL DE CONTROL DISTRITAL'!E18 -> [(Credenciales recibidas - Credenciales inconsistentes) / Credenciales recibidas] x 100 | F19: ='PANEL DE CONTROL DISTRITAL'!F18 -> Semanal (remesa) | G19: ='PANEL DE CONTROL DISTRITAL'!G18 -> 0.9 | H19: ='PANEL DE CONTROL DISTRITAL'!H18 -> Credenciales Recibidas - Credenciales inconsistentes | I19: 0 | J19: 0 | K19: 0 | L19: 0 | M19: 0 | N19: 0 | O19: 0 | P19: 0 | Q19: 0 | R19: 0 | S19: 0 | T19: 0 | U19: 0 | V19: 192 | W19: 189 | X19: 194 | Y19: 173 | Z19: 259 | AA19: 284 | AB19: 62 | AC19: 202 | AD19: 0 | AE19: 0 | AF19: 226 | AG19: 500 | AH19: 636 | AI19: 684 | AJ19: 619 | AK19: 685 | AL19: 683 | AM19: 675 | AN19: 512 | AO19: 765 | AP19: 512 | AQ19: 650 | AR19: 552 | AS19: =IFERROR(SUM(I19:AR19)/SUM(I20:AR20),0) -> 1
H20: ='PANEL DE CONTROL DISTRITAL'!H19 -> Credenciales recibidas | I20: 0 | J20: 0 | K20: 0 | L20: 0 | M20: 0 | N20: 0 | O20: 0 | P20: 0 | Q20: 0 | R20: 0 | S20: 0 | T20: 0 | U20: 0 | V20: 192 | W20: 189 | X20: 194 | Y20: 173 | Z20: 259 | AA20: 284 | AB20: 62 | AC20: 202 | AD20: 0 | AE20: 0 | AF20: 226 | AG20: 500 | AH20: 636 | AI20: 684 | AJ20: 619 | AK20: 685 | AL20: 683 | AM20: 675 | AN20: 512 | AO20: 765 | AP20: 512 | AQ20: 650 | AR20: 552
A22: ='PANEL DE CONTROL DISTRITAL'!A21 -> 5 | B22: ='PANEL DE CONTROL DISTRITAL'!B21 -> Conciliación de Credenciales para Votar. | C22: ='PANEL DE CONTROL DISTRITAL'!C21 -> Responsable de Módulo | D22: ='PANEL DE CONTROL DISTRITAL'!D21 -> Arqueo de credenciales. | E22: ='PANEL DE CONTROL DISTRITAL'!E21 -> (Credenciales disponibles (físicas) / Credenciales disponibles registradas en SIIRFE-MAC) x 100 | F22: ='PANEL DE CONTROL DISTRITAL'!F21 -> Semanal (remesa) | G22: ='PANEL DE CONTROL DISTRITAL'!G21 -> 1 | H22: ='PANEL DE CONTROL DISTRITAL'!H21 -> Credenciales disponibles (físicas) | I22: 0 | J22: 0 | K22: 0 | L22: 0 | M22: 0 | N22: 0 | O22: 0 | P22: 0 | Q22: 0 | R22: 0 | S22: 0 | T22: 0 | U22: 0 | V22: 360 | W22: 270 | X22: 257 | Y22: 253 | Z22: 308 | AA22: 290 | AB22: 305 | AC22: 250 | AD22: 70 | AE22: 0 | AF22: 386 | AG22: 636 | AH22: 832 | AI22: 905 | AJ22: 885 | AK22: 927 | AL22: 999 | AM22: 1024 | AN22: 887 | AO22: 969 | AP22: 1024 | AQ22: 966 | AR22: 864 | AS22: =IFERROR(SUM(I22:AR22)/SUM(I23:AR23),0) -> 1
H23: ='PANEL DE CONTROL DISTRITAL'!H22 -> Credenciales disponibles registradas en SIIRFE | I23: 0 | J23: 0 | K23: 0 | L23: 0 | M23: 0 | N23: 0 | O23: 0 | P23: 0 | Q23: 0 | R23: 0 | S23: 0 | T23: 0 | U23: 0 | V23: 360 | W23: 270 | X23: 257 | Y23: 253 | Z23: 308 | AA23: 290 | AB23: 305 | AC23: 250 | AD23: 70 | AE23: 0 | AF23: 386 | AG23: 636 | AH23: 832 | AI23: 905 | AJ23: 885 | AK23: 927 | AL23: 999 | AM23: 1024 | AN23: 887 | AO23: 969 | AP23: 1024 | AQ23: 966 | AR23: 864
A25: ='PANEL DE CONTROL DISTRITAL'!A24 -> 6 | B25: ='PANEL DE CONTROL DISTRITAL'!B24 -> Entrega de la Credencial para Votar. | C25: ='PANEL DE CONTROL DISTRITAL'!C24 -> Operador de Equipo Tecnológico | D25: ='PANEL DE CONTROL DISTRITAL'!D24 -> Efectividad de entrega de CPV en MAC. | E25: ='PANEL DE CONTROL DISTRITAL'!E24 -> (Total de credenciales entregadas / Total de ciudadanas y ciudadanos que acuden al MAC a recoger su credencial) x 100 | F25: ='PANEL DE CONTROL DISTRITAL'!F24 -> Semanal (remesa) | G25: ='PANEL DE CONTROL DISTRITAL'!G24 -> 0.9 | H25: ='PANEL DE CONTROL DISTRITAL'!H24 -> Total de credenciales entregadas | I25: 0 | J25: 0 | K25: 0 | L25: 0 | M25: 0 | N25: 0 | O25: 0 | P25: 0 | Q25: 0 | R25: 0 | S25: 0 | T25: 0 | U25: 0 | V25: 145 | W25: 279 | X25: 207 | Y25: 177 | Z25: 204 | AA25: 302 | AB25: 47 | AC25: 257 | AD25: 180 | AE25: 0 | AF25: 14 | AG25: 0 | AH25: 437 | AI25: 611 | AJ25: 627 | AK25: 625 | AL25: 610 | AM25: 650 | AN25: 649 | AO25: 682 | AP25: 649 | AQ25: 708 | AR25: 654 | AS25: =IFERROR(SUM(I25:AR25)/SUM(I26:AR26),0) -> 0.99931193
H26: ='PANEL DE CONTROL DISTRITAL'!H25 -> Total de ciudadanos que acuden a MAC a recoger su credencial | I26: 0 | J26: 0 | K26: 0 | L26: 0 | M26: 0 | N26: 0 | O26: 0 | P26: 0 | Q26: 0 | R26: 0 | S26: 0 | T26: 0 | U26: 0 | V26: 145 | W26: 279 | X26: 207 | Y26: 177 | Z26: 204 | AA26: 302 | AB26: 47 | AC26: 257 | AD26: 180 | AE26: 0 | AF26: 14 | AG26: 0 | AH26: 438 | AI26: 611 | AJ26: 628 | AK26: 626 | AL26: 611 | AM26: 650 | AN26: 651 | AO26: 682 | AP26: 649 | AQ26: 708 | AR26: 654
B27: *Registre el valor nominal solicitado en la celda, el resultado proporcional esta automatizado.
I29: Semaforización
J30: Valor que requiere atención y justificación en el apartado de observaciones
J31: Valor suficiente
J32: Valor esperado
B34: CUADRO DE OBSERVACIONES
B35: Descripción | H35: No conformidad

Sheet 150253
A1: ='PANEL DE CONTROL DISTRITAL'!A1:Q1 -> INSTITUTO NACIONAL ELECTORAL SISTEMA DE GESTIÓN DE LA CALIDAD ESTADO DE MÉXICO
D2: Distrito | E2: 2 | F2: Módulo | H2: 150253
A4: TABLERO DE CONTROL DE PROCESOS SUSTANTIVOS DEL SISTEMA DE GESTIÓN DE LA CALIDAD
A6: ='PANEL DE CONTROL DISTRITAL'!A6 -> Número | B6: ='PANEL DE CONTROL DISTRITAL'!B6 -> PROCESOS SUSTANTIVOS E INDICADORES | I6: SEMANA OPERATIVA | AS6: % AVANCE REGISTRADO
B7: ='PANEL DE CONTROL DISTRITAL'!B7 -> DESCRIPCIÓN | E7: ='PANEL DE CONTROL DISTRITAL'!E7 -> MEDICIÓN | I7: ='PANEL DE CONTROL DISTRITAL'!A5 -> CAMPAÑA ANUAL PERMANENTE 2024
B9: ='PANEL DE CONTROL DISTRITAL'!B8 -> Proceso | C9: ='PANEL DE CONTROL DISTRITAL'!C8 -> Dueño de Proceso | D9: ='PANEL DE CONTROL DISTRITAL'!D8 -> Indicador | E9: ='PANEL DE CONTROL DISTRITAL'!E8 -> Cálculo | F9: ='PANEL DE CONTROL DISTRITAL'!F8 -> Periodo | G9: ='PANEL DE CONTROL DISTRITAL'!G8 -> Estimado | H9: ='PANEL DE CONTROL DISTRITAL'!H8 -> Nominativo | I9: ='150151'!I9 -> 2024-05 | J9: ='150151'!J9 -> 2024-06 | K9: ='150151'!K9 -> 2024-07 | L9: ='150151'!L9 -> 2024-08 | M9: ='150151'!M9 -> 2024-09 | N9: ='150151'!N9 -> 2024-10 | O9: ='150151'!O9 -> 2024-11 | P9: ='150151'!P9 -> 2024-12 | ... AR9: ='150151'!AR9 -> 2024-40
A10: ='PANEL DE CONTROL DISTRITAL'!A9 -> 1 | B10: ='PANEL DE CONTROL DISTRITAL'!B9 -> Entrevista | C10: ='PANEL DE CONTROL DISTRITAL'!C9 -> Auxiliar de Atención Ciudadana | D10: ='PANEL DE CONTROL DISTRITAL'!D9 -> Fichas requisitadas correctamente. | E10: ='PANEL DE CONTROL DISTRITAL'!E9 -> (Fichas requisitadas correctamente / Fichas revisadas en la muestra del 10%) x 100 | F10: ='PANEL DE CONTROL DISTRITAL'!F9 -> Semanal (remesa) | G10: ='PANEL DE CONTROL DISTRITAL'!G9 -> 0.9 | H10: ='PANEL DE CONTROL DISTRITAL'!H9 -> Fichas requistadas correctamente | I10: 0 | J10: 0 | K10: 0 | L10: 0 | M10: 0 | N10: 0 | O10: 0 | P10: 0 | Q10: 0 | R10: 0 | S10: 0 | T10: 0 | U10: 0 | V10: 22 | W10: 31 | X10: 30 | Y10: 23 | Z10: 30 | AA10: 44 | AB10: 17 | AC10: 0 | AD10: 0 | AE10: 0 | AF10: 54 | AG10: 72 | AH10: 107 | AI10: 106 | AJ10: 105 | AK10: 106 | AL10: 105 | AM10: 101 | AN10: 92 | AO10: 96 | AP10: 106 | AQ10: 104 | AR10: 101 | AS10: =IFERROR(SUM(I10:AR10)/SUM(I11:AR11),0) -> 1
H11: ='PANEL DE CONTROL DISTRITAL'!H10 -> Fichas revisadas en la Muestra del 10% | I11: 0 | J11: 0 | K11: 0 | L11: 0 | M11: 0 | N11: 0 | O11: 0 | P11: 0 | Q11: 0 | R11: 0 | S11: 0 | T11: 0 | U11: 0 | V11: 22 | W11: 31 | X11: 30 | Y11: 23 | Z11: 30 | AA11: 44 | AB11: 17 | AC11: 0 | AD11: 0 | AE11: 0 | AF11: 54 | AG11: 72 | AH11: 107 | AI11: 106 | AJ11: 105 | AK11: 106 | AL11: 105 | AM11: 101 | AN11: 92 | AO11: 96 | AP11: 106 | AQ11: 104 | AR11: 101
A13: ='PANEL DE CONTROL DISTRITAL'!A12 -> 2 | B13: ='PANEL DE CONTROL DISTRITAL'!B12 -> Trámite | C13: ='PANEL DE CONTROL DISTRITAL'!C12 -> Operador de Equipo Tecnológico | D13: ='PANEL DE CONTROL DISTRITAL'!D12 -> Trámites exitosos. | E13: ='PANEL DE CONTROL DISTRITAL'!E12 -> (Número de trámites exitosos / Número de trámites aplicados) x 100 | F13: ='PANEL DE CONTROL DISTRITAL'!F12 -> Semanal (remesa) | G13: ='PANEL DE CONTROL DISTRITAL'!G12 -> 0.9 | H13: ='PANEL DE CONTROL DISTRITAL'!H12 -> Número de trámites exitosos | I13: 0 | J13: 0 | K13: 0 | L13: 0 | M13: 0 | N13: 0 | O13: 0 | P13: 0 | Q13: 0 | R13: 0 | S13: 0 | T13: 0 | U13: 0 | V13: 227 | W13: 313 | X13: 302 | Y13: 230 | Z13: 306 | AA13: 441 | AB13: 172 | AC13: 0 | AD13: 0 | AE13: 0 | AF13: 524 | AG13: 692 | AH13: 1077 | AI13: 1010 | AJ13: 988 | AK13: 1066 | AL13: 993 | AM13: 1008 | AN13: 879 | AO13: 923 | AP13: 1030 | AQ13: 988 | AR13: 968 | AS13: =IFERROR(SUM(I13:AR13)/SUM(I14:AR14),0) -> 0.9980233
H14: ='PANEL DE CONTROL DISTRITAL'!H13 -> Número de trámites aplicados | I14: 0 | J14: 0 | K14: 0 | L14: 0 | M14: 0 | N14: 0 | O14: 0 | P14: 0 | Q14: 0 | R14: 0 | S14: 0 | T14: 0 | U14: 0 | V14: 227 | W14: 313 | X14: 302 | Y14: 230 | Z14: 306 | AA14: 441 | AB14: 172 | AC14: 0 | AD14: 0 | AE14: 0 | AF14: 529 | AG14: 693 | AH14: 1079 | AI14: 1010 | AJ14: 988 | AK14: 1067 | AL14: 995 | AM14: 1010 | AN14: 882 | AO14: 925 | AP14: 1033 | AQ14: 993 | AR14: 970
A16: ='PANEL DE CONTROL DISTRITAL'!A15 -> 3 | B16: ='PANEL DE CONTROL DISTRITAL'!B15 -> Transferencia de la Información. | C16: ='PANEL DE CONTROL DISTRITAL'!C15 -> Responsable de Módulo | D16: ='PANEL DE CONTROL DISTRITAL'!D15 -> Reenvíos exitosos. | E16: ='PANEL DE CONTROL DISTRITAL'!E15 -> (Ejecución de los scripts de reenvío de notificaciones / Solicitud de reenvíos de scripts requeridos) x100 | F16: ='PANEL DE CONTROL DISTRITAL'!F15 -> Semanal (remesa) | G16: ='PANEL DE CONTROL DISTRITAL'!G15 -> 1 | H16: ='PANEL DE CONTROL DISTRITAL'!H15 -> Ejecución de los scripts de reenvío de notificaciones | I16: 0 | J16: 0 | K16: 0 | L16: 0 | M16: 0 | N16: 0 | O16: 0 | P16: 0 | Q16: 0 | R16: 0 | S16: 0 | T16: 0 | U16: 0 | V16: 2 | W16: 0 | X16: 0 | Y16: 0 | Z16: 0 | AA16: 0 | AB16: 0 | AC16: 0 | AD16: 0 | AE16: 0 | AF16: 0 | AG16: 0 | AH16: 4 | AI16: 6 | AJ16: 2 | AK16: 1 | AL16: 6 | AM16: 0 | AN16: 3 | AO16: 0 | AP16: 3 | AQ16: 5 | AR16: 11 | AS16: =IFERROR(SUM(I16:AR16)/SUM(I17:AR17),1) -> 1
H17: ='PANEL DE CONTROL DISTRITAL'!H16 -> Solicitud de reevíos de scripts requeridos | I17: 0 | J17: 0 | K17: 0 | L17: 0 | M17: 0 | N17: 0 | O17: 0 | P17: 0 | Q17: 0 | R17: 0 | S17: 0 | T17: 0 | U17: 0 | V17: 2 | W17: 0 | X17: 0 | Y17: 0 | Z17: 0 | AA17: 0 | AB17: 0 | AC17: 0 | AD17: 0 | AE17: 0 | AF17: 0 | AG17: 0 | AH17: 4 | AI17: 6 | AJ17: 2 | AK17: 1 | AL17: 6 | AM17: 0 | AN17: 3 | AO17: 0 | AP17: 3 | AQ17: 5 | AR17: 11
A19: ='PANEL DE CONTROL DISTRITAL'!A18 -> 4 | B19: ='PANEL DE CONTROL DISTRITAL'!B18 -> Conciliación de Credenciales para Votar. | C19: ='PANEL DE CONTROL DISTRITAL'!C18 -> Responsable de Módulo | D19: ='PANEL DE CONTROL DISTRITAL'!D18 -> Credenciales disponibles para entrega. | E19: ='PANEL DE CONTROL DISTRITAL'!E18 -> [(Credenciales recibidas - Credenciales inconsistentes) / Credenciales recibidas] x 100 | F19: ='PANEL DE CONTROL DISTRITAL'!F18 -> Semanal (remesa) | G19: ='PANEL DE CONTROL DISTRITAL'!G18 -> 0.9 | H19: ='PANEL DE CONTROL DISTRITAL'!H18 -> Credenciales Recibidas - Credenciales inconsistentes | I19: 0 | J19: 0 | K19: 0 | L19: 0 | M19: 0 | N19: 0 | O19: 0 | P19: 0 | Q19: 0 | R19: 0 | S19: 0 | T19: 0 | U19: 0 | V19: 222 | W19: 269 | X19: 311 | Y19: 193 | Z19: 292 | AA19: 434 | AB19: 80 | AC19: 271 | AD19: 0 | AE19: 0 | AF19: 301 | AG19: 640 | AH19: 877 | AI19: 857 | AJ19: 1176 | AK19: 1075 | AL19: 824 | AM19: 1248 | AN19: 696 | AO19: 1093 | AP19: 991 | AQ19: 989 | AR19: 802 | AS19: =IFERROR(SUM(I19:AR19)/SUM(I20:AR20),0) -> 1
H20: ='PANEL DE CONTROL DISTRITAL'!H19 -> Credenciales recibidas | I20: 0 | J20: 0 | K20: 0 | L20: 0 | M20: 0 | N20: 0 | O20: 0 | P20: 0 | Q20: 0 | R20: 0 | S20: 0 | T20: 0 | U20: 0 | V20: 222 | W20: 269 | X20: 311 | Y20: 193 | Z20: 292 | AA20: 434 | AB20: 80 | AC20: 271 | AD20: 0 | AE20: 0 | AF20: 301 | AG20: 640 | AH20: 877 | AI20: 857 | AJ20: 1176 | AK20: 1075 | AL20: 824 | AM20: 1248 | AN20: 696 | AO20: 1093 | AP20: 991 | AQ20: 989 | AR20: 802
A22: ='PANEL DE CONTROL DISTRITAL'!A21 -> 5 | B22: ='PANEL DE CONTROL DISTRITAL'!B21 -> Conciliación de Credenciales para Votar. | C22: ='PANEL DE CONTROL DISTRITAL'!C21 -> Responsable de Módulo | D22: ='PANEL DE CONTROL DISTRITAL'!D21 -> Arqueo de credenciales. | E22: ='PANEL DE CONTROL DISTRITAL'!E21 -> (Credenciales disponibles (físicas) / Credenciales disponibles registradas en SIIRFE-MAC) x 100 | F22: ='PANEL DE CONTROL DISTRITAL'!F21 -> Semanal (remesa) | G22: ='PANEL DE CONTROL DISTRITAL'!G21 -> 1 | H22: ='PANEL DE CONTROL DISTRITAL'!H21 -> Credenciales disponibles (físicas) | I22: 0 | J22: 0 | K22: 0 | L22: 0 | M22: 0 | N22: 0 | O22: 0 | P22: 0 | Q22: 0 | R22: 0 | S22: 0 | T22: 0 | U22: 0 | V22: 448 | W22: 427 | X22: 475 | Y22: 420 | Z22: 459 | AA22: 561 | AB22: 570 | AC22: 365 | AD22: 261 | AE22: 0 | AF22: 549 | AG22: 886 | AH22: 1193 | AI22: 1278 | AJ22: 1399 | AK22: 1519 | AL22: 1389 | AM22: 1618 | AN22: 1294 | AO22: 1466 | AP22: 1505 | AQ22: 1587 | AR22: 1361 | AS22: =IFERROR(SUM(I22:AR22)/SUM(I23:AR23),0) -> 1
H23: ='PANEL DE CONTROL DISTRITAL'!H22 -> Credenciales disponibles registradas en SIIRFE | I23: 0 | J23: 0 | K23: 0 | L23: 0 | M23: 0 | N23: 0 | O23: 0 | P23: 0 | Q23: 0 | R23: 0 | S23: 0 | T23: 0 | U23: 0 | V23: 448 | W23: 427 | X23: 475 | Y23: 420 | Z23: 459 | AA23: 561 | AB23: 570 | AC23: 365 | AD23: 261 | AE23: 0 | AF23: 549 | AG23: 886 | AH23: 1193 | AI23: 1278 | AJ23: 1399 | AK23: 1519 | AL23: 1389 | AM23: 1618 | AN23: 1294 | AO23: 1466 | AP23: 1505 | AQ23: 1587 | AR23: 1361
A25: ='PANEL DE CONTROL DISTRITAL'!A24 -> 6 | B25: ='PANEL DE CONTROL DISTRITAL'!B24 -> Entrega de la Credencial para Votar. | C25: ='PANEL DE CONTROL DISTRITAL'!C24 -> Operador de Equipo Tecnológico | D25: ='PANEL DE CONTROL DISTRITAL'!D24 -> Efectividad de entrega de CPV en MAC. | E25: ='PANEL DE CONTROL DISTRITAL'!E24 -> (Total de credenciales entregadas / Total de ciudadanas y ciudadanos que acuden al MAC a recoger su credencial) x 100 | F25: ='PANEL DE CONTROL DISTRITAL'!F24 -> Semanal (remesa) | G25: ='PANEL DE CONTROL DISTRITAL'!G24 -> 0.9 | H25: ='PANEL DE CONTROL DISTRITAL'!H24 -> Total de credenciales entregadas | I25: 0 | J25: 0 | K25: 0 | L25: 0 | M25: 0 | N25: 0 | O25: 0 | P25: 0 | Q25: 0 | R25: 0 | S25: 0 | T25: 0 | U25: 0 | V25: 239 | W25: 290 | X25: 263 | Y25: 248 | Z25: 253 | AA25: 332 | AB25: 71 | AC25: 476 | AD25: 104 | AE25: 0 | AF25: 13 | AG25: 303 | AH25: 569 | AI25: 772 | AJ25: 1026 | AK25: 926 | AL25: 954 | AM25: 1019 | AN25: 1020 | AO25: 908 | AP25: 952 | AQ25: 907 | AR25: 1028 | AS25: =IFERROR(SUM(I25:AR25)/SUM(I26:AR26),0) -> 0.99944795
H26: ='PANEL DE CONTROL DISTRITAL'!H25 -> Total de ciudadanos que acuden a MAC a recoger su credencial | I26: 0 | J26: 0 | K26: 0 | L26: 0 | M26: 0 | N26: 0 | O26: 0 | P26: 0 | Q26: 0 | R26: 0 | S26: 0 | T26: 0 | U26: 0 | V26: 239 | W26: 290 | X26: 263 | Y26: 248 | Z26: 253 | AA26: 332 | AB26: 71 | AC26: 476 | AD26: 104 | AE26: 0 | AF26: 13 | AG26: 303 | AH26: 569 | AI26: 775 | AJ26: 1028 | AK26: 927 | AL26: 954 | AM26: 1019 | AN26: 1020 | AO26: 908 | AP26: 952 | AQ26: 907 | AR26: 1029
B27: *Registre el valor nominal solicitado en la celda, el resultado proporcional esta automatizado.
I29: Semaforización
J30: Valor que requiere atención y justificación en el apartado de observaciones
J31: Valor suficiente
J32: Valor esperado
B34: CUADRO DE OBSERVACIONES
B35: Descripción | H35: No conformidad

Sheet 150351
A1: ='PANEL DE CONTROL DISTRITAL'!A1:Q1 -> INSTITUTO NACIONAL ELECTORAL SISTEMA DE GESTIÓN DE LA CALIDAD ESTADO DE MÉXICO
D2: Distrito | E2: 3 | F2: Módulo | H2: 150351
A4: TABLERO DE CONTROL DE PROCESOS SUSTANTIVOS DEL SISTEMA DE GESTIÓN DE LA CALIDAD
A6: ='PANEL DE CONTROL DISTRITAL'!A6 -> Número | B6: ='PANEL DE CONTROL DISTRITAL'!B6 -> PROCESOS SUSTANTIVOS E INDICADORES | I6: SEMANA OPERATIVA | AS6: % AVANCE REGISTRADO
B7: ='PANEL DE CONTROL DISTRITAL'!B7 -> DESCRIPCIÓN | E7: ='PANEL DE CONTROL DISTRITAL'!E7 -> MEDICIÓN | I7: ='PANEL DE CONTROL DISTRITAL'!A5 -> CAMPAÑA ANUAL PERMANENTE 2024
B9: ='PANEL DE CONTROL DISTRITAL'!B8 -> Proceso | C9: ='PANEL DE CONTROL DISTRITAL'!C8 -> Dueño de Proceso | D9: ='PANEL DE CONTROL DISTRITAL'!D8 -> Indicador | E9: ='PANEL DE CONTROL DISTRITAL'!E8 -> Cálculo | F9: ='PANEL DE CONTROL DISTRITAL'!F8 -> Periodo | G9: ='PANEL DE CONTROL DISTRITAL'!G8 -> Estimado | H9: ='PANEL DE CONTROL DISTRITAL'!H8 -> Nominativo | I9: ='150151'!I9 -> 2024-05 | J9: ='150151'!J9 -> 2024-06 | K9: ='150151'!K9 -> 2024-07 | L9: ='150151'!L9 -> 2024-08 | M9: ='150151'!M9 -> 2024-09 | N9: ='150151'!N9 -> 2024-10 | O9: ='150151'!O9 -> 2024-11 | P9: ='150151'!P9 -> 2024-12 | ... AR9: ='150151'!AR9 -> 2024-40
A10: ='PANEL DE CONTROL DISTRITAL'!A9 -> 1 | B10: ='PANEL DE CONTROL DISTRITAL'!B9 -> Entrevista | C10: ='PANEL DE CONTROL DISTRITAL'!C9 -> Auxiliar de Atención Ciudadana | D10: ='PANEL DE CONTROL DISTRITAL'!D9 -> Fichas requisitadas correctamente. | E10: ='PANEL DE CONTROL DISTRITAL'!E9 -> (Fichas requisitadas correctamente / Fichas revisadas en la muestra del 10%) x 100 | F10: ='PANEL DE CONTROL DISTRITAL'!F9 -> Semanal (remesa) | G10: ='PANEL DE CONTROL DISTRITAL'!G9 -> 0.9 | H10: ='PANEL DE CONTROL DISTRITAL'!H9 -> Fichas requistadas correctamente | I10: 0 | J10: 0 | K10: 0 | L10: 0 | M10: 0 | N10: 0 | O10: 0 | P10: 0 | Q10: 0 | R10: 0 | S10: 0 | T10: 0 | U10: 0 | V10: 20 | W10: 24 | X10: 24 | Y10: 19 | Z10: 29 | AA10: 35 | AB10: 14 | AC10: 0 | AD10: 0 | AE10: 0 | AF10: 24 | AG10: 49 | AH10: 72 | AI10: 65 | AJ10: 62 | AK10: 69 | AL10: 63 | AM10: 66 | AN10: 71 | AO10: 66 | AP10: 64 | AQ10: 76 | AR10: 66 | AS10: =IFERROR(SUM(I10:AR10)/SUM(I11:AR11),0) -> 1
H11: ='PANEL DE CONTROL DISTRITAL'!H10 -> Fichas revisadas en la Muestra del 10% | I11: 0 | J11: 0 | K11: 0 | L11: 0 | M11: 0 | N11: 0 | O11: 0 | P11: 0 | Q11: 0 | R11: 0 | S11: 0 | T11: 0 | U11: 0 | V11: 20 | W11: 24 | X11: 24 | Y11: 19 | Z11: 29 | AA11: 35 | AB11: 14 | AC11: 0 | AD11: 0 | AE11: 0 | AF11: 24 | AG11: 49 | AH11: 72 | AI11: 65 | AJ11: 62 | AK11: 69 | AL11: 63 | AM11: 66 | AN11: 71 | AO11: 66 | AP11: 64 | AQ11: 76 | AR11: 66
A13: ='PANEL DE CONTROL DISTRITAL'!A12 -> 2 | B13: ='PANEL DE CONTROL DISTRITAL'!B12 -> Trámite | C13: ='PANEL DE CONTROL DISTRITAL'!C12 -> Operador de Equipo Tecnológico | D13: ='PANEL DE CONTROL DISTRITAL'!D12 -> Trámites exitosos. | E13: ='PANEL DE CONTROL DISTRITAL'!E12 -> (Número de trámites exitosos / Número de trámites aplicados) x 100 | F13: ='PANEL DE CONTROL DISTRITAL'!F12 -> Semanal (remesa) | G13: ='PANEL DE CONTROL DISTRITAL'!G12 -> 0.9 | H13: ='PANEL DE CONTROL DISTRITAL'!H12 -> Número de trámites exitosos | I13: 0 | J13: 0 | K13: 0 | L13: 0 | M13: 0 | N13: 0 | O13: 0 | P13: 0 | Q13: 0 | R13: 0 | S13: 0 | T13: 0 | U13: 0 | V13: 197 | W13: 243 | X13: 237 | Y13: 193 | Z13: 288 | AA13: 348 | AB13: 138 | AC13: 0 | AD13: 0 | AE13: 0 | AF13: 244 | AG13: 490 | AH13: 720 | AI13: 648 | AJ13: 622 | AK13: 686 | AL13: 633 | AM13: 662 | AN13: 705 | AO13: 657 | AP13: 637 | AQ13: 758 | AR13: 655 | AS13: =IFERROR(SUM(I13:AR13)/SUM(I14:AR14),0) -> 0.99877213
H14: ='PANEL DE CONTROL DISTRITAL'!H13 -> Número de trámites aplicados | I14: 0 | J14: 0 | K14: 0 | L14: 0 | M14: 0 | N14: 0 | O14: 0 | P14: 0 | Q14: 0 | R14: 0 | S14: 0 | T14: 0 | U14: 0 | V14: 197 | W14: 243 | X14: 237 | Y14: 193 | Z14: 288 | AA14: 348 | AB14: 138 | AC14: 0 | AD14: 0 | AE14: 0 | AF14: 244 | AG14: 491 | AH14: 724 | AI14: 649 | AJ14: 622 | AK14: 687 | AL14: 633 | AM14: 663 | AN14: 706 | AO14: 658 | AP14: 638 | AQ14: 758 | AR14: 656
A16: ='PANEL DE CONTROL DISTRITAL'!A15 -> 3 | B16: ='PANEL DE CONTROL DISTRITAL'!B15 -> Transferencia de la Información. | C16: ='PANEL DE CONTROL DISTRITAL'!C15 -> Responsable de Módulo | D16: ='PANEL DE CONTROL DISTRITAL'!D15 -> Reenvíos exitosos. | E16: ='PANEL DE CONTROL DISTRITAL'!E15 -> (Ejecución de los scripts de reenvío de notificaciones / Solicitud de reenvíos de scripts requeridos) x100 | F16: ='PANEL DE CONTROL DISTRITAL'!F15 -> Semanal (remesa) | G16: ='PANEL DE CONTROL DISTRITAL'!G15 -> 1 | H16: ='PANEL DE CONTROL DISTRITAL'!H15 -> Ejecución de los scripts de reenvío de notificaciones | I16: 0 | J16: 0 | K16: 0 | L16: 0 | M16: 0 | N16: 0 | O16: 0 | P16: 0 | Q16: 0 | R16: 0 | S16: 0 | T16: 0 | U16: 0 | V16: 0 | W16: 0 | X16: 0 | Y16: 0 | Z16: 0 | AA16: 0 | AB16: 0 | AC16: 0 | AD16: 0 | AE16: 0 | AF16: 0 | AG16: 0 | AH16: 0 | AI16: 0 | AJ16: 0 | AK16: 0 | AL16: 0 | AM16: 0 | AN16: 0 | AO16: 0 | AP16: 0 | AQ16: 0 | AR16: 0 | AS16: =IFERROR(SUM(I16:AR16)/SUM(I17:AR17),1) -> 1
H17: ='PANEL DE CONTROL DISTRITAL'!H16 -> Solicitud de reevíos de scripts requeridos | I17: 0 | J17: 0 | K17: 0 | L17: 0 | M17: 0 | N17: 0 | O17: 0 | P17: 0 | Q17: 0 | R17: 0 | S17: 0 | T17: 0 | U17: 0 | V17: 0 | W17: 0 | X17: 0 | Y17: 0 | Z17: 0 | AA17: 0 | AB17: 0 | AC17: 0 | AD17: 0 | AE17: 0 | AF17: 0 | AG17: 0 | AH17: 0 | AI17: 0 | AJ17: 0 | AK17: 0 | AL17: 0 | AM17: 0 | AN17: 0 | AO17: 0 | AP17: 0 | AQ17: 0 | AR17: 0
A19: ='PANEL DE CONTROL DISTRITAL'!A18 -> 4 | B19: ='PANEL DE CONTROL DISTRITAL'!B18 -> Conciliación de Credenciales para Votar. | C19: ='PANEL DE CONTROL DISTRITAL'!C18 -> Responsable de Módulo | D19: ='PANEL DE CONTROL DISTRITAL'!D18 -> Credenciales disponibles para entrega. | E19: ='PANEL DE CONTROL DISTRITAL'!E18 -> [(Credenciales recibidas - Credenciales inconsistentes) / Credenciales recibidas] x 100 | F19: ='PANEL DE CONTROL DISTRITAL'!F18 -> Semanal (remesa) | G19: ='PANEL DE CONTROL DISTRITAL'!G18 -> 0.9 | H19: ='PANEL DE CONTROL DISTRITAL'!H18 -> Credenciales Recibidas - Credenciales inconsistentes | I19: 0 | J19: 0 | K19: 0 | L19: 0 | M19: 0 | N19: 0 | O19: 0 | P19: 0 | Q19: 0 | R19: 0 | S19: 0 | T19: 0 | U19: 0 | V19: 188 | W19: 257 | X19: 250 | Y19: 125 | Z19: 246 | AA19: 375 | AB19: 0 | AC19: 346 | AD19: 0 | AE19: 0 | AF19: 321 | AG19: 219 | AH19: 673 | AI19: 712 | AJ19: 623 | AK19: 759 | AL19: 543 | AM19: 649 | AN19: 663 | AO19: 478 | AP19: 810 | AQ19: 733 | AR19: 741 | AS19: =IFERROR(SUM(I19:AR19)/SUM(I20:AR20),0) -> 1
H20: ='PANEL DE CONTROL DISTRITAL'!H19 -> Credenciales recibidas | I20: 0 | J20: 0 | K20: 0 | L20: 0 | M20: 0 | N20: 0 | O20: 0 | P20: 0 | Q20: 0 | R20: 0 | S20: 0 | T20: 0 | U20: 0 | V20: 188 | W20: 257 | X20: 250 | Y20: 125 | Z20: 246 | AA20: 375 | AB20: 0 | AC20: 346 | AD20: 0 | AE20: 0 | AF20: 321 | AG20: 219 | AH20: 673 | AI20: 712 | AJ20: 623 | AK20: 759 | AL20: 543 | AM20: 649 | AN20: 663 | AO20: 478 | AP20: 810 | AQ20: 733 | AR20: 741
A22: ='PANEL DE CONTROL DISTRITAL'!A21 -> 5 | B22: ='PANEL DE CONTROL DISTRITAL'!B21 -> Conciliación de Credenciales para Votar. | C22: ='PANEL DE CONTROL DISTRITAL'!C21 -> Responsable de Módulo | D22: ='PANEL DE CONTROL DISTRITAL'!D21 -> Arqueo de credenciales. | E22: ='PANEL DE CONTROL DISTRITAL'!E21 -> (Credenciales disponibles (físicas) / Credenciales disponibles registradas en SIIRFE-MAC) x 100 | F22: ='PANEL DE CONTROL DISTRITAL'!F21 -> Semanal (remesa) | G22: ='PANEL DE CONTROL DISTRITAL'!G21 -> 1 | H22: ='PANEL DE CONTROL DISTRITAL'!H21 -> Credenciales disponibles (físicas) | I22: 0 | J22: 0 | K22: 0 | L22: 0 | M22: 0 | N22: 0 | O22: 0 | P22: 0 | Q22: 0 | R22: 0 | S22: 0 | T22: 0 | U22: 0 | V22: 208 | W22: 286 | X22: 308 | Y22: 214 | Z22: 269 | AA22: 359 | AB22: 280 | AC22: 349 | AD22: 0 | AE22: 0 | AF22: 311 | AG22: 501 | AH22: 698 | AI22: 786 | AJ22: 793 | AK22: 924 | AL22: 816 | AM22: 845 | AN22: 811 | AO22: 648 | AP22: 781 | AQ22: 840 | AR22: 896 | AS22: =IFERROR(SUM(I22:AR22)/SUM(I23:AR23),0) -> 1
H23: ='PANEL DE CONTROL DISTRITAL'!H22 -> Credenciales disponibles registradas en SIIRFE | I23: 0 | J23: 0 | K23: 0 | L23: 0 | M23: 0 | N23: 0 | O23: 0 | P23: 0 | Q23: 0 | R23: 0 | S23: 0 | T23: 0 | U23: 0 | V23: 208 | W23: 286 | X23: 308 | Y23: 214 | Z23: 269 | AA23: 359 | AB23: 280 | AC23: 349 | AD23: 0 | AE23: 0 | AF23: 311 | AG23: 501 | AH23: 698 | AI23: 786 | AJ23: 793 | AK23: 924 | AL23: 816 | AM23: 845 | AN23: 811 | AO23: 648 | AP23: 781 | AQ23: 840 | AR23: 896
A25: ='PANEL DE CONTROL DISTRITAL'!A24 -> 6 | B25: ='PANEL DE CONTROL DISTRITAL'!B24 -> Entrega de la Credencial para Votar. | C25: ='PANEL DE CONTROL DISTRITAL'!C24 -> Operador de Equipo Tecnológico | D25: ='PANEL DE CONTROL DISTRITAL'!D24 -> Efectividad de entrega de CPV en MAC. | E25: ='PANEL DE CONTROL DISTRITAL'!E24 -> (Total de credenciales entregadas / Total de ciudadanas y ciudadanos que acuden al MAC a recoger su credencial) x 100 | F25: ='PANEL DE CONTROL DISTRITAL'!F24 -> Semanal (remesa) | G25: ='PANEL DE CONTROL DISTRITAL'!G24 -> 0.9 | H25: ='PANEL DE CONTROL DISTRITAL'!H24 -> Total de credenciales entregadas | I25: 0 | J25: 0 | K25: 0 | L25: 0 | M25: 0 | N25: 0 | O25: 0 | P25: 0 | Q25: 0 | R25: 0 | S25: 0 | T25: 0 | U25: 0 | V25: 184 | W25: 179 | X25: 228 | Y25: 219 | Z25: 191 | AA25: 285 | AB25: 79 | AC25: 277 | AD25: 216 | AE25: 0 | AF25: 10 | AG25: 29 | AH25: 476 | AI25: 624 | AJ25: 616 | AK25: 609 | AL25: 651 | AM25: 620 | AN25: 697 | AO25: 633 | AP25: 677 | AQ25: 674 | AR25: 685 | AS25: =IFERROR(SUM(I25:AR25)/SUM(I26:AR26),0) -> 0.99988713
H26: ='PANEL DE CONTROL DISTRITAL'!H25 -> Total de ciudadanos que acuden a MAC a recoger su credencial | I26: 0 | J26: 0 | K26: 0 | L26: 0 | M26: 0 | N26: 0 | O26: 0 | P26: 0 | Q26: 0 | R26: 0 | S26: 0 | T26: 0 | U26: 0 | V26: 184 | W26: 179 | X26: 228 | Y26: 219 | Z26: 191 | AA26: 285 | AB26: 79 | AC26: 277 | AD26: 216 | AE26: 0 | AF26: 10 | AG26: 29 | AH26: 476 | AI26: 624 | AJ26: 616 | AK26: 609 | AL26: 652 | AM26: 620 | AN26: 697 | AO26: 633 | AP26: 677 | AQ26: 674 | AR26: 685
B27: *Registre el valor nominal solicitado en la celda, el resultado proporcional esta automatizado.
I29: Semaforización
J30: Valor que requiere atención y justificación en el apartado de observaciones
J31: Valor suficiente
J32: Valor esperado
B34: CUADRO DE OBSERVACIONES
B35: Descripción | H35: No conformidad

Sheet 150352
A1: ='PANEL DE CONTROL DISTRITAL'!A1:Q1 -> INSTITUTO NACIONAL ELECTORAL SISTEMA DE GESTIÓN DE LA CALIDAD ESTADO DE MÉXICO
D2: Distrito | E2: 3 | F2: Módulo | H2: 150352
A4: TABLERO DE CONTROL DE PROCESOS SUSTANTIVOS DEL SISTEMA DE GESTIÓN DE LA CALIDAD
A6: ='PANEL DE CONTROL DISTRITAL'!A6 -> Número | B6: ='PANEL DE CONTROL DISTRITAL'!B6 -> PROCESOS SUSTANTIVOS E INDICADORES | I6: SEMANA OPERATIVA | AS6: % AVANCE REGISTRADO
B7: ='PANEL DE CONTROL DISTRITAL'!B7 -> DESCRIPCIÓN | E7: ='PANEL DE CONTROL DISTRITAL'!E7 -> MEDICIÓN | I7: ='PANEL DE CONTROL DISTRITAL'!A5 -> CAMPAÑA ANUAL PERMANENTE 2024
B9: ='PANEL DE CONTROL DISTRITAL'!B8 -> Proceso | C9: ='PANEL DE CONTROL DISTRITAL'!C8 -> Dueño de Proceso | D9: ='PANEL DE CONTROL DISTRITAL'!D8 -> Indicador | E9: ='PANEL DE CONTROL DISTRITAL'!E8 -> Cálculo | F9: ='PANEL DE CONTROL DISTRITAL'!F8 -> Periodo | G9: ='PANEL DE CONTROL DISTRITAL'!G8 -> Estimado | H9: ='PANEL DE CONTROL DISTRITAL'!H8 -> Nominativo | I9: ='150151'!I9 -> 2024-05 | J9: ='150151'!J9 -> 2024-06 | K9: ='150151'!K9 -> 2024-07 | L9: ='150151'!L9 -> 2024-08 | M9: ='150151'!M9 -> 2024-09 | N9: ='150151'!N9 -> 2024-10 | O9: ='150151'!O9 -> 2024-11 | P9: ='150151'!P9 -> 2024-12 | ... AR9: ='150151'!AR9 -> 2024-40
A10: ='PANEL DE CONTROL DISTRITAL'!A9 -> 1 | B10: ='PANEL DE CONTROL DISTRITAL'!B9 -> Entrevista | C10: ='PANEL DE CONTROL DISTRITAL'!C9 -> Auxiliar de Atención Ciudadana | D10: ='PANEL DE CONTROL DISTRITAL'!D9 -> Fichas requisitadas correctamente. | E10: ='PANEL DE CONTROL DISTRITAL'!E9 -> (Fichas requisitadas correctamente / Fichas revisadas en la muestra del 10%) x 100 | F10: ='PANEL DE CONTROL DISTRITAL'!F9 -> Semanal (remesa) | G10: ='PANEL DE CONTROL DISTRITAL'!G9 -> 0.9 | H10: ='PANEL DE CONTROL DISTRITAL'!H9 -> Fichas requistadas correctamente | I10: 0 | J10: 0 | K10: 0 | L10: 0 | M10: 0 | N10: 0 | O10: 0 | P10: 0 | Q10: 0 | R10: 0 | S10: 0 | T10: 0 | U10: 0 | V10: 15 | W10: 18 | X10: 15 | Y10: 12 | Z10: 19 | AA10: 27 | AB10: 9 | AC10: 0 | AD10: 0 | AE10: 0 | AF10: 23 | AG10: 38 | AH10: 58 | AI10: 52 | AJ10: 55 | AK10: 52 | AL10: 55 | AM10: 55 | AN10: 53 | AO10: 55 | AP10: 55 | AQ10: 58 | AR10: 55 | AS10: =IFERROR(SUM(I10:AR10)/SUM(I11:AR11),0) -> 1
H11: ='PANEL DE CONTROL DISTRITAL'!H10 -> Fichas revisadas en la Muestra del 10% | I11: 0 | J11: 0 | K11: 0 | L11: 0 | M11: 0 | N11: 0 | O11: 0 | P11: 0 | Q11: 0 | R11: 0 | S11: 0 | T11: 0 | U11: 0 | V11: 15 | W11: 18 | X11: 15 | Y11: 12 | Z11: 19 | AA11: 27 | AB11: 9 | AC11: 0 | AD11: 0 | AE11: 0 | AF11: 23 | AG11: 38 | AH11: 58 | AI11: 52 | AJ11: 55 | AK11: 52 | AL11: 55 | AM11: 55 | AN11: 53 | AO11: 55 | AP11: 55 | AQ11: 58 | AR11: 55
A13: ='PANEL DE CONTROL DISTRITAL'!A12 -> 2 | B13: ='PANEL DE CONTROL DISTRITAL'!B12 -> Trámite | C13: ='PANEL DE CONTROL DISTRITAL'!C12 -> Operador de Equipo Tecnológico | D13: ='PANEL DE CONTROL DISTRITAL'!D12 -> Trámites exitosos. | E13: ='PANEL DE CONTROL DISTRITAL'!E12 -> (Número de trámites exitosos / Número de trámites aplicados) x 100 | F13: ='PANEL DE CONTROL DISTRITAL'!F12 -> Semanal (remesa) | G13: ='PANEL DE CONTROL DISTRITAL'!G12 -> 0.9 | H13: ='PANEL DE CONTROL DISTRITAL'!H12 -> Número de trámites exitosos | I13: 0 | J13: 0 | K13: 0 | L13: 0 | M13: 0 | N13: 0 | O13: 0 | P13: 0 | Q13: 0 | R13: 0 | S13: 0 | T13: 0 | U13: 0 | V13: 148 | W13: 177 | X13: 146 | Y13: 119 | Z13: 194 | AA13: 265 | AB13: 90 | AC13: 0 | AD13: 0 | AE13: 0 | AF13: 230 | AG13: 375 | AH13: 582 | AI13: 523 | AJ13: 547 | AK13: 520 | AL13: 551 | AM13: 546 | AN13: 531 | AO13: 544 | AP13: 548 | AQ13: 576 | AR13: 547 | AS13: =IFERROR(SUM(I13:AR13)/SUM(I14:AR14),0) -> 0.99768548
H14: ='PANEL DE CONTROL DISTRITAL'!H13 -> Número de trámites aplicados | I14: 0 | J14: 0 | K14: 0 | L14: 0 | M14: 0 | N14: 0 | O14: 0 | P14: 0 | Q14: 0 | R14: 0 | S14: 0 | T14: 0 | U14: 0 | V14: 148 | W14: 177 | X14: 146 | Y14: 119 | Z14: 194 | AA14: 265 | AB14: 90 | AC14: 0 | AD14: 0 | AE14: 0 | AF14: 231 | AG14: 375 | AH14: 584 | AI14: 523 | AJ14: 548 | AK14: 521 | AL14: 553 | AM14: 547 | AN14: 534 | AO14: 546 | AP14: 549 | AQ14: 576 | AR14: 551
A16: ='PANEL DE CONTROL DISTRITAL'!A15 -> 3 | B16: ='PANEL DE CONTROL DISTRITAL'!B15 -> Transferencia de la Información. | C16: ='PANEL DE CONTROL DISTRITAL'!C15 -> Responsable de Módulo | D16: ='PANEL DE CONTROL DISTRITAL'!D15 -> Reenvíos exitosos. | E16: ='PANEL DE CONTROL DISTRITAL'!E15 -> (Ejecución de los scripts de reenvío de notificaciones / Solicitud de reenvíos de scripts requeridos) x100 | F16: ='PANEL DE CONTROL DISTRITAL'!F15 -> Semanal (remesa) | G16: ='PANEL DE CONTROL DISTRITAL'!G15 -> 1 | H16: ='PANEL DE CONTROL DISTRITAL'!H15 -> Ejecución de los scripts de reenvío de notificaciones | I16: 0 | J16: 0 | K16: 0 | L16: 0 | M16: 0 | N16: 0 | O16: 0 | P16: 0 | Q16: 0 | R16: 0 | S16: 0 | T16: 0 | U16: 0 | V16: 0 | W16: 0 | X16: 0 | Y16: 0 | Z16: 0 | AA16: 0 | AB16: 0 | AC16: 0 | AD16: 0 | AE16: 0 | AF16: 0 | AG16: 0 | AH16: 0 | AI16: 0 | AJ16: 0 | AK16: 0 | AL16: 0 | AM16: 0 | AN16: 0 | AO16: 0 | AP16: 0 | AQ16: 0 | AR16: 0 | AS16: =IFERROR(SUM(I16:AR16)/SUM(I17:AR17),1) -> 1
H17: ='PANEL DE CONTROL DISTRITAL'!H16 -> Solicitud de reevíos de scripts requeridos | I17: 0 | J17: 0 | K17: 0 | L17: 0 | M17: 0 | N17: 0 | O17: 0 | P17: 0 | Q17: 0 | R17: 0 | S17: 0 | T17: 0 | U17: 0 | V17: 0 | W17: 0 | X17: 0 | Y17: 0 | Z17: 0 | AA17: 0 | AB17: 0 | AC17: 0 | AD17: 0 | AE17: 0 | AF17: 0 | AG17: 0 | AH17: 0 | AI17: 0 | AJ17: 0 | AK17: 0 | AL17: 0 | AM17: 0 | AN17: 0 | AO17: 0 | AP17: 0 | AQ17: 0 | AR17: 0
A19: ='PANEL DE CONTROL DISTRITAL'!A18 -> 4 | B19: ='PANEL DE CONTROL DISTRITAL'!B18 -> Conciliación de Credenciales para Votar. | C19: ='PANEL DE CONTROL DISTRITAL'!C18 -> Responsable de Módulo | D19: ='PANEL DE CONTROL DISTRITAL'!D18 -> Credenciales disponibles para entrega. | E19: ='PANEL DE CONTROL DISTRITAL'!E18 -> [(Credenciales recibidas - Credenciales inconsistentes) / Credenciales recibidas] x 100 | F19: ='PANEL DE CONTROL DISTRITAL'!F18 -> Semanal (remesa) | G19: ='PANEL DE CONTROL DISTRITAL'!G18 -> 0.9 | H19: ='PANEL DE CONTROL DISTRITAL'!H18 -> Credenciales Recibidas - Credenciales inconsistentes | I19: 0 | J19: 0 | K19: 0 | L19: 0 | M19: 0 | N19: 0 | O19: 0 | P19: 0 | Q19: 0 | R19: 0 | S19: 0 | T19: 0 | U19: 0 | V19: 117 | W19: 199 | X19: 162 | Y19: 83 | Z19: 176 | AA19: 248 | AB19: 0 | AC19: 244 | AD19: 0 | AE19: 0 | AF19: 0 | AG19: 213 | AH19: 514 | AI19: 551 | AJ19: 523 | AK19: 640 | AL19: 431 | AM19: 546 | AN19: 561 | AO19: 365 | AP19: 659 | AQ19: 590 | AR19: 581 | AS19: =IFERROR(SUM(I19:AR19)/SUM(I20:AR20),0) -> 1
H20: ='PANEL DE CONTROL DISTRITAL'!H19 -> Credenciales recibidas | I20: 0 | J20: 0 | K20: 0 | L20: 0 | M20: 0 | N20: 0 | O20: 0 | P20: 0 | Q20: 0 | R20: 0 | S20: 0 | T20: 0 | U20: 0 | V20: 117 | W20: 199 | X20: 162 | Y20: 83 | Z20: 176 | AA20: 248 | AB20: 0 | AC20: 244 | AD20: 0 | AE20: 0 | AF20: 0 | AG20: 213 | AH20: 514 | AI20: 551 | AJ20: 523 | AK20: 640 | AL20: 431 | AM20: 546 | AN20: 561 | AO20: 365 | AP20: 659 | AQ20: 590 | AR20: 581
A22: ='PANEL DE CONTROL DISTRITAL'!A21 -> 5 | B22: ='PANEL DE CONTROL DISTRITAL'!B21 -> Conciliación de Credenciales para Votar. | C22: ='PANEL DE CONTROL DISTRITAL'!C21 -> Responsable de Módulo | D22: ='PANEL DE CONTROL DISTRITAL'!D21 -> Arqueo de credenciales. | E22: ='PANEL DE CONTROL DISTRITAL'!E21 -> (Credenciales disponibles (físicas) / Credenciales disponibles registradas en SIIRFE-MAC) x 100 | F22: ='PANEL DE CONTROL DISTRITAL'!F21 -> Semanal (remesa) | G22: ='PANEL DE CONTROL DISTRITAL'!G21 -> 1 | H22: ='PANEL DE CONTROL DISTRITAL'!H21 -> Credenciales disponibles (físicas) | I22: 0 | J22: 0 | K22: 0 | L22: 0 | M22: 0 | N22: 0 | O22: 0 | P22: 0 | Q22: 0 | R22: 0 | S22: 0 | T22: 0 | U22: 0 | V22: 91 | W22: 140 | X22: 158 | Y22: 128 | Z22: 137 | AA22: 176 | AB22: 121 | AC22: 139 | AD22: 0 | AE22: 0 | AF22: 142 | AG22: 292 | AH22: 531 | AI22: 573 | AJ22: 615 | AK22: 755 | AL22: 700 | AM22: 844 | AN22: 913 | AO22: 695 | AP22: 767 | AQ22: 787 | AR22: 706 | AS22: =IFERROR(SUM(I22:AR22)/SUM(I23:AR23),0) -> 1
H23: ='PANEL DE CONTROL DISTRITAL'!H22 -> Credenciales disponibles registradas en SIIRFE | I23: 0 | J23: 0 | K23: 0 | L23: 0 | M23: 0 | N23: 0 | O23: 0 | P23: 0 | Q23: 0 | R23: 0 | S23: 0 | T23: 0 | U23: 0 | V23: 91 | W23: 140 | X23: 158 | Y23: 128 | Z23: 137 | AA23: 176 | AB23: 121 | AC23: 139 | AD23: 0 | AE23: 0 | AF23: 142 | AG23: 292 | AH23: 531 | AI23: 573 | AJ23: 615 | AK23: 755 | AL23: 700 | AM23: 844 | AN23: 913 | AO23: 695 | AP23: 767 | AQ23: 787 | AR23: 706
A25: ='PANEL DE CONTROL DISTRITAL'!A24 -> 6 | B25: ='PANEL DE CONTROL DISTRITAL'!B24 -> Entrega de la Credencial para Votar. | C25: ='PANEL DE CONTROL DISTRITAL'!C24 -> Operador de Equipo Tecnológico | D25: ='PANEL DE CONTROL DISTRITAL'!D24 -> Efectividad de entrega de CPV en MAC. | E25: ='PANEL DE CONTROL DISTRITAL'!E24 -> (Total de credenciales entregadas / Total de ciudadanas y ciudadanos que acuden al MAC a recoger su credencial) x 100 | F25: ='PANEL DE CONTROL DISTRITAL'!F24 -> Semanal (remesa) | G25: ='PANEL DE CONTROL DISTRITAL'!G24 -> 0.9 | H25: ='PANEL DE CONTROL DISTRITAL'!H24 -> Total de credenciales entregadas | I25: 0 | J25: 0 | K25: 0 | L25: 0 | M25: 0 | N25: 0 | O25: 0 | P25: 0 | Q25: 0 | R25: 0 | S25: 0 | T25: 0 | U25: 0 | V25: 119 | W25: 150 | X25: 144 | Y25: 113 | Z25: 167 | AA25: 209 | AB25: 55 | AC25: 226 | AD25: 93 | AE25: 0 | AF25: 4 | AG25: 63 | AH25: 275 | AI25: 509 | AJ25: 481 | AK25: 485 | AL25: 486 | AM25: 402 | AN25: 492 | AO25: 580 | AP25: 587 | AQ25: 570 | AR25: 662 | AS25: =IFERROR(SUM(I25:AR25)/SUM(I26:AR26),0) -> 0.99898241
H26: ='PANEL DE CONTROL DISTRITAL'!H25 -> Total de ciudadanos que acuden a MAC a recoger su credencial | I26: 0 | J26: 0 | K26: 0 | L26: 0 | M26: 0 | N26: 0 | O26: 0 | P26: 0 | Q26: 0 | R26: 0 | S26: 0 | T26: 0 | U26: 0 | V26: 119 | W26: 150 | X26: 144 | Y26: 113 | Z26: 167 | AA26: 209 | AB26: 55 | AC26: 226 | AD26: 93 | AE26: 0 | AF26: 4 | AG26: 63 | AH26: 275 | AI26: 510 | AJ26: 482 | AK26: 485 | AL26: 488 | AM26: 403 | AN26: 492 | AO26: 582 | AP26: 587 | AQ26: 570 | AR26: 662
B27: *Registre el valor nominal solicitado en la celda, el resultado proporcional esta automatizado.
I29: Semaforización
J30: Valor que requiere atención y justificación en el apartado de observaciones
J31: Valor suficiente
J32: Valor esperado
B34: CUADRO DE OBSERVACIONES
B35: Descripción | H35: No conformidad

Sheet 150353
A1: ='PANEL DE CONTROL DISTRITAL'!A1:Q1 -> INSTITUTO NACIONAL ELECTORAL SISTEMA DE GESTIÓN DE LA CALIDAD ESTADO DE MÉXICO
D2: Distrito | E2: 3 | F2: Módulo | H2: 150353
A4: TABLERO DE CONTROL DE PROCESOS SUSTANTIVOS DEL SISTEMA DE GESTIÓN DE LA CALIDAD
A6: ='PANEL DE CONTROL DISTRITAL'!A6 -> Número | B6: ='PANEL DE CONTROL DISTRITAL'!B6 -> PROCESOS SUSTANTIVOS E INDICADORES | I6: SEMANA OPERATIVA | AS6: % AVANCE REGISTRADO
B7: ='PANEL DE CONTROL DISTRITAL'!B7 -> DESCRIPCIÓN | E7: ='PANEL DE CONTROL DISTRITAL'!E7 -> MEDICIÓN | I7: ='PANEL DE CONTROL DISTRITAL'!A5 -> CAMPAÑA ANUAL PERMANENTE 2024
B9: ='PANEL DE CONTROL DISTRITAL'!B8 -> Proceso | C9: ='PANEL DE CONTROL DISTRITAL'!C8 -> Dueño de Proceso | D9: ='PANEL DE CONTROL DISTRITAL'!D8 -> Indicador | E9: ='PANEL DE CONTROL DISTRITAL'!E8 -> Cálculo | F9: ='PANEL DE CONTROL DISTRITAL'!F8 -> Periodo | G9: ='PANEL DE CONTROL DISTRITAL'!G8 -> Estimado | H9: ='PANEL DE CONTROL DISTRITAL'!H8 -> Nominativo | I9: ='150151'!I9 -> 2024-05 | J9: ='150151'!J9 -> 2024-06 | K9: ='150151'!K9 -> 2024-07 | L9: ='150151'!L9 -> 2024-08 | M9: ='150151'!M9 -> 2024-09 | N9: ='150151'!N9 -> 2024-10 | O9: ='150151'!O9 -> 2024-11 | P9: ='150151'!P9 -> 2024-12 | ... AR9: ='150151'!AR9 -> 2024-40
A10: ='PANEL DE CONTROL DISTRITAL'!A9 -> 1 | B10: ='PANEL DE CONTROL DISTRITAL'!B9 -> Entrevista | C10: ='PANEL DE CONTROL DISTRITAL'!C9 -> Auxiliar de Atención Ciudadana | D10: ='PANEL DE CONTROL DISTRITAL'!D9 -> Fichas requisitadas correctamente. | E10: ='PANEL DE CONTROL DISTRITAL'!E9 -> (Fichas requisitadas correctamente / Fichas revisadas en la muestra del 10%) x 100 | F10: ='PANEL DE CONTROL DISTRITAL'!F9 -> Semanal (remesa) | G10: ='PANEL DE CONTROL DISTRITAL'!G9 -> 0.9 | H10: ='PANEL DE CONTROL DISTRITAL'!H9 -> Fichas requistadas correctamente | I10: 0 | J10: 0 | K10: 0 | L10: 0 | M10: 0 | N10: 0 | O10: 0 | P10: 0 | Q10: 0 | R10: 0 | S10: 0 | T10: 0 | U10: 0 | V10: 0 | W10: 0 | X10: 0 | Y10: 0 | Z10: 0 | AA10: 0 | AB10: 0 | AC10: 0 | AD10: 0 | AE10: 0 | AF10: 6 | AG10: 12 | AH10: 16 | AI10: 9 | AJ10: 14 | AK10: 15 | AL10: 17 | AM10: 15 | AN10: 17 | AO10: 6 | AP10: 18 | AQ10: 17 | AR10: 8 | AS10: =IFERROR(SUM(I10:AR10)/SUM(I11:AR11),0) -> 1
H11: ='PANEL DE CONTROL DISTRITAL'!H10 -> Fichas revisadas en la Muestra del 10% | I11: 0 | J11: 0 | K11: 0 | L11: 0 | M11: 0 | N11: 0 | O11: 0 | P11: 0 | Q11: 0 | R11: 0 | S11: 0 | T11: 0 | U11: 0 | V11: 0 | W11: 0 | X11: 0 | Y11: 0 | Z11: 0 | AA11: 0 | AB11: 0 | AC11: 0 | AD11: 0 | AE11: 0 | AF11: 6 | AG11: 12 | AH11: 16 | AI11: 9 | AJ11: 14 | AK11: 15 | AL11: 17 | AM11: 15 | AN11: 17 | AO11: 6 | AP11: 18 | AQ11: 17 | AR11: 8
A13: ='PANEL DE CONTROL DISTRITAL'!A12 -> 2 | B13: ='PANEL DE CONTROL DISTRITAL'!B12 -> Trámite | C13: ='PANEL DE CONTROL DISTRITAL'!C12 -> Operador de Equipo Tecnológico | D13: ='PANEL DE CONTROL DISTRITAL'!D12 -> Trámites exitosos. | E13: ='PANEL DE CONTROL DISTRITAL'!E12 -> (Número de trámites exitosos / Número de trámites aplicados) x 100 | F13: ='PANEL DE CONTROL DISTRITAL'!F12 -> Semanal (remesa) | G13: ='PANEL DE CONTROL DISTRITAL'!G12 -> 0.9 | H13: ='PANEL DE CONTROL DISTRITAL'!H12 -> Número de trámites exitosos | I13: 0 | J13: 0 | K13: 0 | L13: 0 | M13: 0 | N13: 0 | O13: 0 | P13: 0 | Q13: 0 | R13: 0 | S13: 0 | T13: 0 | U13: 0 | V13: 0 | W13: 0 | X13: 0 | Y13: 0 | Z13: 0 | AA13: 0 | AB13: 0 | AC13: 0 | AD13: 0 | AE13: 0 | AF13: 55 | AG13: 111 | AH13: 156 | AI13: 89 | AJ13: 137 | AK13: 150 | AL13: 179 | AM13: 154 | AN13: 178 | AO13: 60 | AP13: 188 | AQ13: 174 | AR13: 81 | AS13: =IFERROR(SUM(I13:AR13)/SUM(I14:AR14),0) -> 1
H14: ='PANEL DE CONTROL DISTRITAL'!H13 -> Número de trámites aplicados | I14: 0 | J14: 0 | K14: 0 | L14: 0 | M14: 0 | N14: 0 | O14: 0 | P14: 0 | Q14: 0 | R14: 0 | S14: 0 | T14: 0 | U14: 0 | V14: 0 | W14: 0 | X14: 0 | Y14: 0 | Z14: 0 | AA14: 0 | AB14: 0 | AC14: 0 | AD14: 0 | AE14: 0 | AF14: 55 | AG14: 111 | AH14: 156 | AI14: 89 | AJ14: 137 | AK14: 150 | AL14: 179 | AM14: 154 | AN14: 178 | AO14: 60 | AP14: 188 | AQ14: 174 | AR14: 81
A16: ='PANEL DE CONTROL DISTRITAL'!A15 -> 3 | B16: ='PANEL DE CONTROL DISTRITAL'!B15 -> Transferencia de la Información. | C16: ='PANEL DE CONTROL DISTRITAL'!C15 -> Responsable de Módulo | D16: ='PANEL DE CONTROL DISTRITAL'!D15 -> Reenvíos exitosos. | E16: ='PANEL DE CONTROL DISTRITAL'!E15 -> (Ejecución de los scripts de reenvío de notificaciones / Solicitud de reenvíos de scripts requeridos) x100 | F16: ='PANEL DE CONTROL DISTRITAL'!F15 -> Semanal (remesa) | G16: ='PANEL DE CONTROL DISTRITAL'!G15 -> 1 | H16: ='PANEL DE CONTROL DISTRITAL'!H15 -> Ejecución de los scripts de reenvío de notificaciones | I16: 0 | J16: 0 | K16: 0 | L16: 0 | M16: 0 | N16: 0 | O16: 0 | P16: 0 | Q16: 0 | R16: 0 | S16: 0 | T16: 0 | U16: 0 | V16: 0 | W16: 0 | X16: 0 | Y16: 0 | Z16: 0 | AA16: 0 | AB16: 0 | AC16: 0 | AD16: 0 | AE16: 0 | AF16: 0 | AG16: 0 | AH16: 0 | AI16: 0 | AJ16: 0 | AK16: 0 | AL16: 0 | AM16: 0 | AN16: 0 | AO16: 0 | AP16: 0 | AQ16: 0 | AR16: 0 | AS16: =IFERROR(SUM(I16:AR16)/SUM(I17:AR17),1) -> 1
H17: ='PANEL DE CONTROL DISTRITAL'!H16 -> Solicitud de reevíos de scripts requeridos | I17: 0 | J17: 0 | K17: 0 | L17: 0 | M17: 0 | N17: 0 | O17: 0 | P17: 0 | Q17: 0 | R17: 0 | S17: 0 | T17: 0 | U17: 0 | V17: 0 | W17: 0 | X17: 0 | Y17: 0 | Z17: 0 | AA17: 0 | AB17: 0 | AC17: 0 | AD17: 0 | AE17: 0 | AF17: 0 | AG17: 0 | AH17: 0 | AI17: 0 | AJ17: 0 | AK17: 0 | AL17: 0 | AM17: 0 | AN17: 0 | AO17: 0 | AP17: 0 | AQ17: 0 | AR17: 0
A19: ='PANEL DE CONTROL DISTRITAL'!A18 -> 4 | B19: ='PANEL DE CONTROL DISTRITAL'!B18 -> Conciliación de Credenciales para Votar. | C19: ='PANEL DE CONTROL DISTRITAL'!C18 -> Responsable de Módulo | D19: ='PANEL DE CONTROL DISTRITAL'!D18 -> Credenciales disponibles para entrega. | E19: ='PANEL DE CONTROL DISTRITAL'!E18 -> [(Credenciales recibidas - Credenciales inconsistentes) / Credenciales recibidas] x 100 | F19: ='PANEL DE CONTROL DISTRITAL'!F18 -> Semanal (remesa) | G19: ='PANEL DE CONTROL DISTRITAL'!G18 -> 0.9 | H19: ='PANEL DE CONTROL DISTRITAL'!H18 -> Credenciales Recibidas - Credenciales inconsistentes | I19: 0 | J19: 0 | K19: 0 | L19: 0 | M19: 0 | N19: 0 | O19: 0 | P19: 0 | Q19: 0 | R19: 0 | S19: 0 | T19: 0 | U19: 0 | V19: 0 | W19: 0 | X19: 0 | Y19: 0 | Z19: 0 | AA19: 0 | AB19: 0 | AC19: 0 | AD19: 0 | AE19: 0 | AF19: 0 | AG19: 55 | AH19: 126 | AI19: 149 | AJ19: 80 | AK19: 213 | AL19: 109 | AM19: 143 | AN19: 192 | AO19: 140 | AP19: 50 | AQ19: 227 | AR19: 167 | AS19: =IFERROR(SUM(I19:AR19)/SUM(I20:AR20),0) -> 1
H20: ='PANEL DE CONTROL DISTRITAL'!H19 -> Credenciales recibidas | I20: 0 | J20: 0 | K20: 0 | L20: 0 | M20: 0 | N20: 0 | O20: 0 | P20: 0 | Q20: 0 | R20: 0 | S20: 0 | T20: 0 | U20: 0 | V20: 0 | W20: 0 | X20: 0 | Y20: 0 | Z20: 0 | AA20: 0 | AB20: 0 | AC20: 0 | AD20: 0 | AE20: 0 | AF20: 0 | AG20: 55 | AH20: 126 | AI20: 149 | AJ20: 80 | AK20: 213 | AL20: 109 | AM20: 143 | AN20: 192 | AO20: 140 | AP20: 50 | AQ20: 227 | AR20: 167
A22: ='PANEL DE CONTROL DISTRITAL'!A21 -> 5 | B22: ='PANEL DE CONTROL DISTRITAL'!B21 -> Conciliación de Credenciales para Votar. | C22: ='PANEL DE CONTROL DISTRITAL'!C21 -> Responsable de Módulo | D22: ='PANEL DE CONTROL DISTRITAL'!D21 -> Arqueo de credenciales. | E22: ='PANEL DE CONTROL DISTRITAL'!E21 -> (Credenciales disponibles (físicas) / Credenciales disponibles registradas en SIIRFE-MAC) x 100 | F22: ='PANEL DE CONTROL DISTRITAL'!F21 -> Semanal (remesa) | G22: ='PANEL DE CONTROL DISTRITAL'!G21 -> 1 | H22: ='PANEL DE CONTROL DISTRITAL'!H21 -> Credenciales disponibles (físicas) | I22: 0 | J22: 0 | K22: 0 | L22: 0 | M22: 0 | N22: 0 | O22: 0 | P22: 0 | Q22: 0 | R22: 0 | S22: 0 | T22: 0 | U22: 0 | V22: 0 | W22: 0 | X22: 0 | Y22: 0 | Z22: 0 | AA22: 0 | AB22: 0 | AC22: 0 | AD22: 0 | AE22: 0 | AF22: 96 | AG22: 143 | AH22: 156 | AI22: 337 | AJ22: 225 | AK22: 383 | AL22: 411 | AM22: 436 | AN22: 397 | AO22: 361 | AP22: 249 | AQ22: 277 | AR22: 379 | AS22: =IFERROR(SUM(I22:AR22)/SUM(I23:AR23),0) -> 1
H23: ='PANEL DE CONTROL DISTRITAL'!H22 -> Credenciales disponibles registradas en SIIRFE | I23: 0 | J23: 0 | K23: 0 | L23: 0 | M23: 0 | N23: 0 | O23: 0 | P23: 0 | Q23: 0 | R23: 0 | S23: 0 | T23: 0 | U23: 0 | V23: 0 | W23: 0 | X23: 0 | Y23: 0 | Z23: 0 | AA23: 0 | AB23: 0 | AC23: 0 | AD23: 0 | AE23: 0 | AF23: 96 | AG23: 143 | AH23: 156 | AI23: 337 | AJ23: 225 | AK23: 383 | AL23: 411 | AM23: 436 | AN23: 397 | AO23: 361 | AP23: 249 | AQ23: 277 | AR23: 379
A25: ='PANEL DE CONTROL DISTRITAL'!A24 -> 6 | B25: ='PANEL DE CONTROL DISTRITAL'!B24 -> Entrega de la Credencial para Votar. | C25: ='PANEL DE CONTROL DISTRITAL'!C24 -> Operador de Equipo Tecnológico | D25: ='PANEL DE CONTROL DISTRITAL'!D24 -> Efectividad de entrega de CPV en MAC. | E25: ='PANEL DE CONTROL DISTRITAL'!E24 -> (Total de credenciales entregadas / Total de ciudadanas y ciudadanos que acuden al MAC a recoger su credencial) x 100 | F25: ='PANEL DE CONTROL DISTRITAL'!F24 -> Semanal (remesa) | G25: ='PANEL DE CONTROL DISTRITAL'!G24 -> 0.9 | H25: ='PANEL DE CONTROL DISTRITAL'!H24 -> Total de credenciales entregadas | I25: 0 | J25: 0 | K25: 0 | L25: 0 | M25: 0 | N25: 0 | O25: 0 | P25: 0 | Q25: 0 | R25: 0 | S25: 0 | T25: 0 | U25: 0 | V25: 0 | W25: 0 | X25: 0 | Y25: 0 | Z25: 0 | AA25: 0 | AB25: 0 | AC25: 0 | AD25: 0 | AE25: 0 | AF25: 4 | AG25: 7 | AH25: 72 | AI25: 9 | AJ25: 192 | AK25: 48 | AL25: 81 | AM25: 118 | AN25: 231 | AO25: 171 | AP25: 162 | AQ25: 200 | AR25: 64 | AS25: =IFERROR(SUM(I25:AR25)/SUM(I26:AR26),0) -> 0.99853049
H26: ='PANEL DE CONTROL DISTRITAL'!H25 -> Total de ciudadanos que acuden a MAC a recoger su credencial | I26: 0 | J26: 0 | K26: 0 | L26: 0 | M26: 0 | N26: 0 | O26: 0 | P26: 0 | Q26: 0 | R26: 0 | S26: 0 | T26: 0 | U26: 0 | V26: 0 | W26: 0 | X26: 0 | Y26: 0 | Z26: 0 | AA26: 0 | AB26: 0 | AC26: 0 | AD26: 0 | AE26: 0 | AF26: 4 | AG26: 7 | AH26: 72 | AI26: 9 | AJ26: 192 | AK26: 48 | AL26: 81 | AM26: 119 | AN26: 231 | AO26: 171 | AP26: 162 | AQ26: 201 | AR26: 64
B27: *Registre el valor nominal solicitado en la celda, el resultado proporcional esta automatizado.
I29: Semaforización
J30: Valor que requiere atención y justificación en el apartado de observaciones
J31: Valor suficiente
J32: Valor esperado
B34: CUADRO DE OBSERVACIONES
B35: Descripción | H35: No conformidad

Sheet 150451
A1: ='PANEL DE CONTROL DISTRITAL'!A1:Q1 -> INSTITUTO NACIONAL ELECTORAL SISTEMA DE GESTIÓN DE LA CALIDAD ESTADO DE MÉXICO
D2: Distrito | E2: 4 | F2: Módulo | H2: 150451
A4: TABLERO DE CONTROL DE PROCESOS SUSTANTIVOS DEL SISTEMA DE GESTIÓN DE LA CALIDAD
A6: ='PANEL DE CONTROL DISTRITAL'!A6 -> Número | B6: ='PANEL DE CONTROL DISTRITAL'!B6 -> PROCESOS SUSTANTIVOS E INDICADORES | I6: SEMANA OPERATIVA | AS6: % AVANCE REGISTRADO
B7: ='PANEL DE CONTROL DISTRITAL'!B7 -> DESCRIPCIÓN | E7: ='PANEL DE CONTROL DISTRITAL'!E7 -> MEDICIÓN | I7: ='PANEL DE CONTROL DISTRITAL'!A5 -> CAMPAÑA ANUAL PERMANENTE 2024
B9: ='PANEL DE CONTROL DISTRITAL'!B8 -> Proceso | C9: ='PANEL DE CONTROL DISTRITAL'!C8 -> Dueño de Proceso | D9: ='PANEL DE CONTROL DISTRITAL'!D8 -> Indicador | E9: ='PANEL DE CONTROL DISTRITAL'!E8 -> Cálculo | F9: ='PANEL DE CONTROL DISTRITAL'!F8 -> Periodo | G9: ='PANEL DE CONTROL DISTRITAL'!G8 -> Estimado | H9: ='PANEL DE CONTROL DISTRITAL'!H8 -> Nominativo | I9: ='150151'!I9 -> 2024-05 | J9: ='150151'!J9 -> 2024-06 | K9: ='150151'!K9 -> 2024-07 | L9: ='150151'!L9 -> 2024-08 | M9: ='150151'!M9 -> 2024-09 | N9: ='150151'!N9 -> 2024-10 | O9: ='150151'!O9 -> 2024-11 | P9: ='150151'!P9 -> 2024-12 | ... AR9: ='150151'!AR9 -> 2024-40
A10: ='PANEL DE CONTROL DISTRITAL'!A9 -> 1 | B10: ='PANEL DE CONTROL DISTRITAL'!B9 -> Entrevista | C10: ='PANEL DE CONTROL DISTRITAL'!C9 -> Auxiliar de Atención Ciudadana | D10: ='PANEL DE CONTROL DISTRITAL'!D9 -> Fichas requisitadas correctamente. | E10: ='PANEL DE CONTROL DISTRITAL'!E9 -> (Fichas requisitadas correctamente / Fichas revisadas en la muestra del 10%) x 100 | F10: ='PANEL DE CONTROL DISTRITAL'!F9 -> Semanal (remesa) | G10: ='PANEL DE CONTROL DISTRITAL'!G9 -> 0.9 | H10: ='PANEL DE CONTROL DISTRITAL'!H9 -> Fichas requistadas correctamente | I10: 0 | J10: 0 | K10: 0 | L10: 0 | M10: 0 | N10: 0 | O10: 0 | P10: 0 | Q10: 0 | R10: 0 | S10: 0 | T10: 0 | U10: 0 | V10: 34 | W10: 35 | X10: 32 | Y10: 31 | Z10: 42 | AA10: 50 | AB10: 19 | AC10: 0 | AD10: 0 | AE10: 0 | AF10: 55 | AG10: 86 | AH10: 113 | AI10: 107 | AJ10: 101 | AK10: 104 | AL10: 100 | AM10: 101 | AN10: 105 | AO10: 100 | AP10: 104 | AQ10: 108 | AR10: 103 | AS10: =IFERROR(SUM(I10:AR10)/SUM(I11:AR11),0) -> 0.98455598
H11: ='PANEL DE CONTROL DISTRITAL'!H10 -> Fichas revisadas en la Muestra del 10% | I11: 0 | J11: 0 | K11: 0 | L11: 0 | M11: 0 | N11: 0 | O11: 0 | P11: 0 | Q11: 0 | R11: 0 | S11: 0 | T11: 0 | U11: 0 | V11: 34 | W11: 35 | X11: 32 | Y11: 31 | Z11: 42 | AA11: 50 | AB11: 19 | AC11: 0 | AD11: 0 | AE11: 0 | AF11: 55 | AG11: 86 | AH11: 114 | AI11: 107 | AJ11: 105 | AK11: 109 | AL11: 106 | AM11: 103 | AN11: 106 | AO11: 103 | AP11: 104 | AQ11: 109 | AR11: 104
A13: ='PANEL DE CONTROL DISTRITAL'!A12 -> 2 | B13: ='PANEL DE CONTROL DISTRITAL'!B12 -> Trámite | C13: ='PANEL DE CONTROL DISTRITAL'!C12 -> Operador de Equipo Tecnológico | D13: ='PANEL DE CONTROL DISTRITAL'!D12 -> Trámites exitosos. | E13: ='PANEL DE CONTROL DISTRITAL'!E12 -> (Número de trámites exitosos / Número de trámites aplicados) x 100 | F13: ='PANEL DE CONTROL DISTRITAL'!F12 -> Semanal (remesa) | G13: ='PANEL DE CONTROL DISTRITAL'!G12 -> 0.9 | H13: ='PANEL DE CONTROL DISTRITAL'!H12 -> Número de trámites exitosos | I13: 0 | J13: 0 | K13: 0 | L13: 0 | M13: 0 | N13: 0 | O13: 0 | P13: 0 | Q13: 0 | R13: 0 | S13: 0 | T13: 0 | U13: 0 | V13: 321 | W13: 346 | X13: 327 | Y13: 303 | Z13: 411 | AA13: 493 | AB13: 188 | AC13: 0 | AD13: 0 | AE13: 0 | AF13: 533 | AG13: 827 | AH13: 1085 | AI13: 1010 | AJ13: 1010 | AK13: 1050 | AL13: 1019 | AM13: 967 | AN13: 980 | AO13: 982 | AP13: 1001 | AQ13: 1052 | AR13: 977 | AS13: =IFERROR(SUM(I13:AR13)/SUM(I14:AR14),0) -> 0.99792128
H14: ='PANEL DE CONTROL DISTRITAL'!H13 -> Número de trámites aplicados | I14: 0 | J14: 0 | K14: 0 | L14: 0 | M14: 0 | N14: 0 | O14: 0 | P14: 0 | Q14: 0 | R14: 0 | S14: 0 | T14: 0 | U14: 0 | V14: 321 | W14: 347 | X14: 327 | Y14: 303 | Z14: 411 | AA14: 493 | AB14: 188 | AC14: 0 | AD14: 0 | AE14: 0 | AF14: 535 | AG14: 827 | AH14: 1085 | AI14: 1011 | AJ14: 1011 | AK14: 1050 | AL14: 1021 | AM14: 970 | AN14: 980 | AO14: 982 | AP14: 1004 | AQ14: 1060 | AR14: 987
A16: ='PANEL DE CONTROL DISTRITAL'!A15 -> 3 | B16: ='PANEL DE CONTROL DISTRITAL'!B15 -> Transferencia de la Información. | C16: ='PANEL DE CONTROL DISTRITAL'!C15 -> Responsable de Módulo | D16: ='PANEL DE CONTROL DISTRITAL'!D15 -> Reenvíos exitosos. | E16: ='PANEL DE CONTROL DISTRITAL'!E15 -> (Ejecución de los scripts de reenvío de notificaciones / Solicitud de reenvíos de scripts requeridos) x100 | F16: ='PANEL DE CONTROL DISTRITAL'!F15 -> Semanal (remesa) | G16: ='PANEL DE CONTROL DISTRITAL'!G15 -> 1 | H16: ='PANEL DE CONTROL DISTRITAL'!H15 -> Ejecución de los scripts de reenvío de notificaciones | I16: 0 | J16: 0 | K16: 0 | L16: 0 | M16: 0 | N16: 0 | O16: 0 | P16: 0 | Q16: 0 | R16: 0 | S16: 0 | T16: 0 | U16: 0 | V16: 0 | W16: 0 | X16: 0 | Y16: 0 | Z16: 0 | AA16: 0 | AB16: 0 | AC16: 0 | AD16: 0 | AE16: 0 | AF16: 0 | AG16: 0 | AH16: 0 | AI16: 0 | AJ16: 0 | AK16: 0 | AL16: 0 | AM16: 0 | AN16: 0 | AO16: 0 | AP16: 0 | AQ16: 0 | AR16: 0 | AS16: =IFERROR(SUM(I16:AR16)/SUM(I17:AR17),1) -> 1
H17: ='PANEL DE CONTROL DISTRITAL'!H16 -> Solicitud de reevíos de scripts requeridos | I17: 0 | J17: 0 | K17: 0 | L17: 0 | M17: 0 | N17: 0 | O17: 0 | P17: 0 | Q17: 0 | R17: 0 | S17: 0 | T17: 0 | U17: 0 | V17: 0 | W17: 0 | X17: 0 | Y17: 0 | Z17: 0 | AA17: 0 | AB17: 0 | AC17: 0 | AD17: 0 | AE17: 0 | AF17: 0 | AG17: 0 | AH17: 0 | AI17: 0 | AJ17: 0 | AK17: 0 | AL17: 0 | AM17: 0 | AN17: 0 | AO17: 0 | AP17: 0 | AQ17: 0 | AR17: 0
A19: ='PANEL DE CONTROL DISTRITAL'!A18 -> 4 | B19: ='PANEL DE CONTROL DISTRITAL'!B18 -> Conciliación de Credenciales para Votar. | C19: ='PANEL DE CONTROL DISTRITAL'!C18 -> Responsable de Módulo | D19: ='PANEL DE CONTROL DISTRITAL'!D18 -> Credenciales disponibles para entrega. | E19: ='PANEL DE CONTROL DISTRITAL'!E18 -> [(Credenciales recibidas - Credenciales inconsistentes) / Credenciales recibidas] x 100 | F19: ='PANEL DE CONTROL DISTRITAL'!F18 -> Semanal (remesa) | G19: ='PANEL DE CONTROL DISTRITAL'!G18 -> 0.9 | H19: ='PANEL DE CONTROL DISTRITAL'!H18 -> Credenciales Recibidas - Credenciales inconsistentes | I19: 0 | J19: 0 | K19: 0 | L19: 0 | M19: 0 | N19: 0 | O19: 0 | P19: 0 | Q19: 0 | R19: 0 | S19: 0 | T19: 0 | U19: 0 | V19: 310 | W19: 366 | X19: 329 | Y19: 275 | Z19: 347 | AA19: 493 | AB19: 85 | AC19: 316 | AD19: 1 | AE19: 0 | AF19: 217 | AG19: 752 | AH19: 968 | AI19: 1051 | AJ19: 958 | AK19: 1088 | AL19: 1009 | AM19: 1013 | AN19: 746 | AO19: 1179 | AP19: 997 | AQ19: 1056 | AR19: 822 | AS19: =IFERROR(SUM(I19:AR19)/SUM(I20:AR20),0) -> 1
H20: ='PANEL DE CONTROL DISTRITAL'!H19 -> Credenciales recibidas | I20: 0 | J20: 0 | K20: 0 | L20: 0 | M20: 0 | N20: 0 | O20: 0 | P20: 0 | Q20: 0 | R20: 0 | S20: 0 | T20: 0 | U20: 0 | V20: 310 | W20: 366 | X20: 329 | Y20: 275 | Z20: 347 | AA20: 493 | AB20: 85 | AC20: 316 | AD20: 1 | AE20: 0 | AF20: 217 | AG20: 752 | AH20: 968 | AI20: 1051 | AJ20: 958 | AK20: 1088 | AL20: 1009 | AM20: 1013 | AN20: 746 | AO20: 1179 | AP20: 997 | AQ20: 1056 | AR20: 822
A22: ='PANEL DE CONTROL DISTRITAL'!A21 -> 5 | B22: ='PANEL DE CONTROL DISTRITAL'!B21 -> Conciliación de Credenciales para Votar. | C22: ='PANEL DE CONTROL DISTRITAL'!C21 -> Responsable de Módulo | D22: ='PANEL DE CONTROL DISTRITAL'!D21 -> Arqueo de credenciales. | E22: ='PANEL DE CONTROL DISTRITAL'!E21 -> (Credenciales disponibles (físicas) / Credenciales disponibles registradas en SIIRFE-MAC) x 100 | F22: ='PANEL DE CONTROL DISTRITAL'!F21 -> Semanal (remesa) | G22: ='PANEL DE CONTROL DISTRITAL'!G21 -> 1 | H22: ='PANEL DE CONTROL DISTRITAL'!H21 -> Credenciales disponibles (físicas) | I22: 0 | J22: 0 | K22: 0 | L22: 0 | M22: 0 | N22: 0 | O22: 0 | P22: 0 | Q22: 0 | R22: 0 | S22: 0 | T22: 0 | U22: 0 | V22: 562 | W22: 602 | X22: 614 | Y22: 619 | Z22: 664 | AA22: 677 | AB22: 690 | AC22: 593 | AD22: 0 | AE22: 0 | AF22: 495 | AG22: 939 | AH22: 1255 | AI22: 1394 | AJ22: 1373 | AK22: 1431 | AL22: 1414 | AM22: 1485 | AN22: 1250 | AO22: 1392 | AP22: 1404 | AQ22: 1459 | AR22: 1308 | AS22: =IFERROR(SUM(I22:AR22)/SUM(I23:AR23),0) -> 1
H23: ='PANEL DE CONTROL DISTRITAL'!H22 -> Credenciales disponibles registradas en SIIRFE | I23: 0 | J23: 0 | K23: 0 | L23: 0 | M23: 0 | N23: 0 | O23: 0 | P23: 0 | Q23: 0 | R23: 0 | S23: 0 | T23: 0 | U23: 0 | V23: 562 | W23: 602 | X23: 614 | Y23: 619 | Z23: 664 | AA23: 677 | AB23: 690 | AC23: 593 | AD23: 0 | AE23: 0 | AF23: 495 | AG23: 939 | AH23: 1255 | AI23: 1394 | AJ23: 1373 | AK23: 1431 | AL23: 1414 | AM23: 1485 | AN23: 1250 | AO23: 1392 | AP23: 1404 | AQ23: 1459 | AR23: 1308
A25: ='PANEL DE CONTROL DISTRITAL'!A24 -> 6 | B25: ='PANEL DE CONTROL DISTRITAL'!B24 -> Entrega de la Credencial para Votar. | C25: ='PANEL DE CONTROL DISTRITAL'!C24 -> Operador de Equipo Tecnológico | D25: ='PANEL DE CONTROL DISTRITAL'!D24 -> Efectividad de entrega de CPV en MAC. | E25: ='PANEL DE CONTROL DISTRITAL'!E24 -> (Total de credenciales entregadas / Total de ciudadanas y ciudadanos que acuden al MAC a recoger su credencial) x 100 | F25: ='PANEL DE CONTROL DISTRITAL'!F24 -> Semanal (remesa) | G25: ='PANEL DE CONTROL DISTRITAL'!G24 -> 0.9 | H25: ='PANEL DE CONTROL DISTRITAL'!H24 -> Total de credenciales entregadas | I25: 0 | J25: 0 | K25: 0 | L25: 0 | M25: 0 | N25: 0 | O25: 0 | P25: 0 | Q25: 0 | R25: 0 | S25: 0 | T25: 0 | U25: 0 | V25: 257 | W25: 326 | X25: 317 | Y25: 270 | Z25: 302 | AA25: 480 | AB25: 72 | AC25: 413 | AD25: 441 | AE25: 0 | AF25: 19 | AG25: 308 | AH25: 651 | AI25: 912 | AJ25: 940 | AK25: 1016 | AL25: 1026 | AM25: 942 | AN25: 980 | AO25: 1031 | AP25: 985 | AQ25: 1001 | AR25: 972 | AS25: =IFERROR(SUM(I25:AR25)/SUM(I26:AR26),0) -> 0.99956099
H26: ='PANEL DE CONTROL DISTRITAL'!H25 -> Total de ciudadanos que acuden a MAC a recoger su credencial | I26: 0 | J26: 0 | K26: 0 | L26: 0 | M26: 0 | N26: 0 | O26: 0 | P26: 0 | Q26: 0 | R26: 0 | S26: 0 | T26: 0 | U26: 0 | V26: 257 | W26: 326 | X26: 317 | Y26: 270 | Z26: 302 | AA26: 480 | AB26: 72 | AC26: 413 | AD26: 441 | AE26: 0 | AF26: 19 | AG26: 308 | AH26: 651 | AI26: 912 | AJ26: 940 | AK26: 1018 | AL26: 1027 | AM26: 942 | AN26: 980 | AO26: 1031 | AP26: 985 | AQ26: 1001 | AR26: 975
B27: *Registre el valor nominal solicitado en la celda, el resultado proporcional esta automatizado.
I29: Semaforización
J30: Valor que requiere atención y justificación en el apartado de observaciones
J31: Valor suficiente
J32: Valor esperado
B34: CUADRO DE OBSERVACIONES
B35: Descripción | H35: No conformidad

Sheet 150551
A1: ='PANEL DE CONTROL DISTRITAL'!A1:Q1 -> INSTITUTO NACIONAL ELECTORAL SISTEMA DE GESTIÓN DE LA CALIDAD ESTADO DE MÉXICO
D2: Distrito | E2: 5 | F2: Módulo | H2: 150551
A4: TABLERO DE CONTROL DE PROCESOS SUSTANTIVOS DEL SISTEMA DE GESTIÓN DE LA CALIDAD
A6: ='PANEL DE CONTROL DISTRITAL'!A6 -> Número | B6: ='PANEL DE CONTROL DISTRITAL'!B6 -> PROCESOS SUSTANTIVOS E INDICADORES | I6: SEMANA OPERATIVA | AS6: % AVANCE REGISTRADO
B7: ='PANEL DE CONTROL DISTRITAL'!B7 -> DESCRIPCIÓN | E7: ='PANEL DE CONTROL DISTRITAL'!E7 -> MEDICIÓN | I7: ='PANEL DE CONTROL DISTRITAL'!A5 -> CAMPAÑA ANUAL PERMANENTE 2024
B9: ='PANEL DE CONTROL DISTRITAL'!B8 -> Proceso | C9: ='PANEL DE CONTROL DISTRITAL'!C8 -> Dueño de Proceso | D9: ='PANEL DE CONTROL DISTRITAL'!D8 -> Indicador | E9: ='PANEL DE CONTROL DISTRITAL'!E8 -> Cálculo | F9: ='PANEL DE CONTROL DISTRITAL'!F8 -> Periodo | G9: ='PANEL DE CONTROL DISTRITAL'!G8 -> Estimado | H9: ='PANEL DE CONTROL DISTRITAL'!H8 -> Nominativo | I9: ='150151'!I9 -> 2024-05 | J9: ='150151'!J9 -> 2024-06 | K9: ='150151'!K9 -> 2024-07 | L9: ='150151'!L9 -> 2024-08 | M9: ='150151'!M9 -> 2024-09 | N9: ='150151'!N9 -> 2024-10 | O9: ='150151'!O9 -> 2024-11 | P9: ='150151'!P9 -> 2024-12 | ... AR9: ='150151'!AR9 -> 2024-40
A10: ='PANEL DE CONTROL DISTRITAL'!A9 -> 1 | B10: ='PANEL DE CONTROL DISTRITAL'!B9 -> Entrevista | C10: ='PANEL DE CONTROL DISTRITAL'!C9 -> Auxiliar de Atención Ciudadana | D10: ='PANEL DE CONTROL DISTRITAL'!D9 -> Fichas requisitadas correctamente. | E10: ='PANEL DE CONTROL DISTRITAL'!E9 -> (Fichas requisitadas correctamente / Fichas revisadas en la muestra del 10%) x 100 | F10: ='PANEL DE CONTROL DISTRITAL'!F9 -> Semanal (remesa) | G10: ='PANEL DE CONTROL DISTRITAL'!G9 -> 0.9 | H10: ='PANEL DE CONTROL DISTRITAL'!H9 -> Fichas requistadas correctamente | I10: 0 | J10: 0 | K10: 0 | L10: 0 | M10: 0 | N10: 0 | O10: 0 | P10: 0 | Q10: 0 | R10: 0 | S10: 0 | T10: 0 | U10: 0 | V10: 19 | W10: 20 | X10: 18 | Y10: 19 | Z10: 25 | AA10: 37 | AB10: 10 | AC10: 0 | AD10: 0 | AE10: 0 | AF10: 26 | AG10: 36 | AH10: 51 | AI10: 53 | AJ10: 56 | AK10: 57 | AL10: 56 | AM10: 55 | AN10: 54 | AO10: 56 | AP10: 61 | AQ10: 59 | AR10: 54 | AS10: =IFERROR(SUM(I10:AR10)/SUM(I11:AR11),0) -> 1
H11: ='PANEL DE CONTROL DISTRITAL'!H10 -> Fichas revisadas en la Muestra del 10% | I11: 0 | J11: 0 | K11: 0 | L11: 0 | M11: 0 | N11: 0 | O11: 0 | P11: 0 | Q11: 0 | R11: 0 | S11: 0 | T11: 0 | U11: 0 | V11: 19 | W11: 20 | X11: 18 | Y11: 19 | Z11: 25 | AA11: 37 | AB11: 10 | AC11: 0 | AD11: 0 | AE11: 0 | AF11: 26 | AG11: 36 | AH11: 51 | AI11: 53 | AJ11: 56 | AK11: 57 | AL11: 56 | AM11: 55 | AN11: 54 | AO11: 56 | AP11: 61 | AQ11: 59 | AR11: 54
A13: ='PANEL DE CONTROL DISTRITAL'!A12 -> 2 | B13: ='PANEL DE CONTROL DISTRITAL'!B12 -> Trámite | C13: ='PANEL DE CONTROL DISTRITAL'!C12 -> Operador de Equipo Tecnológico | D13: ='PANEL DE CONTROL DISTRITAL'!D12 -> Trámites exitosos. | E13: ='PANEL DE CONTROL DISTRITAL'!E12 -> (Número de trámites exitosos / Número de trámites aplicados) x 100 | F13: ='PANEL DE CONTROL DISTRITAL'!F12 -> Semanal (remesa) | G13: ='PANEL DE CONTROL DISTRITAL'!G12 -> 0.9 | H13: ='PANEL DE CONTROL DISTRITAL'!H12 -> Número de trámites exitosos | I13: 0 | J13: 0 | K13: 0 | L13: 0 | M13: 0 | N13: 0 | O13: 0 | P13: 0 | Q13: 0 | R13: 0 | S13: 0 | T13: 0 | U13: 0 | V13: 189 | W13: 198 | X13: 179 | Y13: 188 | Z13: 252 | AA13: 367 | AB13: 103 | AC13: 0 | AD13: 0 | AE13: 0 | AF13: 262 | AG13: 369 | AH13: 516 | AI13: 532 | AJ13: 555 | AK13: 563 | AL13: 554 | AM13: 548 | AN13: 539 | AO13: 548 | AP13: 612 | AQ13: 592 | AR13: 547 | AS13: =IFERROR(SUM(I13:AR13)/SUM(I14:AR14),0) -> 0.99623969
H14: ='PANEL DE CONTROL DISTRITAL'!H13 -> Número de trámites aplicados | I14: 0 | J14: 0 | K14: 0 | L14: 0 | M14: 0 | N14: 0 | O14: 0 | P14: 0 | Q14: 0 | R14: 0 | S14: 0 | T14: 0 | U14: 0 | V14: 190 | W14: 198 | X14: 179 | Y14: 188 | Z14: 252 | AA14: 367 | AB14: 103 | AC14: 0 | AD14: 0 | AE14: 0 | AF14: 263 | AG14: 369 | AH14: 516 | AI14: 535 | AJ14: 556 | AK14: 568 | AL14: 558 | AM14: 549 | AN14: 542 | AO14: 555 | AP14: 614 | AQ14: 594 | AR14: 548
A16: ='PANEL DE CONTROL DISTRITAL'!A15 -> 3 | B16: ='PANEL DE CONTROL DISTRITAL'!B15 -> Transferencia de la Información. | C16: ='PANEL DE CONTROL DISTRITAL'!C15 -> Responsable de Módulo | D16: ='PANEL DE CONTROL DISTRITAL'!D15 -> Reenvíos exitosos. | E16: ='PANEL DE CONTROL DISTRITAL'!E15 -> (Ejecución de los scripts de reenvío de notificaciones / Solicitud de reenvíos de scripts requeridos) x100 | F16: ='PANEL DE CONTROL DISTRITAL'!F15 -> Semanal (remesa) | G16: ='PANEL DE CONTROL DISTRITAL'!G15 -> 1 | H16: ='PANEL DE CONTROL DISTRITAL'!H15 -> Ejecución de los scripts de reenvío de notificaciones | I16: 0 | J16: 0 | K16: 0 | L16: 0 | M16: 0 | N16: 0 | O16: 0 | P16: 0 | Q16: 0 | R16: 0 | S16: 0 | T16: 0 | U16: 0 | V16: 0 | W16: 0 | X16: 0 | Y16: 0 | Z16: 0 | AA16: 0 | AB16: 0 | AC16: 0 | AD16: 1 | AE16: 0 | AF16: 0 | AG16: 0 | AH16: 0 | AI16: 0 | AJ16: 0 | AK16: 0 | AL16: 0 | AM16: 0 | AN16: 0 | AO16: 0 | AP16: 0 | AQ16: 0 | AR16: 0 | AS16: =IFERROR(SUM(I16:AR16)/SUM(I17:AR17),1) -> 1
H17: ='PANEL DE CONTROL DISTRITAL'!H16 -> Solicitud de reevíos de scripts requeridos | I17: 0 | J17: 0 | K17: 0 | L17: 0 | M17: 0 | N17: 0 | O17: 0 | P17: 0 | Q17: 0 | R17: 0 | S17: 0 | T17: 0 | U17: 0 | V17: 0 | W17: 0 | X17: 0 | Y17: 0 | Z17: 0 | AA17: 0 | AB17: 0 | AC17: 0 | AD17: 1 | AE17: 0 | AF17: 0 | AG17: 0 | AH17: 0 | AI17: 0 | AJ17: 0 | AK17: 0 | AL17: 0 | AM17: 0 | AN17: 0 | AO17: 0 | AP17: 0 | AQ17: 0 | AR17: 0
A19: ='PANEL DE CONTROL DISTRITAL'!A18 -> 4 | B19: ='PANEL DE CONTROL DISTRITAL'!B18 -> Conciliación de Credenciales para Votar. | C19: ='PANEL DE CONTROL DISTRITAL'!C18 -> Responsable de Módulo | D19: ='PANEL DE CONTROL DISTRITAL'!D18 -> Credenciales disponibles para entrega. | E19: ='PANEL DE CONTROL DISTRITAL'!E18 -> [(Credenciales recibidas - Credenciales inconsistentes) / Credenciales recibidas] x 100 | F19: ='PANEL DE CONTROL DISTRITAL'!F18 -> Semanal (remesa) | G19: ='PANEL DE CONTROL DISTRITAL'!G18 -> 0.9 | H19: ='PANEL DE CONTROL DISTRITAL'!H18 -> Credenciales Recibidas - Credenciales inconsistentes | I19: 0 | J19: 0 | K19: 0 | L19: 0 | M19: 0 | N19: 0 | O19: 0 | P19: 0 | Q19: 0 | R19: 0 | S19: 0 | T19: 0 | U19: 0 | V19: 169 | W19: 191 | X19: 199 | Y19: 155 | Z19: 221 | AA19: 292 | AB19: 0 | AC19: 337 | AD19: 0 | AE19: 0 | AF19: 145 | AG19: 335 | AH19: 450 | AI19: 507 | AJ19: 546 | AK19: 549 | AL19: 551 | AM19: 566 | AN19: 448 | AO19: 651 | AP19: 571 | AQ19: 604 | AR19: 482 | AS19: =IFERROR(SUM(I19:AR19)/SUM(I20:AR20),0) -> 1
H20: ='PANEL DE CONTROL DISTRITAL'!H19 -> Credenciales recibidas | I20: 0 | J20: 0 | K20: 0 | L20: 0 | M20: 0 | N20: 0 | O20: 0 | P20: 0 | Q20: 0 | R20: 0 | S20: 0 | T20: 0 | U20: 0 | V20: 169 | W20: 191 | X20: 199 | Y20: 155 | Z20: 221 | AA20: 292 | AB20: 0 | AC20: 337 | AD20: 0 | AE20: 0 | AF20: 145 | AG20: 335 | AH20: 450 | AI20: 507 | AJ20: 546 | AK20: 549 | AL20: 551 | AM20: 566 | AN20: 448 | AO20: 651 | AP20: 571 | AQ20: 604 | AR20: 482
A22: ='PANEL DE CONTROL DISTRITAL'!A21 -> 5 | B22: ='PANEL DE CONTROL DISTRITAL'!B21 -> Conciliación de Credenciales para Votar. | C22: ='PANEL DE CONTROL DISTRITAL'!C21 -> Responsable de Módulo | D22: ='PANEL DE CONTROL DISTRITAL'!D21 -> Arqueo de credenciales. | E22: ='PANEL DE CONTROL DISTRITAL'!E21 -> (Credenciales disponibles (físicas) / Credenciales disponibles registradas en SIIRFE-MAC) x 100 | F22: ='PANEL DE CONTROL DISTRITAL'!F21 -> Semanal (remesa) | G22: ='PANEL DE CONTROL DISTRITAL'!G21 -> 1 | H22: ='PANEL DE CONTROL DISTRITAL'!H21 -> Credenciales disponibles (físicas) | I22: 0 | J22: 0 | K22: 0 | L22: 0 | M22: 0 | N22: 0 | O22: 0 | P22: 0 | Q22: 0 | R22: 0 | S22: 0 | T22: 0 | U22: 0 | V22: 238 | W22: 247 | X22: 256 | Y22: 259 | Z22: 305 | AA22: 336 | AB22: 254 | AC22: 321 | AD22: 0 | AE22: 0 | AF22: 357 | AG22: 538 | AH22: 688 | AI22: 786 | AJ22: 809 | AK22: 836 | AL22: 813 | AM22: 852 | AN22: 760 | AO22: 871 | AP22: 885 | AQ22: 924 | AR22: 807 | AS22: =IFERROR(SUM(I22:AR22)/SUM(I23:AR23),0) -> 1
H23: ='PANEL DE CONTROL DISTRITAL'!H22 -> Credenciales disponibles registradas en SIIRFE | I23: 0 | J23: 0 | K23: 0 | L23: 0 | M23: 0 | N23: 0 | O23: 0 | P23: 0 | Q23: 0 | R23: 0 | S23: 0 | T23: 0 | U23: 0 | V23: 238 | W23: 247 | X23: 256 | Y23: 259 | Z23: 305 | AA23: 336 | AB23: 254 | AC23: 321 | AD23: 0 | AE23: 0 | AF23: 357 | AG23: 538 | AH23: 688 | AI23: 786 | AJ23: 809 | AK23: 836 | AL23: 813 | AM23: 852 | AN23: 760 | AO23: 871 | AP23: 885 | AQ23: 924 | AR23: 807
A25: ='PANEL DE CONTROL DISTRITAL'!A24 -> 6 | B25: ='PANEL DE CONTROL DISTRITAL'!B24 -> Entrega de la Credencial para Votar. | C25: ='PANEL DE CONTROL DISTRITAL'!C24 -> Operador de Equipo Tecnológico | D25: ='PANEL DE CONTROL DISTRITAL'!D24 -> Efectividad de entrega de CPV en MAC. | E25: ='PANEL DE CONTROL DISTRITAL'!E24 -> (Total de credenciales entregadas / Total de ciudadanas y ciudadanos que acuden al MAC a recoger su credencial) x 100 | F25: ='PANEL DE CONTROL DISTRITAL'!F24 -> Semanal (remesa) | G25: ='PANEL DE CONTROL DISTRITAL'!G24 -> 0.9 | H25: ='PANEL DE CONTROL DISTRITAL'!H24 -> Total de credenciales entregadas | I25: 0 | J25: 0 | K25: 0 | L25: 0 | M25: 0 | N25: 0 | O25: 0 | P25: 0 | Q25: 0 | R25: 0 | S25: 0 | T25: 0 | U25: 0 | V25: 156 | W25: 182 | X25: 190 | Y25: 152 | Z25: 175 | AA25: 261 | AB25: 82 | AC25: 270 | AD25: 207 | AE25: 0 | AF25: 14 | AG25: 154 | AH25: 300 | AI25: 409 | AJ25: 506 | AK25: 522 | AL25: 574 | AM25: 527 | AN25: 540 | AO25: 535 | AP25: 557 | AQ25: 565 | AR25: 599 | AS25: =IFERROR(SUM(I25:AR25)/SUM(I26:AR26),0) -> 0.99919818
H26: ='PANEL DE CONTROL DISTRITAL'!H25 -> Total de ciudadanos que acuden a MAC a recoger su credencial | I26: 0 | J26: 0 | K26: 0 | L26: 0 | M26: 0 | N26: 0 | O26: 0 | P26: 0 | Q26: 0 | R26: 0 | S26: 0 | T26: 0 | U26: 0 | V26: 156 | W26: 182 | X26: 190 | Y26: 152 | Z26: 175 | AA26: 261 | AB26: 82 | AC26: 270 | AD26: 207 | AE26: 0 | AF26: 14 | AG26: 154 | AH26: 300 | AI26: 410 | AJ26: 507 | AK26: 522 | AL26: 574 | AM26: 527 | AN26: 540 | AO26: 535 | AP26: 558 | AQ26: 568 | AR26: 599
B27: *Registre el valor nominal solicitado en la celda, el resultado proporcional esta automatizado.
I29: Semaforización
J30: Valor que requiere atención y justificación en el apartado de observaciones
J31: Valor suficiente
J32: Valor esperado
B34: CUADRO DE OBSERVACIONES
B35: Descripción | H35: No conformidad

Sheet 150651
A1: ='PANEL DE CONTROL DISTRITAL'!A1:Q1 -> INSTITUTO NACIONAL ELECTORAL SISTEMA DE GESTIÓN DE LA CALIDAD ESTADO DE MÉXICO
D2: Distrito | E2: 6 | F2: Módulo | H2: 150651
A4: TABLERO DE CONTROL DE PROCESOS SUSTANTIVOS DEL SISTEMA DE GESTIÓN DE LA CALIDAD
A6: ='PANEL DE CONTROL DISTRITAL'!A6 -> Número | B6: ='PANEL DE CONTROL DISTRITAL'!B6 -> PROCESOS SUSTANTIVOS E INDICADORES | I6: SEMANA OPERATIVA | AS6: % AVANCE REGISTRADO
B7: ='PANEL DE CONTROL DISTRITAL'!B7 -> DESCRIPCIÓN | E7: ='PANEL DE CONTROL DISTRITAL'!E7 -> MEDICIÓN | I7: ='PANEL DE CONTROL DISTRITAL'!A5 -> CAMPAÑA ANUAL PERMANENTE 2024
B9: ='PANEL DE CONTROL DISTRITAL'!B8 -> Proceso | C9: ='PANEL DE CONTROL DISTRITAL'!C8 -> Dueño de Proceso | D9: ='PANEL DE CONTROL DISTRITAL'!D8 -> Indicador | E9: ='PANEL DE CONTROL DISTRITAL'!E8 -> Cálculo | F9: ='PANEL DE CONTROL DISTRITAL'!F8 -> Periodo | G9: ='PANEL DE CONTROL DISTRITAL'!G8 -> Estimado | H9: ='PANEL DE CONTROL DISTRITAL'!H8 -> Nominativo | I9: ='150151'!I9 -> 2024-05 | J9: ='150151'!J9 -> 2024-06 | K9: ='150151'!K9 -> 2024-07 | L9: ='150151'!L9 -> 2024-08 | M9: ='150151'!M9 -> 2024-09 | N9: ='150151'!N9 -> 2024-10 | O9: ='150151'!O9 -> 2024-11 | P9: ='150151'!P9 -> 2024-12 | ... AR9: ='150151'!AR9 -> 2024-40
A10: ='PANEL DE CONTROL DISTRITAL'!A9 -> 1 | B10: ='PANEL DE CONTROL DISTRITAL'!B9 -> Entrevista | C10: ='PANEL DE CONTROL DISTRITAL'!C9 -> Auxiliar de Atención Ciudadana | D10: ='PANEL DE CONTROL DISTRITAL'!D9 -> Fichas requisitadas correctamente. | E10: ='PANEL DE CONTROL DISTRITAL'!E9 -> (Fichas requisitadas correctamente / Fichas revisadas en la muestra del 10%) x 100 | F10: ='PANEL DE CONTROL DISTRITAL'!F9 -> Semanal (remesa) | G10: ='PANEL DE CONTROL DISTRITAL'!G9 -> 0.9 | H10: ='PANEL DE CONTROL DISTRITAL'!H9 -> Fichas requistadas correctamente | I10: 0 | J10: 0 | K10: 0 | L10: 0 | M10: 0 | N10: 0 | O10: 0 | P10: 0 | Q10: 0 | R10: 0 | S10: 0 | T10: 0 | U10: 0 | V10: 24 | W10: 21 | X10: 26 | Y10: 25 | Z10: 32 | AA10: 49 | AB10: 20 | AC10: 0 | AD10: 0 | AE10: 0 | AF10: 32 | AG10: 64 | AH10: 88 | AI10: 82 | AJ10: 123 | AK10: 124 | AL10: 119 | AM10: 122 | AN10: 120 | AO10: 111 | AP10: 114 | AQ10: 99 | AR10: 94 | AS10: =IFERROR(SUM(I10:AR10)/SUM(I11:AR11),0) -> 1
H11: ='PANEL DE CONTROL DISTRITAL'!H10 -> Fichas revisadas en la Muestra del 10% | I11: 0 | J11: 0 | K11: 0 | L11: 0 | M11: 0 | N11: 0 | O11: 0 | P11: 0 | Q11: 0 | R11: 0 | S11: 0 | T11: 0 | U11: 0 | V11: 24 | W11: 21 | X11: 26 | Y11: 25 | Z11: 32 | AA11: 49 | AB11: 20 | AC11: 0 | AD11: 0 | AE11: 0 | AF11: 32 | AG11: 64 | AH11: 88 | AI11: 82 | AJ11: 123 | AK11: 124 | AL11: 119 | AM11: 122 | AN11: 120 | AO11: 111 | AP11: 114 | AQ11: 99 | AR11: 94
A13: ='PANEL DE CONTROL DISTRITAL'!A12 -> 2 | B13: ='PANEL DE CONTROL DISTRITAL'!B12 -> Trámite | C13: ='PANEL DE CONTROL DISTRITAL'!C12 -> Operador de Equipo Tecnológico | D13: ='PANEL DE CONTROL DISTRITAL'!D12 -> Trámites exitosos. | E13: ='PANEL DE CONTROL DISTRITAL'!E12 -> (Número de trámites exitosos / Número de trámites aplicados) x 100 | F13: ='PANEL DE CONTROL DISTRITAL'!F12 -> Semanal (remesa) | G13: ='PANEL DE CONTROL DISTRITAL'!G12 -> 0.9 | H13: ='PANEL DE CONTROL DISTRITAL'!H12 -> Número de trámites exitosos | I13: 0 | J13: 0 | K13: 0 | L13: 0 | M13: 0 | N13: 0 | O13: 0 | P13: 0 | Q13: 0 | R13: 0 | S13: 0 | T13: 0 | U13: 0 | V13: 245 | W13: 217 | X13: 265 | Y13: 250 | Z13: 324 | AA13: 493 | AB13: 201 | AC13: 0 | AD13: 0 | AE13: 0 | AF13: 327 | AG13: 646 | AH13: 879 | AI13: 827 | AJ13: 1234 | AK13: 1241 | AL13: 1187 | AM13: 1224 | AN13: 1195 | AO13: 1116 | AP13: 1141 | AQ13: 990 | AR13: 944 | AS13: =IFERROR(SUM(I13:AR13)/SUM(I14:AR14),0) -> 0.99746396
H14: ='PANEL DE CONTROL DISTRITAL'!H13 -> Número de trámites aplicados | I14: 0 | J14: 0 | K14: 0 | L14: 0 | M14: 0 | N14: 0 | O14: 0 | P14: 0 | Q14: 0 | R14: 0 | S14: 0 | T14: 0 | U14: 0 | V14: 245 | W14: 217 | X14: 266 | Y14: 250 | Z14: 324 | AA14: 493 | AB14: 201 | AC14: 0 | AD14: 0 | AE14: 0 | AF14: 327 | AG14: 648 | AH14: 885 | AI14: 828 | AJ14: 1238 | AK14: 1246 | AL14: 1191 | AM14: 1227 | AN14: 1201 | AO14: 1117 | AP14: 1141 | AQ14: 992 | AR14: 947
A16: ='PANEL DE CONTROL DISTRITAL'!A15 -> 3 | B16: ='PANEL DE CONTROL DISTRITAL'!B15 -> Transferencia de la Información. | C16: ='PANEL DE CONTROL DISTRITAL'!C15 -> Responsable de Módulo | D16: ='PANEL DE CONTROL DISTRITAL'!D15 -> Reenvíos exitosos. | E16: ='PANEL DE CONTROL DISTRITAL'!E15 -> (Ejecución de los scripts de reenvío de notificaciones / Solicitud de reenvíos de scripts requeridos) x100 | F16: ='PANEL DE CONTROL DISTRITAL'!F15 -> Semanal (remesa) | G16: ='PANEL DE CONTROL DISTRITAL'!G15 -> 1 | H16: ='PANEL DE CONTROL DISTRITAL'!H15 -> Ejecución de los scripts de reenvío de notificaciones | I16: 0 | J16: 0 | K16: 0 | L16: 0 | M16: 0 | N16: 0 | O16: 0 | P16: 0 | Q16: 0 | R16: 0 | S16: 0 | T16: 0 | U16: 0 | V16: 0 | W16: 0 | X16: 1 | Y16: 2 | Z16: 0 | AA16: 1 | AB16: 0 | AC16: 0 | AD16: 1 | AE16: 0 | AF16: 0 | AG16: 0 | AH16: 0 | AI16: 0 | AJ16: 1 | AK16: 1 | AL16: 1 | AM16: 0 | AN16: 0 | AO16: 1 | AP16: 1 | AQ16: 1 | AR16: 1 | AS16: =IFERROR(SUM(I16:AR16)/SUM(I17:AR17),1) -> 1
H17: ='PANEL DE CONTROL DISTRITAL'!H16 -> Solicitud de reevíos de scripts requeridos | I17: 0 | J17: 0 | K17: 0 | L17: 0 | M17: 0 | N17: 0 | O17: 0 | P17: 0 | Q17: 0 | R17: 0 | S17: 0 | T17: 0 | U17: 0 | V17: 0 | W17: 0 | X17: 1 | Y17: 2 | Z17: 0 | AA17: 1 | AB17: 0 | AC17: 0 | AD17: 1 | AE17: 0 | AF17: 0 | AG17: 0 | AH17: 0 | AI17: 0 | AJ17: 1 | AK17: 1 | AL17: 1 | AM17: 0 | AN17: 0 | AO17: 1 | AP17: 1 | AQ17: 1 | AR17: 1
A19: ='PANEL DE CONTROL DISTRITAL'!A18 -> 4 | B19: ='PANEL DE CONTROL DISTRITAL'!B18 -> Conciliación de Credenciales para Votar. | C19: ='PANEL DE CONTROL DISTRITAL'!C18 -> Responsable de Módulo | D19: ='PANEL DE CONTROL DISTRITAL'!D18 -> Credenciales disponibles para entrega. | E19: ='PANEL DE CONTROL DISTRITAL'!E18 -> [(Credenciales recibidas - Credenciales inconsistentes) / Credenciales recibidas] x 100 | F19: ='PANEL DE CONTROL DISTRITAL'!F18 -> Semanal (remesa) | G19: ='PANEL DE CONTROL DISTRITAL'!G18 -> 0.9 | H19: ='PANEL DE CONTROL DISTRITAL'!H18 -> Credenciales Recibidas - Credenciales inconsistentes | I19: 0 | J19: 0 | K19: 0 | L19: 0 | M19: 0 | N19: 0 | O19: 0 | P19: 0 | Q19: 0 | R19: 0 | S19: 0 | T19: 0 | U19: 0 | V19: 260 | W19: 230 | X19: 255 | Y19: 199 | Z19: 335 | AA19: 388 | AB19: 94 | AC19: 341 | AD19: 0 | AE19: 0 | AF19: 203 | AG19: 545 | AH19: 743 | AI19: 807 | AJ19: 1006 | AK19: 1274 | AL19: 1218 | AM19: 1239 | AN19: 964 | AO19: 1391 | AP19: 1138 | AQ19: 1052 | AR19: 794 | AS19: =IFERROR(SUM(I19:AR19)/SUM(I20:AR20),0) -> 1
H20: ='PANEL DE CONTROL DISTRITAL'!H19 -> Credenciales recibidas | I20: 0 | J20: 0 | K20: 0 | L20: 0 | M20: 0 | N20: 0 | O20: 0 | P20: 0 | Q20: 0 | R20: 0 | S20: 0 | T20: 0 | U20: 0 | V20: 260 | W20: 230 | X20: 255 | Y20: 199 | Z20: 335 | AA20: 388 | AB20: 94 | AC20: 341 | AD20: 0 | AE20: 0 | AF20: 203 | AG20: 545 | AH20: 743 | AI20: 807 | AJ20: 1006 | AK20: 1274 | AL20: 1218 | AM20: 1239 | AN20: 964 | AO20: 1391 | AP20: 1138 | AQ20: 1052 | AR20: 794
A22: ='PANEL DE CONTROL DISTRITAL'!A21 -> 5 | B22: ='PANEL DE CONTROL DISTRITAL'!B21 -> Conciliación de Credenciales para Votar. | C22: ='PANEL DE CONTROL DISTRITAL'!C21 -> Responsable de Módulo | D22: ='PANEL DE CONTROL DISTRITAL'!D21 -> Arqueo de credenciales. | E22: ='PANEL DE CONTROL DISTRITAL'!E21 -> (Credenciales disponibles (físicas) / Credenciales disponibles registradas en SIIRFE-MAC) x 100 | F22: ='PANEL DE CONTROL DISTRITAL'!F21 -> Semanal (remesa) | G22: ='PANEL DE CONTROL DISTRITAL'!G21 -> 1 | H22: ='PANEL DE CONTROL DISTRITAL'!H21 -> Credenciales disponibles (físicas) | I22: 0 | J22: 0 | K22: 0 | L22: 0 | M22: 0 | N22: 0 | O22: 0 | P22: 0 | Q22: 0 | R22: 0 | S22: 0 | T22: 0 | U22: 0 | V22: 407 | W22: 381 | X22: 413 | Y22: 323 | Z22: 420 | AA22: 400 | AB22: 388 | AC22: 252 | AD22: 0 | AE22: 0 | AF22: 606 | AG22: 928 | AH22: 1199 | AI22: 1332 | AJ22: 1471 | AK22: 1817 | AL22: 1836 | AM22: 1875 | AN22: 1681 | AO22: 1876 | AP22: 1847 | AQ22: 1744 | AR22: 1480 | AS22: =IFERROR(SUM(I22:AR22)/SUM(I23:AR23),0) -> 1
H23: ='PANEL DE CONTROL DISTRITAL'!H22 -> Credenciales disponibles registradas en SIIRFE | I23: 0 | J23: 0 | K23: 0 | L23: 0 | M23: 0 | N23: 0 | O23: 0 | P23: 0 | Q23: 0 | R23: 0 | S23: 0 | T23: 0 | U23: 0 | V23: 407 | W23: 381 | X23: 413 | Y23: 323 | Z23: 420 | AA23: 400 | AB23: 388 | AC23: 252 | AD23: 0 | AE23: 0 | AF23: 606 | AG23: 928 | AH23: 1199 | AI23: 1332 | AJ23: 1471 | AK23: 1817 | AL23: 1836 | AM23: 1875 | AN23: 1681 | AO23: 1876 | AP23: 1847 | AQ23: 1744 | AR23: 1480
A25: ='PANEL DE CONTROL DISTRITAL'!A24 -> 6 | B25: ='PANEL DE CONTROL DISTRITAL'!B24 -> Entrega de la Credencial para Votar. | C25: ='PANEL DE CONTROL DISTRITAL'!C24 -> Operador de Equipo Tecnológico | D25: ='PANEL DE CONTROL DISTRITAL'!D24 -> Efectividad de entrega de CPV en MAC. | E25: ='PANEL DE CONTROL DISTRITAL'!E24 -> (Total de credenciales entregadas / Total de ciudadanas y ciudadanos que acuden al MAC a recoger su credencial) x 100 | F25: ='PANEL DE CONTROL DISTRITAL'!F24 -> Semanal (remesa) | G25: ='PANEL DE CONTROL DISTRITAL'!G24 -> 0.9 | H25: ='PANEL DE CONTROL DISTRITAL'!H24 -> Total de credenciales entregadas | I25: 0 | J25: 0 | K25: 0 | L25: 0 | M25: 0 | N25: 0 | O25: 0 | P25: 0 | Q25: 0 | R25: 0 | S25: 0 | T25: 0 | U25: 0 | V25: 257 | W25: 256 | X25: 223 | Y25: 289 | Z25: 238 | AA25: 408 | AB25: 106 | AC25: 477 | AD25: 116 | AE25: 0 | AF25: 10 | AG25: 223 | AH25: 472 | AI25: 674 | AJ25: 828 | AK25: 927 | AL25: 1199 | AM25: 1200 | AN25: 1158 | AO25: 1187 | AP25: 1167 | AQ25: 1155 | AR25: 1058 | AS25: =IFERROR(SUM(I25:AR25)/SUM(I26:AR26),0) -> 0.99992663
H26: ='PANEL DE CONTROL DISTRITAL'!H25 -> Total de ciudadanos que acuden a MAC a recoger su credencial | I26: 0 | J26: 0 | K26: 0 | L26: 0 | M26: 0 | N26: 0 | O26: 0 | P26: 0 | Q26: 0 | R26: 0 | S26: 0 | T26: 0 | U26: 0 | V26: 257 | W26: 256 | X26: 223 | Y26: 289 | Z26: 238 | AA26: 408 | AB26: 106 | AC26: 477 | AD26: 116 | AE26: 0 | AF26: 10 | AG26: 223 | AH26: 472 | AI26: 674 | AJ26: 828 | AK26: 927 | AL26: 1199 | AM26: 1200 | AN26: 1158 | AO26: 1187 | AP26: 1167 | AQ26: 1155 | AR26: 1059
B27: *Registre el valor nominal solicitado en la celda, el resultado proporcional esta automatizado.
I29: Semaforización
J30: Valor que requiere atención y justificación en el apartado de observaciones
J31: Valor suficiente
J32: Valor esperado
B34: CUADRO DE OBSERVACIONES
B35: Descripción | H35: No conformidad

Sheet 150652
A1: ='PANEL DE CONTROL DISTRITAL'!A1:Q1 -> INSTITUTO NACIONAL ELECTORAL SISTEMA DE GESTIÓN DE LA CALIDAD ESTADO DE MÉXICO
D2: Distrito | E2: 6 | F2: Módulo | H2: 150652
A4: TABLERO DE CONTROL DE PROCESOS SUSTANTIVOS DEL SISTEMA DE GESTIÓN DE LA CALIDAD
A6: ='PANEL DE CONTROL DISTRITAL'!A6 -> Número | B6: ='PANEL DE CONTROL DISTRITAL'!B6 -> PROCESOS SUSTANTIVOS E INDICADORES | I6: SEMANA OPERATIVA | AS6: % AVANCE REGISTRADO
B7: ='PANEL DE CONTROL DISTRITAL'!B7 -> DESCRIPCIÓN | E7: ='PANEL DE CONTROL DISTRITAL'!E7 -> MEDICIÓN | I7: ='PANEL DE CONTROL DISTRITAL'!A5 -> CAMPAÑA ANUAL PERMANENTE 2024
B9: ='PANEL DE CONTROL DISTRITAL'!B8 -> Proceso | C9: ='PANEL DE CONTROL DISTRITAL'!C8 -> Dueño de Proceso | D9: ='PANEL DE CONTROL DISTRITAL'!D8 -> Indicador | E9: ='PANEL DE CONTROL DISTRITAL'!E8 -> Cálculo | F9: ='PANEL DE CONTROL DISTRITAL'!F8 -> Periodo | G9: ='PANEL DE CONTROL DISTRITAL'!G8 -> Estimado | H9: ='PANEL DE CONTROL DISTRITAL'!H8 -> Nominativo | I9: ='150151'!I9 -> 2024-05 | J9: ='150151'!J9 -> 2024-06 | K9: ='150151'!K9 -> 2024-07 | L9: ='150151'!L9 -> 2024-08 | M9: ='150151'!M9 -> 2024-09 | N9: ='150151'!N9 -> 2024-10 | O9: ='150151'!O9 -> 2024-11 | P9: ='150151'!P9 -> 2024-12 | ... AR9: ='150151'!AR9 -> 2024-40
A10: ='PANEL DE CONTROL DISTRITAL'!A9 -> 1 | B10: ='PANEL DE CONTROL DISTRITAL'!B9 -> Entrevista | C10: ='PANEL DE CONTROL DISTRITAL'!C9 -> Auxiliar de Atención Ciudadana | D10: ='PANEL DE CONTROL DISTRITAL'!D9 -> Fichas requisitadas correctamente. | E10: ='PANEL DE CONTROL DISTRITAL'!E9 -> (Fichas requisitadas correctamente / Fichas revisadas en la muestra del 10%) x 100 | F10: ='PANEL DE CONTROL DISTRITAL'!F9 -> Semanal (remesa) | G10: ='PANEL DE CONTROL DISTRITAL'!G9 -> 0.9 | H10: ='PANEL DE CONTROL DISTRITAL'!H9 -> Fichas requistadas correctamente | I10: 0 | J10: 0 | K10: 0 | L10: 0 | M10: 0 | N10: 0 | O10: 0 | P10: 0 | Q10: 0 | R10: 0 | S10: 0 | T10: 0 | U10: 0 | V10: 12 | W10: 13 | X10: 13 | Y10: 11 | Z10: 17 | AA10: 23 | AB10: 9 | AC10: 0 | AD10: 0 | AE10: 0 | AF10: 25 | AG10: 32 | AH10: 61 | AI10: 52 | AJ10: 53 | AK10: 56 | AL10: 54 | AM10: 54 | AN10: 46 | AO10: 40 | AP10: 46 | AQ10: 42 | AR10: 41 | AS10: =IFERROR(SUM(I10:AR10)/SUM(I11:AR11),0) -> 1
H11: ='PANEL DE CONTROL DISTRITAL'!H10 -> Fichas revisadas en la Muestra del 10% | I11: 0 | J11: 0 | K11: 0 | L11: 0 | M11: 0 | N11: 0 | O11: 0 | P11: 0 | Q11: 0 | R11: 0 | S11: 0 | T11: 0 | U11: 0 | V11: 12 | W11: 13 | X11: 13 | Y11: 11 | Z11: 17 | AA11: 23 | AB11: 9 | AC11: 0 | AD11: 0 | AE11: 0 | AF11: 25 | AG11: 32 | AH11: 61 | AI11: 52 | AJ11: 53 | AK11: 56 | AL11: 54 | AM11: 54 | AN11: 46 | AO11: 40 | AP11: 46 | AQ11: 42 | AR11: 41
A13: ='PANEL DE CONTROL DISTRITAL'!A12 -> 2 | B13: ='PANEL DE CONTROL DISTRITAL'!B12 -> Trámite | C13: ='PANEL DE CONTROL DISTRITAL'!C12 -> Operador de Equipo Tecnológico | D13: ='PANEL DE CONTROL DISTRITAL'!D12 -> Trámites exitosos. | E13: ='PANEL DE CONTROL DISTRITAL'!E12 -> (Número de trámites exitosos / Número de trámites aplicados) x 100 | F13: ='PANEL DE CONTROL DISTRITAL'!F12 -> Semanal (remesa) | G13: ='PANEL DE CONTROL DISTRITAL'!G12 -> 0.9 | H13: ='PANEL DE CONTROL DISTRITAL'!H12 -> Número de trámites exitosos | I13: 0 | J13: 0 | K13: 0 | L13: 0 | M13: 0 | N13: 0 | O13: 0 | P13: 0 | Q13: 0 | R13: 0 | S13: 0 | T13: 0 | U13: 0 | V13: 124 | W13: 137 | X13: 139 | Y13: 118 | Z13: 173 | AA13: 236 | AB13: 91 | AC13: 0 | AD13: 0 | AE13: 0 | AF13: 259 | AG13: 328 | AH13: 613 | AI13: 521 | AJ13: 534 | AK13: 533 | AL13: 525 | AM13: 509 | AN13: 463 | AO13: 406 | AP13: 469 | AQ13: 427 | AR13: 405 | AS13: =IFERROR(SUM(I13:AR13)/SUM(I14:AR14),0) -> 0.99758076
H14: ='PANEL DE CONTROL DISTRITAL'!H13 -> Número de trámites aplicados | I14: 0 | J14: 0 | K14: 0 | L14: 0 | M14: 0 | N14: 0 | O14: 0 | P14: 0 | Q14: 0 | R14: 0 | S14: 0 | T14: 0 | U14: 0 | V14: 124 | W14: 137 | X14: 139 | Y14: 118 | Z14: 174 | AA14: 236 | AB14: 91 | AC14: 0 | AD14: 0 | AE14: 0 | AF14: 259 | AG14: 328 | AH14: 613 | AI14: 525 | AJ14: 536 | AK14: 533 | AL14: 525 | AM14: 511 | AN14: 465 | AO14: 409 | AP14: 469 | AQ14: 429 | AR14: 406
A16: ='PANEL DE CONTROL DISTRITAL'!A15 -> 3 | B16: ='PANEL DE CONTROL DISTRITAL'!B15 -> Transferencia de la Información. | C16: ='PANEL DE CONTROL DISTRITAL'!C15 -> Responsable de Módulo | D16: ='PANEL DE CONTROL DISTRITAL'!D15 -> Reenvíos exitosos. | E16: ='PANEL DE CONTROL DISTRITAL'!E15 -> (Ejecución de los scripts de reenvío de notificaciones / Solicitud de reenvíos de scripts requeridos) x100 | F16: ='PANEL DE CONTROL DISTRITAL'!F15 -> Semanal (remesa) | G16: ='PANEL DE CONTROL DISTRITAL'!G15 -> 1 | H16: ='PANEL DE CONTROL DISTRITAL'!H15 -> Ejecución de los scripts de reenvío de notificaciones | I16: 0 | J16: 0 | K16: 0 | L16: 0 | M16: 0 | N16: 0 | O16: 0 | P16: 0 | Q16: 0 | R16: 0 | S16: 0 | T16: 0 | U16: 0 | V16: 0 | W16: 0 | X16: 0 | Y16: 0 | Z16: 0 | AA16: 0 | AB16: 0 | AC16: 0 | AD16: 0 | AE16: 0 | AF16: 0 | AG16: 0 | AH16: 0 | AI16: 0 | AJ16: 0 | AK16: 1 | AL16: 1 | AM16: 1 | AN16: 0 | AO16: 1 | AP16: 1 | AQ16: 1 | AR16: 1 | AS16: =IFERROR(SUM(I16:AR16)/SUM(I17:AR17),1) -> 1
H17: ='PANEL DE CONTROL DISTRITAL'!H16 -> Solicitud de reevíos de scripts requeridos | I17: 0 | J17: 0 | K17: 0 | L17: 0 | M17: 0 | N17: 0 | O17: 0 | P17: 0 | Q17: 0 | R17: 0 | S17: 0 | T17: 0 | U17: 0 | V17: 0 | W17: 0 | X17: 0 | Y17: 0 | Z17: 0 | AA17: 0 | AB17: 0 | AC17: 0 | AD17: 0 | AE17: 0 | AF17: 0 | AG17: 0 | AH17: 0 | AI17: 0 | AJ17: 0 | AK17: 1 | AL17: 1 | AM17: 1 | AN17: 0 | AO17: 1 | AP17: 1 | AQ17: 1 | AR17: 1
A19: ='PANEL DE CONTROL DISTRITAL'!A18 -> 4 | B19: ='PANEL DE CONTROL DISTRITAL'!B18 -> Conciliación de Credenciales para Votar. | C19: ='PANEL DE CONTROL DISTRITAL'!C18 -> Responsable de Módulo | D19: ='PANEL DE CONTROL DISTRITAL'!D18 -> Credenciales disponibles para entrega. | E19: ='PANEL DE CONTROL DISTRITAL'!E18 -> [(Credenciales recibidas - Credenciales inconsistentes) / Credenciales recibidas] x 100 | F19: ='PANEL DE CONTROL DISTRITAL'!F18 -> Semanal (remesa) | G19: ='PANEL DE CONTROL DISTRITAL'!G18 -> 0.9 | H19: ='PANEL DE CONTROL DISTRITAL'!H18 -> Credenciales Recibidas - Credenciales inconsistentes | I19: 0 | J19: 0 | K19: 0 | L19: 0 | M19: 0 | N19: 0 | O19: 0 | P19: 0 | Q19: 0 | R19: 0 | S19: 0 | T19: 0 | U19: 0 | V19: 114 | W19: 138 | X19: 130 | Y19: 112 | Z19: 169 | AA19: 201 | AB19: 0 | AC19: 190 | AD19: 0 | AE19: 0 | AF19: 150 | AG19: 317 | AH19: 461 | AI19: 564 | AJ19: 500 | AK19: 467 | AL19: 611 | AM19: 539 | AN19: 394 | AO19: 494 | AP19: 449 | AQ19: 451 | AR19: 313 | AS19: =IFERROR(SUM(I19:AR19)/SUM(I20:AR20),0) -> 1
H20: ='PANEL DE CONTROL DISTRITAL'!H19 -> Credenciales recibidas | I20: 0 | J20: 0 | K20: 0 | L20: 0 | M20: 0 | N20: 0 | O20: 0 | P20: 0 | Q20: 0 | R20: 0 | S20: 0 | T20: 0 | U20: 0 | V20: 114 | W20: 138 | X20: 130 | Y20: 112 | Z20: 169 | AA20: 201 | AB20: 0 | AC20: 190 | AD20: 0 | AE20: 0 | AF20: 150 | AG20: 317 | AH20: 461 | AI20: 564 | AJ20: 500 | AK20: 467 | AL20: 611 | AM20: 539 | AN20: 394 | AO20: 494 | AP20: 449 | AQ20: 451 | AR20: 313
A22: ='PANEL DE CONTROL DISTRITAL'!A21 -> 5 | B22: ='PANEL DE CONTROL DISTRITAL'!B21 -> Conciliación de Credenciales para Votar. | C22: ='PANEL DE CONTROL DISTRITAL'!C21 -> Responsable de Módulo | D22: ='PANEL DE CONTROL DISTRITAL'!D21 -> Arqueo de credenciales. | E22: ='PANEL DE CONTROL DISTRITAL'!E21 -> (Credenciales disponibles (físicas) / Credenciales disponibles registradas en SIIRFE-MAC) x 100 | F22: ='PANEL DE CONTROL DISTRITAL'!F21 -> Semanal (remesa) | G22: ='PANEL DE CONTROL DISTRITAL'!G21 -> 1 | H22: ='PANEL DE CONTROL DISTRITAL'!H21 -> Credenciales disponibles (físicas) | I22: 0 | J22: 0 | K22: 0 | L22: 0 | M22: 0 | N22: 0 | O22: 0 | P22: 0 | Q22: 0 | R22: 0 | S22: 0 | T22: 0 | U22: 0 | V22: 238 | W22: 250 | X22: 186 | Y22: 170 | Z22: 218 | AA22: 200 | AB22: 177 | AC22: 156 | AD22: 0 | AE22: 0 | AF22: 353 | AG22: 540 | AH22: 684 | AI22: 831 | AJ22: 792 | AK22: 754 | AL22: 840 | AM22: 860 | AN22: 721 | AO22: 720 | AP22: 732 | AQ22: 727 | AR22: 615 | AS22: =IFERROR(SUM(I22:AR22)/SUM(I23:AR23),0) -> 1
H23: ='PANEL DE CONTROL DISTRITAL'!H22 -> Credenciales disponibles registradas en SIIRFE | I23: 0 | J23: 0 | K23: 0 | L23: 0 | M23: 0 | N23: 0 | O23: 0 | P23: 0 | Q23: 0 | R23: 0 | S23: 0 | T23: 0 | U23: 0 | V23: 238 | W23: 250 | X23: 186 | Y23: 170 | Z23: 218 | AA23: 200 | AB23: 177 | AC23: 156 | AD23: 0 | AE23: 0 | AF23: 353 | AG23: 540 | AH23: 684 | AI23: 831 | AJ23: 792 | AK23: 754 | AL23: 840 | AM23: 860 | AN23: 721 | AO23: 720 | AP23: 732 | AQ23: 727 | AR23: 615
A25: ='PANEL DE CONTROL DISTRITAL'!A24 -> 6 | B25: ='PANEL DE CONTROL DISTRITAL'!B24 -> Entrega de la Credencial para Votar. | C25: ='PANEL DE CONTROL DISTRITAL'!C24 -> Operador de Equipo Tecnológico | D25: ='PANEL DE CONTROL DISTRITAL'!D24 -> Efectividad de entrega de CPV en MAC. | E25: ='PANEL DE CONTROL DISTRITAL'!E24 -> (Total de credenciales entregadas / Total de ciudadanas y ciudadanos que acuden al MAC a recoger su credencial) x 100 | F25: ='PANEL DE CONTROL DISTRITAL'!F24 -> Semanal (remesa) | G25: ='PANEL DE CONTROL DISTRITAL'!G24 -> 0.9 | H25: ='PANEL DE CONTROL DISTRITAL'!H24 -> Total de credenciales entregadas | I25: 0 | J25: 0 | K25: 0 | L25: 0 | M25: 0 | N25: 0 | O25: 0 | P25: 0 | Q25: 0 | R25: 0 | S25: 0 | T25: 0 | U25: 0 | V25: 126 | W25: 126 | X25: 194 | Y25: 128 | Z25: 121 | AA25: 219 | AB25: 23 | AC25: 211 | AD25: 92 | AE25: 0 | AF25: 6 | AG25: 130 | AH25: 317 | AI25: 417 | AJ25: 522 | AK25: 504 | AL25: 525 | AM25: 519 | AN25: 533 | AO25: 490 | AP25: 437 | AQ25: 456 | AR25: 425 | AS25: =IFERROR(SUM(I25:AR25)/SUM(I26:AR26),0) -> 1
H26: ='PANEL DE CONTROL DISTRITAL'!H25 -> Total de ciudadanos que acuden a MAC a recoger su credencial | I26: 0 | J26: 0 | K26: 0 | L26: 0 | M26: 0 | N26: 0 | O26: 0 | P26: 0 | Q26: 0 | R26: 0 | S26: 0 | T26: 0 | U26: 0 | V26: 126 | W26: 126 | X26: 194 | Y26: 128 | Z26: 121 | AA26: 219 | AB26: 23 | AC26: 211 | AD26: 92 | AE26: 0 | AF26: 6 | AG26: 130 | AH26: 317 | AI26: 417 | AJ26: 522 | AK26: 504 | AL26: 525 | AM26: 519 | AN26: 533 | AO26: 490 | AP26: 437 | AQ26: 456 | AR26: 425
B27: *Registre el valor nominal solicitado en la celda, el resultado proporcional esta automatizado.
I29: Semaforización
J30: Valor que requiere atención y justificación en el apartado de observaciones
J31: Valor suficiente
J32: Valor esperado
B34: CUADRO DE OBSERVACIONES
B35: Descripción | H35: No conformidad

Sheet 150751
A1: ='PANEL DE CONTROL DISTRITAL'!A1:Q1 -> INSTITUTO NACIONAL ELECTORAL SISTEMA DE GESTIÓN DE LA CALIDAD ESTADO DE MÉXICO
D2: Distrito | E2: 7 | F2: Módulo | H2: 150751
A4: TABLERO DE CONTROL DE PROCESOS SUSTANTIVOS DEL SISTEMA DE GESTIÓN DE LA CALIDAD
A6: ='PANEL DE CONTROL DISTRITAL'!A6 -> Número | B6: ='PANEL DE CONTROL DISTRITAL'!B6 -> PROCESOS SUSTANTIVOS E INDICADORES | I6: SEMANA OPERATIVA | AS6: % AVANCE REGISTRADO
B7: ='PANEL DE CONTROL DISTRITAL'!B7 -> DESCRIPCIÓN | E7: ='PANEL DE CONTROL DISTRITAL'!E7 -> MEDICIÓN | I7: ='PANEL DE CONTROL DISTRITAL'!A5 -> CAMPAÑA ANUAL PERMANENTE 2024
B9: ='PANEL DE CONTROL DISTRITAL'!B8 -> Proceso | C9: ='PANEL DE CONTROL DISTRITAL'!C8 -> Dueño de Proceso | D9: ='PANEL DE CONTROL DISTRITAL'!D8 -> Indicador | E9: ='PANEL DE CONTROL DISTRITAL'!E8 -> Cálculo | F9: ='PANEL DE CONTROL DISTRITAL'!F8 -> Periodo | G9: ='PANEL DE CONTROL DISTRITAL'!G8 -> Estimado | H9: ='PANEL DE CONTROL DISTRITAL'!H8 -> Nominativo | I9: ='150151'!I9 -> 2024-05 | J9: ='150151'!J9 -> 2024-06 | K9: ='150151'!K9 -> 2024-07 | L9: ='150151'!L9 -> 2024-08 | M9: ='150151'!M9 -> 2024-09 | N9: ='150151'!N9 -> 2024-10 | O9: ='150151'!O9 -> 2024-11 | P9: ='150151'!P9 -> 2024-12 | ... AR9: ='150151'!AR9 -> 2024-40
A10: ='PANEL DE CONTROL DISTRITAL'!A9 -> 1 | B10: ='PANEL DE CONTROL DISTRITAL'!B9 -> Entrevista | C10: ='PANEL DE CONTROL DISTRITAL'!C9 -> Auxiliar de Atención Ciudadana | D10: ='PANEL DE CONTROL DISTRITAL'!D9 -> Fichas requisitadas correctamente. | E10: ='PANEL DE CONTROL DISTRITAL'!E9 -> (Fichas requisitadas correctamente / Fichas revisadas en la muestra del 10%) x 100 | F10: ='PANEL DE CONTROL DISTRITAL'!F9 -> Semanal (remesa) | G10: ='PANEL DE CONTROL DISTRITAL'!G9 -> 0.9 | H10: ='PANEL DE CONTROL DISTRITAL'!H9 -> Fichas requistadas correctamente | I10: 0 | J10: 0 | K10: 0 | L10: 0 | M10: 0 | N10: 0 | O10: 0 | P10: 0 | Q10: 0 | R10: 0 | S10: 0 | T10: 0 | U10: 0 | V10: 35 | W10: 41 | X10: 42 | Y10: 39 | Z10: 518 | AA10: 698 | AB10: 264 | AC10: 0 | AD10: 0 | AE10: 0 | AF10: 52 | AG10: 88 | AH10: 140 | AI10: 131 | AJ10: 127 | AK10: 129 | AL10: 89 | AM10: 125 | AN10: 123 | AO10: 120 | AP10: 124 | AQ10: 124 | AR10: 120 | AS10: =IFERROR(SUM(I10:AR10)/SUM(I11:AR11),0) -> 0.99968051
H11: ='PANEL DE CONTROL DISTRITAL'!H10 -> Fichas revisadas en la Muestra del 10% | I11: 0 | J11: 0 | K11: 0 | L11: 0 | M11: 0 | N11: 0 | O11: 0 | P11: 0 | Q11: 0 | R11: 0 | S11: 0 | T11: 0 | U11: 0 | V11: 35 | W11: 41 | X11: 42 | Y11: 39 | Z11: 519 | AA11: 698 | AB11: 264 | AC11: 0 | AD11: 0 | AE11: 0 | AF11: 52 | AG11: 88 | AH11: 140 | AI11: 131 | AJ11: 127 | AK11: 129 | AL11: 89 | AM11: 125 | AN11: 123 | AO11: 120 | AP11: 124 | AQ11: 124 | AR11: 120
A13: ='PANEL DE CONTROL DISTRITAL'!A12 -> 2 | B13: ='PANEL DE CONTROL DISTRITAL'!B12 -> Trámite | C13: ='PANEL DE CONTROL DISTRITAL'!C12 -> Operador de Equipo Tecnológico | D13: ='PANEL DE CONTROL DISTRITAL'!D12 -> Trámites exitosos. | E13: ='PANEL DE CONTROL DISTRITAL'!E12 -> (Número de trámites exitosos / Número de trámites aplicados) x 100 | F13: ='PANEL DE CONTROL DISTRITAL'!F12 -> Semanal (remesa) | G13: ='PANEL DE CONTROL DISTRITAL'!G12 -> 0.9 | H13: ='PANEL DE CONTROL DISTRITAL'!H12 -> Número de trámites exitosos | I13: 0 | J13: 0 | K13: 0 | L13: 0 | M13: 0 | N13: 0 | O13: 0 | P13: 0 | Q13: 0 | R13: 0 | S13: 0 | T13: 0 | U13: 0 | V13: 336 | W13: 401 | X13: 414 | Y13: 386 | Z13: 504 | AA13: 686 | AB13: 261 | AC13: 0 | AD13: 0 | AE13: 0 | AF13: 514 | AG13: 879 | AH13: 1364 | AI13: 1280 | AJ13: 1213 | AK13: 1260 | AL13: 1232 | AM13: 1214 | AN13: 1215 | AO13: 1185 | AP13: 1224 | AQ13: 1220 | AR13: 1179 | AS13: =IFERROR(SUM(I13:AR13)/SUM(I14:AR14),0) -> 0.99722484
H14: ='PANEL DE CONTROL DISTRITAL'!H13 -> Número de trámites aplicados | I14: 0 | J14: 0 | K14: 0 | L14: 0 | M14: 0 | N14: 0 | O14: 0 | P14: 0 | Q14: 0 | R14: 0 | S14: 0 | T14: 0 | U14: 0 | V14: 336 | W14: 402 | X14: 414 | Y14: 386 | Z14: 510 | AA14: 686 | AB14: 261 | AC14: 0 | AD14: 0 | AE14: 0 | AF14: 514 | AG14: 882 | AH14: 1369 | AI14: 1284 | AJ14: 1216 | AK14: 1265 | AL14: 1237 | AM14: 1218 | AN14: 1219 | AO14: 1189 | AP14: 1227 | AQ14: 1222 | AR14: 1180
A16: ='PANEL DE CONTROL DISTRITAL'!A15 -> 3 | B16: ='PANEL DE CONTROL DISTRITAL'!B15 -> Transferencia de la Información. | C16: ='PANEL DE CONTROL DISTRITAL'!C15 -> Responsable de Módulo | D16: ='PANEL DE CONTROL DISTRITAL'!D15 -> Reenvíos exitosos. | E16: ='PANEL DE CONTROL DISTRITAL'!E15 -> (Ejecución de los scripts de reenvío de notificaciones / Solicitud de reenvíos de scripts requeridos) x100 | F16: ='PANEL DE CONTROL DISTRITAL'!F15 -> Semanal (remesa) | G16: ='PANEL DE CONTROL DISTRITAL'!G15 -> 1 | H16: ='PANEL DE CONTROL DISTRITAL'!H15 -> Ejecución de los scripts de reenvío de notificaciones | I16: 0 | J16: 0 | K16: 0 | L16: 0 | M16: 0 | N16: 0 | O16: 0 | P16: 0 | Q16: 0 | R16: 0 | S16: 0 | T16: 0 | U16: 0 | V16: 0 | W16: 0 | X16: 0 | Y16: 1 | Z16: 0 | AA16: 0 | AB16: 0 | AC16: 2 | AD16: 3 | AE16: 0 | AF16: 0 | AG16: 0 | AH16: 0 | AI16: 0 | AJ16: 1 | AK16: 1 | AL16: 0 | AM16: 1 | AN16: 0 | AO16: 1 | AP16: 0 | AQ16: 0 | AR16: 0 | AS16: =IFERROR(SUM(I16:AR16)/SUM(I17:AR17),1) -> 1
H17: ='PANEL DE CONTROL DISTRITAL'!H16 -> Solicitud de reevíos de scripts requeridos | I17: 0 | J17: 0 | K17: 0 | L17: 0 | M17: 0 | N17: 0 | O17: 0 | P17: 0 | Q17: 0 | R17: 0 | S17: 0 | T17: 0 | U17: 0 | V17: 0 | W17: 0 | X17: 0 | Y17: 1 | Z17: 0 | AA17: 0 | AB17: 0 | AC17: 2 | AD17: 3 | AE17: 0 | AF17: 0 | AG17: 0 | AH17: 0 | AI17: 0 | AJ17: 1 | AK17: 1 | AL17: 0 | AM17: 1 | AN17: 0 | AO17: 1 | AP17: 0 | AQ17: 0 | AR17: 0
A19: ='PANEL DE CONTROL DISTRITAL'!A18 -> 4 | B19: ='PANEL DE CONTROL DISTRITAL'!B18 -> Conciliación de Credenciales para Votar. | C19: ='PANEL DE CONTROL DISTRITAL'!C18 -> Responsable de Módulo | D19: ='PANEL DE CONTROL DISTRITAL'!D18 -> Credenciales disponibles para entrega. | E19: ='PANEL DE CONTROL DISTRITAL'!E18 -> [(Credenciales recibidas - Credenciales inconsistentes) / Credenciales recibidas] x 100 | F19: ='PANEL DE CONTROL DISTRITAL'!F18 -> Semanal (remesa) | G19: ='PANEL DE CONTROL DISTRITAL'!G18 -> 0.9 | H19: ='PANEL DE CONTROL DISTRITAL'!H18 -> Credenciales Recibidas - Credenciales inconsistentes | I19: 0 | J19: 0 | K19: 0 | L19: 0 | M19: 0 | N19: 0 | O19: 0 | P19: 0 | Q19: 0 | R19: 0 | S19: 0 | T19: 0 | U19: 0 | V19: 323 | W19: 345 | X19: 414 | Y19: 365 | Z19: 527 | AA19: 568 | AB19: 131 | AC19: 425 | AD19: 0 | AE19: 0 | AF19: 689 | AG19: 809 | AH19: 1078 | AI19: 1330 | AJ19: 1188 | AK19: 1266 | AL19: 1032 | AM19: 1264 | AN19: 931 | AO19: 1469 | AP19: 1175 | AQ19: 1239 | AR19: 998 | AS19: =IFERROR(SUM(I19:AR19)/SUM(I20:AR20),0) -> 1
H20: ='PANEL DE CONTROL DISTRITAL'!H19 -> Credenciales recibidas | I20: 0 | J20: 0 | K20: 0 | L20: 0 | M20: 0 | N20: 0 | O20: 0 | P20: 0 | Q20: 0 | R20: 0 | S20: 0 | T20: 0 | U20: 0 | V20: 323 | W20: 345 | X20: 414 | Y20: 365 | Z20: 527 | AA20: 568 | AB20: 131 | AC20: 425 | AD20: 0 | AE20: 0 | AF20: 689 | AG20: 809 | AH20: 1078 | AI20: 1330 | AJ20: 1188 | AK20: 1266 | AL20: 1032 | AM20: 1264 | AN20: 931 | AO20: 1469 | AP20: 1175 | AQ20: 1239 | AR20: 998
A22: ='PANEL DE CONTROL DISTRITAL'!A21 -> 5 | B22: ='PANEL DE CONTROL DISTRITAL'!B21 -> Conciliación de Credenciales para Votar. | C22: ='PANEL DE CONTROL DISTRITAL'!C21 -> Responsable de Módulo | D22: ='PANEL DE CONTROL DISTRITAL'!D21 -> Arqueo de credenciales. | E22: ='PANEL DE CONTROL DISTRITAL'!E21 -> (Credenciales disponibles (físicas) / Credenciales disponibles registradas en SIIRFE-MAC) x 100 | F22: ='PANEL DE CONTROL DISTRITAL'!F21 -> Semanal (remesa) | G22: ='PANEL DE CONTROL DISTRITAL'!G21 -> 1 | H22: ='PANEL DE CONTROL DISTRITAL'!H21 -> Credenciales disponibles (físicas) | I22: 0 | J22: 0 | K22: 0 | L22: 0 | M22: 0 | N22: 0 | O22: 0 | P22: 0 | Q22: 0 | R22: 0 | S22: 0 | T22: 0 | U22: 0 | V22: 548 | W22: 545 | X22: 611 | Y22: 615 | Z22: 723 | AA22: 716 | AB22: 706 | AC22: 639 | AD22: 0 | AE22: 0 | AF22: 666 | AG22: 1190 | AH22: 1560 | AI22: 1930 | AJ22: 1883 | AK22: 1939 | AL22: 2090 | AM22: 2031 | AN22: 1763 | AO22: 2007 | AP22: 1981 | AQ22: 2016 | AR22: 1818 | AS22: =IFERROR(SUM(I22:AR22)/SUM(I23:AR23),0) -> 1
H23: ='PANEL DE CONTROL DISTRITAL'!H22 -> Credenciales disponibles registradas en SIIRFE | I23: 0 | J23: 0 | K23: 0 | L23: 0 | M23: 0 | N23: 0 | O23: 0 | P23: 0 | Q23: 0 | R23: 0 | S23: 0 | T23: 0 | U23: 0 | V23: 548 | W23: 545 | X23: 611 | Y23: 615 | Z23: 723 | AA23: 716 | AB23: 706 | AC23: 639 | AD23: 0 | AE23: 0 | AF23: 666 | AG23: 1190 | AH23: 1560 | AI23: 1930 | AJ23: 1883 | AK23: 1939 | AL23: 2090 | AM23: 2031 | AN23: 1763 | AO23: 2007 | AP23: 1981 | AQ23: 2016 | AR23: 1818
A25: ='PANEL DE CONTROL DISTRITAL'!A24 -> 6 | B25: ='PANEL DE CONTROL DISTRITAL'!B24 -> Entrega de la Credencial para Votar. | C25: ='PANEL DE CONTROL DISTRITAL'!C24 -> Operador de Equipo Tecnológico | D25: ='PANEL DE CONTROL DISTRITAL'!D24 -> Efectividad de entrega de CPV en MAC. | E25: ='PANEL DE CONTROL DISTRITAL'!E24 -> (Total de credenciales entregadas / Total de ciudadanas y ciudadanos que acuden al MAC a recoger su credencial) x 100 | F25: ='PANEL DE CONTROL DISTRITAL'!F24 -> Semanal (remesa) | G25: ='PANEL DE CONTROL DISTRITAL'!G24 -> 0.9 | H25: ='PANEL DE CONTROL DISTRITAL'!H24 -> Total de credenciales entregadas | I25: 0 | J25: 0 | K25: 0 | L25: 0 | M25: 0 | N25: 0 | O25: 0 | P25: 0 | Q25: 0 | R25: 0 | S25: 0 | T25: 0 | U25: 0 | V25: 318 | W25: 348 | X25: 348 | Y25: 361 | Z25: 419 | AA25: 575 | AB25: 141 | AC25: 492 | AD25: 466 | AE25: 0 | AF25: 23 | AG25: 285 | AH25: 708 | AI25: 960 | AJ25: 1182 | AK25: 1210 | AL25: 881 | AM25: 1204 | AN25: 1199 | AO25: 1210 | AP25: 1201 | AQ25: 1204 | AR25: 1196 | AS25: =IFERROR(SUM(I25:AR25)/SUM(I26:AR26),0) -> 0.99949809
H26: ='PANEL DE CONTROL DISTRITAL'!H25 -> Total de ciudadanos que acuden a MAC a recoger su credencial | I26: 0 | J26: 0 | K26: 0 | L26: 0 | M26: 0 | N26: 0 | O26: 0 | P26: 0 | Q26: 0 | R26: 0 | S26: 0 | T26: 0 | U26: 0 | V26: 318 | W26: 348 | X26: 348 | Y26: 361 | Z26: 419 | AA26: 575 | AB26: 141 | AC26: 492 | AD26: 466 | AE26: 0 | AF26: 23 | AG26: 286 | AH26: 708 | AI26: 960 | AJ26: 1183 | AK26: 1211 | AL26: 882 | AM26: 1206 | AN26: 1199 | AO26: 1211 | AP26: 1201 | AQ26: 1205 | AR26: 1196
B27: *Registre el valor nominal solicitado en la celda, el resultado proporcional esta automatizado.
I29: Semaforización
J30: Valor que requiere atención y justificación en el apartado de observaciones
J31: Valor suficiente
J32: Valor esperado
B34: CUADRO DE OBSERVACIONES
B35: Descripción | H35: No conformidad

Sheet 150851
A1: ='PANEL DE CONTROL DISTRITAL'!A1:Q1 -> INSTITUTO NACIONAL ELECTORAL SISTEMA DE GESTIÓN DE LA CALIDAD ESTADO DE MÉXICO
D2: Distrito | E2: 8 | F2: Módulo | H2: 150851
A4: TABLERO DE CONTROL DE PROCESOS SUSTANTIVOS DEL SISTEMA DE GESTIÓN DE LA CALIDAD
A6: ='PANEL DE CONTROL DISTRITAL'!A6 -> Número | B6: ='PANEL DE CONTROL DISTRITAL'!B6 -> PROCESOS SUSTANTIVOS E INDICADORES | I6: SEMANA OPERATIVA | AS6: % AVANCE REGISTRADO
B7: ='PANEL DE CONTROL DISTRITAL'!B7 -> DESCRIPCIÓN | E7: ='PANEL DE CONTROL DISTRITAL'!E7 -> MEDICIÓN | I7: ='PANEL DE CONTROL DISTRITAL'!A5 -> CAMPAÑA ANUAL PERMANENTE 2024
B9: ='PANEL DE CONTROL DISTRITAL'!B8 -> Proceso | C9: ='PANEL DE CONTROL DISTRITAL'!C8 -> Dueño de Proceso | D9: ='PANEL DE CONTROL DISTRITAL'!D8 -> Indicador | E9: ='PANEL DE CONTROL DISTRITAL'!E8 -> Cálculo | F9: ='PANEL DE CONTROL DISTRITAL'!F8 -> Periodo | G9: ='PANEL DE CONTROL DISTRITAL'!G8 -> Estimado | H9: ='PANEL DE CONTROL DISTRITAL'!H8 -> Nominativo | I9: ='150151'!I9 -> 2024-05 | J9: ='150151'!J9 -> 2024-06 | K9: ='150151'!K9 -> 2024-07 | L9: ='150151'!L9 -> 2024-08 | M9: ='150151'!M9 -> 2024-09 | N9: ='150151'!N9 -> 2024-10 | O9: ='150151'!O9 -> 2024-11 | P9: ='150151'!P9 -> 2024-12 | ... AR9: ='150151'!AR9 -> 2024-40
A10: ='PANEL DE CONTROL DISTRITAL'!A9 -> 1 | B10: ='PANEL DE CONTROL DISTRITAL'!B9 -> Entrevista | C10: ='PANEL DE CONTROL DISTRITAL'!C9 -> Auxiliar de Atención Ciudadana | D10: ='PANEL DE CONTROL DISTRITAL'!D9 -> Fichas requisitadas correctamente. | E10: ='PANEL DE CONTROL DISTRITAL'!E9 -> (Fichas requisitadas correctamente / Fichas revisadas en la muestra del 10%) x 100 | F10: ='PANEL DE CONTROL DISTRITAL'!F9 -> Semanal (remesa) | G10: ='PANEL DE CONTROL DISTRITAL'!G9 -> 0.9 | H10: ='PANEL DE CONTROL DISTRITAL'!H9 -> Fichas requistadas correctamente | I10: 0 | J10: 0 | K10: 0 | L10: 0 | M10: 0 | N10: 0 | O10: 0 | P10: 0 | Q10: 0 | R10: 0 | S10: 0 | T10: 0 | U10: 0 | V10: 22 | W10: 30 | X10: 28 | Y10: 27 | Z10: 32 | AA10: 44 | AB10: 13 | AC10: 2 | AD10: 0 | AE10: 0 | AF10: 47 | AG10: 65 | AH10: 93 | AI10: 83 | AJ10: 87 | AK10: 93 | AL10: 86 | AM10: 87 | AN10: 89 | AO10: 97 | AP10: 89 | AQ10: 80 | AR10: 80 | AS10: =IFERROR(SUM(I10:AR10)/SUM(I11:AR11),0) -> 0.9984326
H11: ='PANEL DE CONTROL DISTRITAL'!H10 -> Fichas revisadas en la Muestra del 10% | I11: 0 | J11: 0 | K11: 0 | L11: 0 | M11: 0 | N11: 0 | O11: 0 | P11: 0 | Q11: 0 | R11: 0 | S11: 0 | T11: 0 | U11: 0 | V11: 24 | W11: 30 | X11: 28 | Y11: 27 | Z11: 32 | AA11: 44 | AB11: 13 | AC11: 2 | AD11: 0 | AE11: 0 | AF11: 47 | AG11: 65 | AH11: 93 | AI11: 83 | AJ11: 87 | AK11: 93 | AL11: 86 | AM11: 87 | AN11: 89 | AO11: 97 | AP11: 89 | AQ11: 80 | AR11: 80
A13: ='PANEL DE CONTROL DISTRITAL'!A12 -> 2 | B13: ='PANEL DE CONTROL DISTRITAL'!B12 -> Trámite | C13: ='PANEL DE CONTROL DISTRITAL'!C12 -> Operador de Equipo Tecnológico | D13: ='PANEL DE CONTROL DISTRITAL'!D12 -> Trámites exitosos. | E13: ='PANEL DE CONTROL DISTRITAL'!E12 -> (Número de trámites exitosos / Número de trámites aplicados) x 100 | F13: ='PANEL DE CONTROL DISTRITAL'!F12 -> Semanal (remesa) | G13: ='PANEL DE CONTROL DISTRITAL'!G12 -> 0.9 | H13: ='PANEL DE CONTROL DISTRITAL'!H12 -> Número de trámites exitosos | I13: 0 | J13: 0 | K13: 0 | L13: 0 | M13: 0 | N13: 0 | O13: 0 | P13: 0 | Q13: 0 | R13: 0 | S13: 0 | T13: 0 | U13: 0 | V13: 239 | W13: 306 | X13: 273 | Y13: 265 | Z13: 319 | AA13: 425 | AB13: 124 | AC13: 0 | AD13: 0 | AE13: 0 | AF13: 425 | AG13: 600 | AH13: 865 | AI13: 755 | AJ13: 826 | AK13: 860 | AL13: 794 | AM13: 818 | AN13: 846 | AO13: 901 | AP13: 891 | AQ13: 799 | AR13: 732 | AS13: =IFERROR(SUM(I13:AR13)/SUM(I14:AR14),0) -> 0.99718939
H14: ='PANEL DE CONTROL DISTRITAL'!H13 -> Número de trámites aplicados | I14: 0 | J14: 0 | K14: 0 | L14: 0 | M14: 0 | N14: 0 | O14: 0 | P14: 0 | Q14: 0 | R14: 0 | S14: 0 | T14: 0 | U14: 0 | V14: 239 | W14: 306 | X14: 273 | Y14: 265 | Z14: 319 | AA14: 425 | AB14: 124 | AC14: 2 | AD14: 0 | AE14: 0 | AF14: 425 | AG14: 603 | AH14: 873 | AI14: 762 | AJ14: 830 | AK14: 860 | AL14: 794 | AM14: 819 | AN14: 847 | AO14: 904 | AP14: 892 | AQ14: 800 | AR14: 735
A16: ='PANEL DE CONTROL DISTRITAL'!A15 -> 3 | B16: ='PANEL DE CONTROL DISTRITAL'!B15 -> Transferencia de la Información. | C16: ='PANEL DE CONTROL DISTRITAL'!C15 -> Responsable de Módulo | D16: ='PANEL DE CONTROL DISTRITAL'!D15 -> Reenvíos exitosos. | E16: ='PANEL DE CONTROL DISTRITAL'!E15 -> (Ejecución de los scripts de reenvío de notificaciones / Solicitud de reenvíos de scripts requeridos) x100 | F16: ='PANEL DE CONTROL DISTRITAL'!F15 -> Semanal (remesa) | G16: ='PANEL DE CONTROL DISTRITAL'!G15 -> 1 | H16: ='PANEL DE CONTROL DISTRITAL'!H15 -> Ejecución de los scripts de reenvío de notificaciones | I16: 0 | J16: 0 | K16: 0 | L16: 0 | M16: 0 | N16: 0 | O16: 0 | P16: 0 | Q16: 0 | R16: 0 | S16: 0 | T16: 0 | U16: 0 | V16: 0 | W16: 0 | X16: 0 | Y16: 0 | Z16: 0 | AA16: 0 | AB16: 0 | AC16: 0 | AD16: 0 | AE16: 0 | AF16: 0 | AG16: 0 | AH16: 0 | AI16: 0 | AJ16: 0 | AK16: 0 | AL16: 0 | AM16: 0 | AN16: 0 | AO16: 0 | AP16: 0 | AQ16: 0 | AR16: 0 | AS16: =IFERROR(SUM(I16:AR16)/SUM(I17:AR17),1) -> 1
H17: ='PANEL DE CONTROL DISTRITAL'!H16 -> Solicitud de reevíos de scripts requeridos | I17: 0 | J17: 0 | K17: 0 | L17: 0 | M17: 0 | N17: 0 | O17: 0 | P17: 0 | Q17: 0 | R17: 0 | S17: 0 | T17: 0 | U17: 0 | V17: 0 | W17: 0 | X17: 0 | Y17: 0 | Z17: 0 | AA17: 0 | AB17: 0 | AC17: 0 | AD17: 0 | AE17: 0 | AF17: 0 | AG17: 0 | AH17: 0 | AI17: 0 | AJ17: 0 | AK17: 0 | AL17: 0 | AM17: 0 | AN17: 0 | AO17: 0 | AP17: 0 | AQ17: 0 | AR17: 0
A19: ='PANEL DE CONTROL DISTRITAL'!A18 -> 4 | B19: ='PANEL DE CONTROL DISTRITAL'!B18 -> Conciliación de Credenciales para Votar. | C19: ='PANEL DE CONTROL DISTRITAL'!C18 -> Responsable de Módulo | D19: ='PANEL DE CONTROL DISTRITAL'!D18 -> Credenciales disponibles para entrega. | E19: ='PANEL DE CONTROL DISTRITAL'!E18 -> [(Credenciales recibidas - Credenciales inconsistentes) / Credenciales recibidas] x 100 | F19: ='PANEL DE CONTROL DISTRITAL'!F18 -> Semanal (remesa) | G19: ='PANEL DE CONTROL DISTRITAL'!G18 -> 0.9 | H19: ='PANEL DE CONTROL DISTRITAL'!H18 -> Credenciales Recibidas - Credenciales inconsistentes | I19: 0 | J19: 0 | K19: 0 | L19: 0 | M19: 0 | N19: 0 | O19: 0 | P19: 0 | Q19: 0 | R19: 0 | S19: 0 | T19: 0 | U19: 0 | V19: 254 | W19: 247 | X19: 282 | Y19: 247 | Z19: 326 | AA19: 383 | AB19: 70 | AC19: 225 | AD19: 0 | AE19: 0 | AF19: 163 | AG19: 642 | AH19: 711 | AI19: 807 | AJ19: 783 | AK19: 867 | AL19: 797 | AM19: 845 | AN19: 650 | AO19: 1049 | AP19: 904 | AQ19: 818 | AR19: 651 | AS19: =IFERROR(SUM(I19:AR19)/SUM(I20:AR20),0) -> 1
H20: ='PANEL DE CONTROL DISTRITAL'!H19 -> Credenciales recibidas | I20: 0 | J20: 0 | K20: 0 | L20: 0 | M20: 0 | N20: 0 | O20: 0 | P20: 0 | Q20: 0 | R20: 0 | S20: 0 | T20: 0 | U20: 0 | V20: 254 | W20: 247 | X20: 282 | Y20: 247 | Z20: 326 | AA20: 383 | AB20: 70 | AC20: 225 | AD20: 0 | AE20: 0 | AF20: 163 | AG20: 642 | AH20: 711 | AI20: 807 | AJ20: 783 | AK20: 867 | AL20: 797 | AM20: 845 | AN20: 650 | AO20: 1049 | AP20: 904 | AQ20: 818 | AR20: 651
A22: ='PANEL DE CONTROL DISTRITAL'!A21 -> 5 | B22: ='PANEL DE CONTROL DISTRITAL'!B21 -> Conciliación de Credenciales para Votar. | C22: ='PANEL DE CONTROL DISTRITAL'!C21 -> Responsable de Módulo | D22: ='PANEL DE CONTROL DISTRITAL'!D21 -> Arqueo de credenciales. | E22: ='PANEL DE CONTROL DISTRITAL'!E21 -> (Credenciales disponibles (físicas) / Credenciales disponibles registradas en SIIRFE-MAC) x 100 | F22: ='PANEL DE CONTROL DISTRITAL'!F21 -> Semanal (remesa) | G22: ='PANEL DE CONTROL DISTRITAL'!G21 -> 1 | H22: ='PANEL DE CONTROL DISTRITAL'!H21 -> Credenciales disponibles (físicas) | I22: 0 | J22: 0 | K22: 0 | L22: 0 | M22: 0 | N22: 0 | O22: 0 | P22: 0 | Q22: 0 | R22: 0 | S22: 0 | T22: 0 | U22: 0 | V22: 409 | W22: 414 | X22: 390 | Y22: 382 | Z22: 452 | AA22: 429 | AB22: 409 | AC22: 341 | AD22: 0 | AE22: 0 | AF22: 468 | AG22: 843 | AH22: 1071 | AI22: 1201 | AJ22: 1214 | AK22: 1306 | AL22: 1255 | AM22: 1341 | AN22: 1176 | AO22: 1391 | AP22: 1438 | AQ22: 1317 | AR22: 1218 | AS22: =IFERROR(SUM(I22:AR22)/SUM(I23:AR23),0) -> 1
H23: ='PANEL DE CONTROL DISTRITAL'!H22 -> Credenciales disponibles registradas en SIIRFE | I23: 0 | J23: 0 | K23: 0 | L23: 0 | M23: 0 | N23: 0 | O23: 0 | P23: 0 | Q23: 0 | R23: 0 | S23: 0 | T23: 0 | U23: 0 | V23: 409 | W23: 414 | X23: 390 | Y23: 382 | Z23: 452 | AA23: 429 | AB23: 409 | AC23: 341 | AD23: 0 | AE23: 0 | AF23: 468 | AG23: 843 | AH23: 1071 | AI23: 1201 | AJ23: 1214 | AK23: 1306 | AL23: 1255 | AM23: 1341 | AN23: 1176 | AO23: 1391 | AP23: 1438 | AQ23: 1317 | AR23: 1218
A25: ='PANEL DE CONTROL DISTRITAL'!A24 -> 6 | B25: ='PANEL DE CONTROL DISTRITAL'!B24 -> Entrega de la Credencial para Votar. | C25: ='PANEL DE CONTROL DISTRITAL'!C24 -> Operador de Equipo Tecnológico | D25: ='PANEL DE CONTROL DISTRITAL'!D24 -> Efectividad de entrega de CPV en MAC. | E25: ='PANEL DE CONTROL DISTRITAL'!E24 -> (Total de credenciales entregadas / Total de ciudadanas y ciudadanos que acuden al MAC a recoger su credencial) x 100 | F25: ='PANEL DE CONTROL DISTRITAL'!F24 -> Semanal (remesa) | G25: ='PANEL DE CONTROL DISTRITAL'!G24 -> 0.9 | H25: ='PANEL DE CONTROL DISTRITAL'!H24 -> Total de credenciales entregadas | I25: 0 | J25: 0 | K25: 0 | L25: 0 | M25: 0 | N25: 0 | O25: 0 | P25: 0 | Q25: 0 | R25: 0 | S25: 0 | T25: 0 | U25: 0 | V25: 251 | W25: 242 | X25: 306 | Y25: 255 | Z25: 256 | AA25: 406 | AB25: 30 | AC25: 293 | AD25: 225 | AE25: 0 | AF25: 22 | AG25: 603 | AH25: 481 | AI25: 677 | AJ25: 770 | AK25: 0 | AL25: 848 | AM25: 736 | AN25: 815 | AO25: 825 | AP25: 857 | AQ25: 892 | AR25: 797 | AS25: =IFERROR(SUM(I25:AR25)/SUM(I26:AR26),0) -> 1
H26: ='PANEL DE CONTROL DISTRITAL'!H25 -> Total de ciudadanos que acuden a MAC a recoger su credencial | I26: 0 | J26: 0 | K26: 0 | L26: 0 | M26: 0 | N26: 0 | O26: 0 | P26: 0 | Q26: 0 | R26: 0 | S26: 0 | T26: 0 | U26: 0 | V26: 251 | W26: 242 | X26: 306 | Y26: 255 | Z26: 256 | AA26: 406 | AB26: 30 | AC26: 293 | AD26: 225 | AE26: 0 | AF26: 22 | AG26: 603 | AH26: 481 | AI26: 677 | AJ26: 770 | AK26: 0 | AL26: 848 | AM26: 736 | AN26: 815 | AO26: 825 | AP26: 857 | AQ26: 892 | AR26: 797
B27: *Registre el valor nominal solicitado en la celda, el resultado proporcional esta automatizado.
I29: Semaforización
J30: Valor que requiere atención y justificación en el apartado de observaciones
J31: Valor suficiente
J32: Valor esperado
B34: CUADRO DE OBSERVACIONES
B35: Descripción | H35: No conformidad

Sheet 150951
A1: ='PANEL DE CONTROL DISTRITAL'!A1:Q1 -> INSTITUTO NACIONAL ELECTORAL SISTEMA DE GESTIÓN DE LA CALIDAD ESTADO DE MÉXICO
D2: Distrito | E2: 9 | F2: Módulo | H2: 150951
A4: TABLERO DE CONTROL DE PROCESOS SUSTANTIVOS DEL SISTEMA DE GESTIÓN DE LA CALIDAD
A6: ='PANEL DE CONTROL DISTRITAL'!A6 -> Número | B6: ='PANEL DE CONTROL DISTRITAL'!B6 -> PROCESOS SUSTANTIVOS E INDICADORES | I6: SEMANA OPERATIVA | AS6: % AVANCE REGISTRADO
B7: ='PANEL DE CONTROL DISTRITAL'!B7 -> DESCRIPCIÓN | E7: ='PANEL DE CONTROL DISTRITAL'!E7 -> MEDICIÓN | I7: ='PANEL DE CONTROL DISTRITAL'!A5 -> CAMPAÑA ANUAL PERMANENTE 2024
B9: ='PANEL DE CONTROL DISTRITAL'!B8 -> Proceso | C9: ='PANEL DE CONTROL DISTRITAL'!C8 -> Dueño de Proceso | D9: ='PANEL DE CONTROL DISTRITAL'!D8 -> Indicador | E9: ='PANEL DE CONTROL DISTRITAL'!E8 -> Cálculo | F9: ='PANEL DE CONTROL DISTRITAL'!F8 -> Periodo | G9: ='PANEL DE CONTROL DISTRITAL'!G8 -> Estimado | H9: ='PANEL DE CONTROL DISTRITAL'!H8 -> Nominativo | I9: ='150151'!I9 -> 2024-05 | J9: ='150151'!J9 -> 2024-06 | K9: ='150151'!K9 -> 2024-07 | L9: ='150151'!L9 -> 2024-08 | M9: ='150151'!M9 -> 2024-09 | N9: ='150151'!N9 -> 2024-10 | O9: ='150151'!O9 -> 2024-11 | P9: ='150151'!P9 -> 2024-12 | ... AR9: ='150151'!AR9 -> 2024-40
A10: ='PANEL DE CONTROL DISTRITAL'!A9 -> 1 | B10: ='PANEL DE CONTROL DISTRITAL'!B9 -> Entrevista | C10: ='PANEL DE CONTROL DISTRITAL'!C9 -> Auxiliar de Atención Ciudadana | D10: ='PANEL DE CONTROL DISTRITAL'!D9 -> Fichas requisitadas correctamente. | E10: ='PANEL DE CONTROL DISTRITAL'!E9 -> (Fichas requisitadas correctamente / Fichas revisadas en la muestra del 10%) x 100 | F10: ='PANEL DE CONTROL DISTRITAL'!F9 -> Semanal (remesa) | G10: ='PANEL DE CONTROL DISTRITAL'!G9 -> 0.9 | H10: ='PANEL DE CONTROL DISTRITAL'!H9 -> Fichas requistadas correctamente | I10: 0 | J10: 0 | K10: 0 | L10: 0 | M10: 0 | N10: 0 | O10: 0 | P10: 0 | Q10: 0 | R10: 0 | S10: 0 | T10: 0 | U10: 0 | V10: 9 | W10: 6 | X10: 8 | Y10: 8 | Z10: 9 | AA10: 14 | AB10: 5 | AC10: 0 | AD10: 0 | AE10: 0 | AF10: 16 | AG10: 21 | AH10: 46 | AI10: 43 | AJ10: 41 | AK10: 40 | AL10: 46 | AM10: 46 | AN10: 46 | AO10: 41 | AP10: 42 | AQ10: 47 | AR10: 38 | AS10: =IFERROR(SUM(I10:AR10)/SUM(I11:AR11),0) -> 1
H11: ='PANEL DE CONTROL DISTRITAL'!H10 -> Fichas revisadas en la Muestra del 10% | I11: 0 | J11: 0 | K11: 0 | L11: 0 | M11: 0 | N11: 0 | O11: 0 | P11: 0 | Q11: 0 | R11: 0 | S11: 0 | T11: 0 | U11: 0 | V11: 9 | W11: 6 | X11: 8 | Y11: 8 | Z11: 9 | AA11: 14 | AB11: 5 | AC11: 0 | AD11: 0 | AE11: 0 | AF11: 16 | AG11: 21 | AH11: 46 | AI11: 43 | AJ11: 41 | AK11: 40 | AL11: 46 | AM11: 46 | AN11: 46 | AO11: 41 | AP11: 42 | AQ11: 47 | AR11: 38
A13: ='PANEL DE CONTROL DISTRITAL'!A12 -> 2 | B13: ='PANEL DE CONTROL DISTRITAL'!B12 -> Trámite | C13: ='PANEL DE CONTROL DISTRITAL'!C12 -> Operador de Equipo Tecnológico | D13: ='PANEL DE CONTROL DISTRITAL'!D12 -> Trámites exitosos. | E13: ='PANEL DE CONTROL DISTRITAL'!E12 -> (Número de trámites exitosos / Número de trámites aplicados) x 100 | F13: ='PANEL DE CONTROL DISTRITAL'!F12 -> Semanal (remesa) | G13: ='PANEL DE CONTROL DISTRITAL'!G12 -> 0.9 | H13: ='PANEL DE CONTROL DISTRITAL'!H12 -> Número de trámites exitosos | I13: 0 | J13: 0 | K13: 0 | L13: 0 | M13: 0 | N13: 0 | O13: 0 | P13: 0 | Q13: 0 | R13: 0 | S13: 0 | T13: 0 | U13: 0 | V13: 90 | W13: 69 | X13: 80 | Y13: 88 | Z13: 91 | AA13: 147 | AB13: 53 | AC13: 0 | AD13: 0 | AE13: 0 | AF13: 166 | AG13: 213 | AH13: 465 | AI13: 438 | AJ13: 415 | AK13: 408 | AL13: 463 | AM13: 464 | AN13: 467 | AO13: 417 | AP13: 421 | AQ13: 472 | AR13: 386 | AS13: =IFERROR(SUM(I13:AR13)/SUM(I14:AR14),0) -> 0.99776862
H14: ='PANEL DE CONTROL DISTRITAL'!H13 -> Número de trámites aplicados | I14: 0 | J14: 0 | K14: 0 | L14: 0 | M14: 0 | N14: 0 | O14: 0 | P14: 0 | Q14: 0 | R14: 0 | S14: 0 | T14: 0 | U14: 0 | V14: 90 | W14: 69 | X14: 80 | Y14: 88 | Z14: 91 | AA14: 147 | AB14: 53 | AC14: 0 | AD14: 0 | AE14: 0 | AF14: 166 | AG14: 213 | AH14: 466 | AI14: 438 | AJ14: 417 | AK14: 409 | AL14: 465 | AM14: 466 | AN14: 469 | AO14: 419 | AP14: 421 | AQ14: 472 | AR14: 387
A16: ='PANEL DE CONTROL DISTRITAL'!A15 -> 3 | B16: ='PANEL DE CONTROL DISTRITAL'!B15 -> Transferencia de la Información. | C16: ='PANEL DE CONTROL DISTRITAL'!C15 -> Responsable de Módulo | D16: ='PANEL DE CONTROL DISTRITAL'!D15 -> Reenvíos exitosos. | E16: ='PANEL DE CONTROL DISTRITAL'!E15 -> (Ejecución de los scripts de reenvío de notificaciones / Solicitud de reenvíos de scripts requeridos) x100 | F16: ='PANEL DE CONTROL DISTRITAL'!F15 -> Semanal (remesa) | G16: ='PANEL DE CONTROL DISTRITAL'!G15 -> 1 | H16: ='PANEL DE CONTROL DISTRITAL'!H15 -> Ejecución de los scripts de reenvío de notificaciones | I16: 0 | J16: 0 | K16: 0 | L16: 0 | M16: 0 | N16: 0 | O16: 0 | P16: 0 | Q16: 0 | R16: 0 | S16: 0 | T16: 0 | U16: 0 | V16: 0 | W16: 0 | X16: 0 | Y16: 0 | Z16: 0 | AA16: 0 | AB16: 0 | AC16: 0 | AD16: 0 | AE16: 0 | AF16: 0 | AG16: 0 | AH16: 0 | AI16: 0 | AJ16: 0 | AK16: 0 | AL16: 0 | AM16: 0 | AN16: 0 | AO16: 0 | AP16: 0 | AQ16: 0 | AR16: 0 | AS16: =IFERROR(SUM(I16:AR16)/SUM(I17:AR17),1) -> 1
H17: ='PANEL DE CONTROL DISTRITAL'!H16 -> Solicitud de reevíos de scripts requeridos | I17: 0 | J17: 0 | K17: 0 | L17: 0 | M17: 0 | N17: 0 | O17: 0 | P17: 0 | Q17: 0 | R17: 0 | S17: 0 | T17: 0 | U17: 0 | V17: 0 | W17: 0 | X17: 0 | Y17: 0 | Z17: 0 | AA17: 0 | AB17: 0 | AC17: 0 | AD17: 0 | AE17: 0 | AF17: 0 | AG17: 0 | AH17: 0 | AI17: 0 | AJ17: 0 | AK17: 0 | AL17: 0 | AM17: 0 | AN17: 0 | AO17: 0 | AP17: 0 | AQ17: 0 | AR17: 0
A19: ='PANEL DE CONTROL DISTRITAL'!A18 -> 4 | B19: ='PANEL DE CONTROL DISTRITAL'!B18 -> Conciliación de Credenciales para Votar. | C19: ='PANEL DE CONTROL DISTRITAL'!C18 -> Responsable de Módulo | D19: ='PANEL DE CONTROL DISTRITAL'!D18 -> Credenciales disponibles para entrega. | E19: ='PANEL DE CONTROL DISTRITAL'!E18 -> [(Credenciales recibidas - Credenciales inconsistentes) / Credenciales recibidas] x 100 | F19: ='PANEL DE CONTROL DISTRITAL'!F18 -> Semanal (remesa) | G19: ='PANEL DE CONTROL DISTRITAL'!G18 -> 0.9 | H19: ='PANEL DE CONTROL DISTRITAL'!H18 -> Credenciales Recibidas - Credenciales inconsistentes | I19: 0 | J19: 0 | K19: 0 | L19: 0 | M19: 0 | N19: 0 | O19: 0 | P19: 0 | Q19: 0 | R19: 0 | S19: 0 | T19: 0 | U19: 0 | V19: 81 | W19: 54 | X19: 83 | Y19: 83 | Z19: 89 | AA19: 131 | AB19: 27 | AC19: 92 | AD19: 0 | AE19: 0 | AF19: 61 | AG19: 215 | AH19: 261 | AI19: 547 | AJ19: 410 | AK19: 354 | AL19: 483 | AM19: 404 | AN19: 380 | AO19: 594 | AP19: 429 | AQ19: 281 | AR19: 505 | AS19: =IFERROR(SUM(I19:AR19)/SUM(I20:AR20),0) -> 1
H20: ='PANEL DE CONTROL DISTRITAL'!H19 -> Credenciales recibidas | I20: 0 | J20: 0 | K20: 0 | L20: 0 | M20: 0 | N20: 0 | O20: 0 | P20: 0 | Q20: 0 | R20: 0 | S20: 0 | T20: 0 | U20: 0 | V20: 81 | W20: 54 | X20: 83 | Y20: 83 | Z20: 89 | AA20: 131 | AB20: 27 | AC20: 92 | AD20: 0 | AE20: 0 | AF20: 61 | AG20: 215 | AH20: 261 | AI20: 547 | AJ20: 410 | AK20: 354 | AL20: 483 | AM20: 404 | AN20: 380 | AO20: 594 | AP20: 429 | AQ20: 281 | AR20: 505
A22: ='PANEL DE CONTROL DISTRITAL'!A21 -> 5 | B22: ='PANEL DE CONTROL DISTRITAL'!B21 -> Conciliación de Credenciales para Votar. | C22: ='PANEL DE CONTROL DISTRITAL'!C21 -> Responsable de Módulo | D22: ='PANEL DE CONTROL DISTRITAL'!D21 -> Arqueo de credenciales. | E22: ='PANEL DE CONTROL DISTRITAL'!E21 -> (Credenciales disponibles (físicas) / Credenciales disponibles registradas en SIIRFE-MAC) x 100 | F22: ='PANEL DE CONTROL DISTRITAL'!F21 -> Semanal (remesa) | G22: ='PANEL DE CONTROL DISTRITAL'!G21 -> 1 | H22: ='PANEL DE CONTROL DISTRITAL'!H21 -> Credenciales disponibles (físicas) | I22: 0 | J22: 0 | K22: 0 | L22: 0 | M22: 0 | N22: 0 | O22: 0 | P22: 0 | Q22: 0 | R22: 0 | S22: 0 | T22: 0 | U22: 0 | V22: 86 | W22: 46 | X22: 65 | Y22: 84 | Z22: 71 | AA22: 88 | AB22: 83 | AC22: 46 | AD22: 0 | AE22: 0 | AF22: 137 | AG22: 256 | AH22: 350 | AI22: 602 | AJ22: 611 | AK22: 582 | AL22: 652 | AM22: 654 | AN22: 587 | AO22: 702 | AP22: 687 | AQ22: 515 | AR22: 636 | AS22: =IFERROR(SUM(I22:AR22)/SUM(I23:AR23),0) -> 1
H23: ='PANEL DE CONTROL DISTRITAL'!H22 -> Credenciales disponibles registradas en SIIRFE | I23: 0 | J23: 0 | K23: 0 | L23: 0 | M23: 0 | N23: 0 | O23: 0 | P23: 0 | Q23: 0 | R23: 0 | S23: 0 | T23: 0 | U23: 0 | V23: 86 | W23: 46 | X23: 65 | Y23: 84 | Z23: 71 | AA23: 88 | AB23: 83 | AC23: 46 | AD23: 0 | AE23: 0 | AF23: 137 | AG23: 256 | AH23: 350 | AI23: 602 | AJ23: 611 | AK23: 582 | AL23: 652 | AM23: 654 | AN23: 587 | AO23: 702 | AP23: 687 | AQ23: 515 | AR23: 636
A24: 0
A25: ='PANEL DE CONTROL DISTRITAL'!A24 -> 6 | B25: ='PANEL DE CONTROL DISTRITAL'!B24 -> Entrega de la Credencial para Votar. | C25: ='PANEL DE CONTROL DISTRITAL'!C24 -> Operador de Equipo Tecnológico | D25: ='PANEL DE CONTROL DISTRITAL'!D24 -> Efectividad de entrega de CPV en MAC. | E25: ='PANEL DE CONTROL DISTRITAL'!E24 -> (Total de credenciales entregadas / Total de ciudadanas y ciudadanos que acuden al MAC a recoger su credencial) x 100 | F25: ='PANEL DE CONTROL DISTRITAL'!F24 -> Semanal (remesa) | G25: ='PANEL DE CONTROL DISTRITAL'!G24 -> 0.9 | H25: ='PANEL DE CONTROL DISTRITAL'!H24 -> Total de credenciales entregadas | I25: 0 | J25: 0 | K25: 0 | L25: 0 | M25: 0 | N25: 0 | O25: 0 | P25: 0 | Q25: 0 | R25: 0 | S25: 0 | T25: 0 | U25: 0 | V25: 76 | W25: 94 | X25: 64 | Y25: 64 | Z25: 102 | AA25: 114 | AB25: 32 | AC25: 129 | AD25: 27 | AE25: 0 | AF25: 4 | AG25: 96 | AH25: 167 | AI25: 295 | AJ25: 400 | AK25: 383 | AL25: 413 | AM25: 402 | AN25: 447 | AO25: 472 | AP25: 444 | AQ25: 453 | AR25: 404 | AS25: =IFERROR(SUM(I25:AR25)/SUM(I26:AR26),0) -> 0.99960661
H26: ='PANEL DE CONTROL DISTRITAL'!H25 -> Total de ciudadanos que acuden a MAC a recoger su credencial | I26: 0 | J26: 0 | K26: 0 | L26: 0 | M26: 0 | N26: 0 | O26: 0 | P26: 0 | Q26: 0 | R26: 0 | S26: 0 | T26: 0 | U26: 0 | V26: 76 | W26: 94 | X26: 64 | Y26: 64 | Z26: 102 | AA26: 114 | AB26: 32 | AC26: 129 | AD26: 27 | AE26: 0 | AF26: 4 | AG26: 96 | AH26: 167 | AI26: 295 | AJ26: 400 | AK26: 383 | AL26: 413 | AM26: 402 | AN26: 447 | AO26: 474 | AP26: 444 | AQ26: 453 | AR26: 404
B27: *Registre el valor nominal solicitado en la celda, el resultado proporcional esta automatizado.
I29: Semaforización
J30: Valor que requiere atención y justificación en el apartado de observaciones
J31: Valor suficiente
J32: Valor esperado
B34: CUADRO DE OBSERVACIONES
B35: Descripción | H35: No conformidad
B36: En la remesa 202418,202419,202420,202421,202422,202423,202424,202425,202426,202427,202428,202429,202430,202431,202432,202433,202434,202435,202436,202437 no se tuvieron solicitudes de reenvío

Sheet 150952
A1: ='PANEL DE CONTROL DISTRITAL'!A1:Q1 -> INSTITUTO NACIONAL ELECTORAL SISTEMA DE GESTIÓN DE LA CALIDAD ESTADO DE MÉXICO
D2: Distrito | E2: 9 | F2: Módulo | H2: 150952
A4: TABLERO DE CONTROL DE PROCESOS SUSTANTIVOS DEL SISTEMA DE GESTIÓN DE LA CALIDAD
A6: ='PANEL DE CONTROL DISTRITAL'!A6 -> Número | B6: ='PANEL DE CONTROL DISTRITAL'!B6 -> PROCESOS SUSTANTIVOS E INDICADORES | I6: SEMANA OPERATIVA | AS6: % AVANCE REGISTRADO
B7: ='PANEL DE CONTROL DISTRITAL'!B7 -> DESCRIPCIÓN | E7: ='PANEL DE CONTROL DISTRITAL'!E7 -> MEDICIÓN | I7: ='PANEL DE CONTROL DISTRITAL'!A5 -> CAMPAÑA ANUAL PERMANENTE 2024
B9: ='PANEL DE CONTROL DISTRITAL'!B8 -> Proceso | C9: ='PANEL DE CONTROL DISTRITAL'!C8 -> Dueño de Proceso | D9: ='PANEL DE CONTROL DISTRITAL'!D8 -> Indicador | E9: ='PANEL DE CONTROL DISTRITAL'!E8 -> Cálculo | F9: ='PANEL DE CONTROL DISTRITAL'!F8 -> Periodo | G9: ='PANEL DE CONTROL DISTRITAL'!G8 -> Estimado | H9: ='PANEL DE CONTROL DISTRITAL'!H8 -> Nominativo | I9: ='150151'!I9 -> 2024-05 | J9: ='150151'!J9 -> 2024-06 | K9: ='150151'!K9 -> 2024-07 | L9: ='150151'!L9 -> 2024-08 | M9: ='150151'!M9 -> 2024-09 | N9: ='150151'!N9 -> 2024-10 | O9: ='150151'!O9 -> 2024-11 | P9: ='150151'!P9 -> 2024-12 | ... AR9: ='150151'!AR9 -> 2024-40
A10: ='PANEL DE CONTROL DISTRITAL'!A9 -> 1 | B10: ='PANEL DE CONTROL DISTRITAL'!B9 -> Entrevista | C10: ='PANEL DE CONTROL DISTRITAL'!C9 -> Auxiliar de Atención Ciudadana | D10: ='PANEL DE CONTROL DISTRITAL'!D9 -> Fichas requisitadas correctamente. | E10: ='PANEL DE CONTROL DISTRITAL'!E9 -> (Fichas requisitadas correctamente / Fichas revisadas en la muestra del 10%) x 100 | F10: ='PANEL DE CONTROL DISTRITAL'!F9 -> Semanal (remesa) | G10: ='PANEL DE CONTROL DISTRITAL'!G9 -> 0.9 | H10: ='PANEL DE CONTROL DISTRITAL'!H9 -> Fichas requistadas correctamente | I10: 0 | J10: 0 | K10: 0 | L10: 0 | M10: 0 | N10: 0 | O10: 0 | P10: 0 | Q10: 0 | R10: 0 | S10: 0 | T10: 0 | U10: 0 | V10: 3 | W10: 3 | X10: 3 | Y10: 3 | Z10: 3 | AA10: 3 | AB10: 2 | AC10: 0 | AD10: 0 | AE10: 0 | AF10: 18 | AG10: 27 | AH10: 37 | AI10: 27 | AJ10: 24 | AK10: 24 | AL10: 31 | AM10: 26 | AN10: 27 | AO10: 31 | AP10: 24 | AQ10: 25 | AR10: 21 | AS10: =IFERROR(SUM(I10:AR10)/SUM(I11:AR11),0) -> 1
H11: ='PANEL DE CONTROL DISTRITAL'!H10 -> Fichas revisadas en la Muestra del 10% | I11: 0 | J11: 0 | K11: 0 | L11: 0 | M11: 0 | N11: 0 | O11: 0 | P11: 0 | Q11: 0 | R11: 0 | S11: 0 | T11: 0 | U11: 0 | V11: 3 | W11: 3 | X11: 3 | Y11: 3 | Z11: 3 | AA11: 3 | AB11: 2 | AC11: 0 | AD11: 0 | AE11: 0 | AF11: 18 | AG11: 27 | AH11: 37 | AI11: 27 | AJ11: 24 | AK11: 24 | AL11: 31 | AM11: 26 | AN11: 27 | AO11: 31 | AP11: 24 | AQ11: 25 | AR11: 21
A13: ='PANEL DE CONTROL DISTRITAL'!A12 -> 2 | B13: ='PANEL DE CONTROL DISTRITAL'!B12 -> Trámite | C13: ='PANEL DE CONTROL DISTRITAL'!C12 -> Operador de Equipo Tecnológico | D13: ='PANEL DE CONTROL DISTRITAL'!D12 -> Trámites exitosos. | E13: ='PANEL DE CONTROL DISTRITAL'!E12 -> (Número de trámites exitosos / Número de trámites aplicados) x 100 | F13: ='PANEL DE CONTROL DISTRITAL'!F12 -> Semanal (remesa) | G13: ='PANEL DE CONTROL DISTRITAL'!G12 -> 0.9 | H13: ='PANEL DE CONTROL DISTRITAL'!H12 -> Número de trámites exitosos | I13: 0 | J13: 0 | K13: 0 | L13: 0 | M13: 0 | N13: 0 | O13: 0 | P13: 0 | Q13: 0 | R13: 0 | S13: 0 | T13: 0 | U13: 0 | V13: 22 | W13: 26 | X13: 30 | Y13: 24 | Z13: 27 | AA13: 37 | AB13: 18 | AC13: 0 | AD13: 0 | AE13: 0 | AF13: 175 | AG13: 273 | AH13: 370 | AI13: 270 | AJ13: 235 | AK13: 238 | AL13: 302 | AM13: 256 | AN13: 270 | AO13: 308 | AP13: 240 | AQ13: 251 | AR13: 169 | AS13: =IFERROR(SUM(I13:AR13)/SUM(I14:AR14),0) -> 0.98333796
H14: ='PANEL DE CONTROL DISTRITAL'!H13 -> Número de trámites aplicados | I14: 0 | J14: 0 | K14: 0 | L14: 0 | M14: 0 | N14: 0 | O14: 0 | P14: 0 | Q14: 0 | R14: 0 | S14: 0 | T14: 0 | U14: 0 | V14: 22 | W14: 26 | X14: 30 | Y14: 24 | Z14: 27 | AA14: 37 | AB14: 18 | AC14: 0 | AD14: 0 | AE14: 0 | AF14: 175 | AG14: 274 | AH14: 371 | AI14: 270 | AJ14: 237 | AK14: 241 | AL14: 303 | AM14: 259 | AN14: 271 | AO14: 311 | AP14: 241 | AQ14: 254 | AR14: 210
A16: ='PANEL DE CONTROL DISTRITAL'!A15 -> 3 | B16: ='PANEL DE CONTROL DISTRITAL'!B15 -> Transferencia de la Información. | C16: ='PANEL DE CONTROL DISTRITAL'!C15 -> Responsable de Módulo | D16: ='PANEL DE CONTROL DISTRITAL'!D15 -> Reenvíos exitosos. | E16: ='PANEL DE CONTROL DISTRITAL'!E15 -> (Ejecución de los scripts de reenvío de notificaciones / Solicitud de reenvíos de scripts requeridos) x100 | F16: ='PANEL DE CONTROL DISTRITAL'!F15 -> Semanal (remesa) | G16: ='PANEL DE CONTROL DISTRITAL'!G15 -> 1 | H16: ='PANEL DE CONTROL DISTRITAL'!H15 -> Ejecución de los scripts de reenvío de notificaciones | I16: 0 | J16: 0 | K16: 0 | L16: 0 | M16: 0 | N16: 0 | O16: 0 | P16: 0 | Q16: 0 | R16: 0 | S16: 0 | T16: 0 | U16: 0 | V16: 0 | W16: 0 | X16: 0 | Y16: 0 | Z16: 0 | AA16: 0 | AB16: 0 | AC16: 0 | AD16: 0 | AE16: 0 | AF16: 0 | AG16: 0 | AH16: 0 | AI16: 0 | AJ16: 0 | AK16: 0 | AL16: 0 | AM16: 0 | AN16: 0 | AO16: 0 | AP16: 0 | AQ16: 0 | AR16: 0 | AS16: =IFERROR(SUM(I16:AR16)/SUM(I17:AR17),1) -> 1
H17: ='PANEL DE CONTROL DISTRITAL'!H16 -> Solicitud de reevíos de scripts requeridos | I17: 0 | J17: 0 | K17: 0 | L17: 0 | M17: 0 | N17: 0 | O17: 0 | P17: 0 | Q17: 0 | R17: 0 | S17: 0 | T17: 0 | U17: 0 | V17: 0 | W17: 0 | X17: 0 | Y17: 0 | Z17: 0 | AA17: 0 | AB17: 0 | AC17: 0 | AD17: 0 | AE17: 0 | AF17: 0 | AG17: 0 | AH17: 0 | AI17: 0 | AJ17: 0 | AK17: 0 | AL17: 0 | AM17: 0 | AN17: 0 | AO17: 0 | AP17: 0 | AQ17: 0 | AR17: 0
A19: ='PANEL DE CONTROL DISTRITAL'!A18 -> 4 | B19: ='PANEL DE CONTROL DISTRITAL'!B18 -> Conciliación de Credenciales para Votar. | C19: ='PANEL DE CONTROL DISTRITAL'!C18 -> Responsable de Módulo | D19: ='PANEL DE CONTROL DISTRITAL'!D18 -> Credenciales disponibles para entrega. | E19: ='PANEL DE CONTROL DISTRITAL'!E18 -> [(Credenciales recibidas - Credenciales inconsistentes) / Credenciales recibidas] x 100 | F19: ='PANEL DE CONTROL DISTRITAL'!F18 -> Semanal (remesa) | G19: ='PANEL DE CONTROL DISTRITAL'!G18 -> 0.9 | H19: ='PANEL DE CONTROL DISTRITAL'!H18 -> Credenciales Recibidas - Credenciales inconsistentes | I19: 0 | J19: 0 | K19: 0 | L19: 0 | M19: 0 | N19: 0 | O19: 0 | P19: 0 | Q19: 0 | R19: 0 | S19: 0 | T19: 0 | U19: 0 | V19: 17 | W19: 33 | X19: 25 | Y19: 25 | Z19: 31 | AA19: 27 | AB19: 0 | AC19: 39 | AD19: 0 | AE19: 0 | AF19: 0 | AG19: 297 | AH19: 299 | AI19: 329 | AJ19: 264 | AK19: 228 | AL19: 243 | AM19: 307 | AN19: 222 | AO19: 275 | AP19: 334 | AQ19: 187 | AR19: 286 | AS19: =IFERROR(SUM(I19:AR19)/SUM(I20:AR20),0) -> 1
H20: ='PANEL DE CONTROL DISTRITAL'!H19 -> Credenciales recibidas | I20: 0 | J20: 0 | K20: 0 | L20: 0 | M20: 0 | N20: 0 | O20: 0 | P20: 0 | Q20: 0 | R20: 0 | S20: 0 | T20: 0 | U20: 0 | V20: 17 | W20: 33 | X20: 25 | Y20: 25 | Z20: 31 | AA20: 27 | AB20: 0 | AC20: 39 | AD20: 0 | AE20: 0 | AF20: 0 | AG20: 297 | AH20: 299 | AI20: 329 | AJ20: 264 | AK20: 228 | AL20: 243 | AM20: 307 | AN20: 222 | AO20: 275 | AP20: 334 | AQ20: 187 | AR20: 286
A22: ='PANEL DE CONTROL DISTRITAL'!A21 -> 5 | B22: ='PANEL DE CONTROL DISTRITAL'!B21 -> Conciliación de Credenciales para Votar. | C22: ='PANEL DE CONTROL DISTRITAL'!C21 -> Responsable de Módulo | D22: ='PANEL DE CONTROL DISTRITAL'!D21 -> Arqueo de credenciales. | E22: ='PANEL DE CONTROL DISTRITAL'!E21 -> (Credenciales disponibles (físicas) / Credenciales disponibles registradas en SIIRFE-MAC) x 100 | F22: ='PANEL DE CONTROL DISTRITAL'!F21 -> Semanal (remesa) | G22: ='PANEL DE CONTROL DISTRITAL'!G21 -> 1 | H22: ='PANEL DE CONTROL DISTRITAL'!H21 -> Credenciales disponibles (físicas) | I22: 0 | J22: 0 | K22: 0 | L22: 0 | M22: 0 | N22: 0 | O22: 0 | P22: 0 | Q22: 0 | R22: 0 | S22: 0 | T22: 0 | U22: 0 | V22: 28 | W22: 35 | X22: 30 | Y22: 34 | Z22: 48 | AA22: 45 | AB22: 31 | AC22: 28 | AD22: 0 | AE22: 0 | AF22: 65 | AG22: 328 | AH22: 421 | AI22: 459 | AJ22: 421 | AK22: 387 | AL22: 381 | AM22: 442 | AN22: 406 | AO22: 422 | AP22: 476 | AQ22: 350 | AR22: 414 | AS22: =IFERROR(SUM(I22:AR22)/SUM(I23:AR23),0) -> 1
H23: ='PANEL DE CONTROL DISTRITAL'!H22 -> Credenciales disponibles registradas en SIIRFE | I23: 0 | J23: 0 | K23: 0 | L23: 0 | M23: 0 | N23: 0 | O23: 0 | P23: 0 | Q23: 0 | R23: 0 | S23: 0 | T23: 0 | U23: 0 | V23: 28 | W23: 35 | X23: 30 | Y23: 34 | Z23: 48 | AA23: 45 | AB23: 31 | AC23: 28 | AD23: 0 | AE23: 0 | AF23: 65 | AG23: 328 | AH23: 421 | AI23: 459 | AJ23: 421 | AK23: 387 | AL23: 381 | AM23: 442 | AN23: 406 | AO23: 422 | AP23: 476 | AQ23: 350 | AR23: 414
A25: ='PANEL DE CONTROL DISTRITAL'!A24 -> 6 | B25: ='PANEL DE CONTROL DISTRITAL'!B24 -> Entrega de la Credencial para Votar. | C25: ='PANEL DE CONTROL DISTRITAL'!C24 -> Operador de Equipo Tecnológico | D25: ='PANEL DE CONTROL DISTRITAL'!D24 -> Efectividad de entrega de CPV en MAC. | E25: ='PANEL DE CONTROL DISTRITAL'!E24 -> (Total de credenciales entregadas / Total de ciudadanas y ciudadanos que acuden al MAC a recoger su credencial) x 100 | F25: ='PANEL DE CONTROL DISTRITAL'!F24 -> Semanal (remesa) | G25: ='PANEL DE CONTROL DISTRITAL'!G24 -> 0.9 | H25: ='PANEL DE CONTROL DISTRITAL'!H24 -> Total de credenciales entregadas | I25: 0 | J25: 0 | K25: 0 | L25: 0 | M25: 0 | N25: 0 | O25: 0 | P25: 0 | Q25: 0 | R25: 0 | S25: 0 | T25: 0 | U25: 0 | V25: 18 | W25: 26 | X25: 30 | Y25: 21 | Z25: 17 | AA25: 30 | AB25: 14 | AC25: 42 | AD25: 15 | AE25: 0 | AF25: 0 | AG25: 34 | AH25: 206 | AI25: 291 | AJ25: 297 | AK25: 262 | AL25: 249 | AM25: 246 | AN25: 257 | AO25: 257 | AP25: 280 | AQ25: 313 | AR25: 222 | AS25: =IFERROR(SUM(I25:AR25)/SUM(I26:AR26),0) -> 0.99968031
H26: ='PANEL DE CONTROL DISTRITAL'!H25 -> Total de ciudadanos que acuden a MAC a recoger su credencial | I26: 0 | J26: 0 | K26: 0 | L26: 0 | M26: 0 | N26: 0 | O26: 0 | P26: 0 | Q26: 0 | R26: 0 | S26: 0 | T26: 0 | U26: 0 | V26: 18 | W26: 26 | X26: 30 | Y26: 21 | Z26: 17 | AA26: 30 | AB26: 14 | AC26: 42 | AD26: 15 | AE26: 0 | AF26: 0 | AG26: 34 | AH26: 206 | AI26: 291 | AJ26: 297 | AK26: 262 | AL26: 250 | AM26: 246 | AN26: 257 | AO26: 257 | AP26: 280 | AQ26: 313 | AR26: 222
B27: *Registre el valor nominal solicitado en la celda, el resultado proporcional esta automatizado.
I29: Semaforización
J30: Valor que requiere atención y justificación en el apartado de observaciones
J31: Valor suficiente
J32: Valor esperado
B34: CUADRO DE OBSERVACIONES
B35: Descripción | H35: No conformidad
B36: En la remesa 202418,202419,202420,202421,202422,202423,202424,202425,202426,202427,202428,202429,202430,202431,202432,202433,202434,202435,202436 no se tuvieron solicitudes de reenvío.

Sheet 150953
A1: ='PANEL DE CONTROL DISTRITAL'!A1:Q1 -> INSTITUTO NACIONAL ELECTORAL SISTEMA DE GESTIÓN DE LA CALIDAD ESTADO DE MÉXICO
D2: Distrito | E2: 9 | F2: Módulo | H2: 150953
A4: TABLERO DE CONTROL DE PROCESOS SUSTANTIVOS DEL SISTEMA DE GESTIÓN DE LA CALIDAD
A6: ='PANEL DE CONTROL DISTRITAL'!A6 -> Número | B6: ='PANEL DE CONTROL DISTRITAL'!B6 -> PROCESOS SUSTANTIVOS E INDICADORES | I6: SEMANA OPERATIVA | AS6: % AVANCE REGISTRADO
B7: ='PANEL DE CONTROL DISTRITAL'!B7 -> DESCRIPCIÓN | E7: ='PANEL DE CONTROL DISTRITAL'!E7 -> MEDICIÓN | I7: ='PANEL DE CONTROL DISTRITAL'!A5 -> CAMPAÑA ANUAL PERMANENTE 2024
B9: ='PANEL DE CONTROL DISTRITAL'!B8 -> Proceso | C9: ='PANEL DE CONTROL DISTRITAL'!C8 -> Dueño de Proceso | D9: ='PANEL DE CONTROL DISTRITAL'!D8 -> Indicador | E9: ='PANEL DE CONTROL DISTRITAL'!E8 -> Cálculo | F9: ='PANEL DE CONTROL DISTRITAL'!F8 -> Periodo | G9: ='PANEL DE CONTROL DISTRITAL'!G8 -> Estimado | H9: ='PANEL DE CONTROL DISTRITAL'!H8 -> Nominativo | I9: ='150151'!I9 -> 2024-05 | J9: ='150151'!J9 -> 2024-06 | K9: ='150151'!K9 -> 2024-07 | L9: ='150151'!L9 -> 2024-08 | M9: ='150151'!M9 -> 2024-09 | N9: ='150151'!N9 -> 2024-10 | O9: ='150151'!O9 -> 2024-11 | P9: ='150151'!P9 -> 2024-12 | ... AR9: ='150151'!AR9 -> 2024-40
A10: ='PANEL DE CONTROL DISTRITAL'!A9 -> 1 | B10: ='PANEL DE CONTROL DISTRITAL'!B9 -> Entrevista | C10: ='PANEL DE CONTROL DISTRITAL'!C9 -> Auxiliar de Atención Ciudadana | D10: ='PANEL DE CONTROL DISTRITAL'!D9 -> Fichas requisitadas correctamente. | E10: ='PANEL DE CONTROL DISTRITAL'!E9 -> (Fichas requisitadas correctamente / Fichas revisadas en la muestra del 10%) x 100 | F10: ='PANEL DE CONTROL DISTRITAL'!F9 -> Semanal (remesa) | G10: ='PANEL DE CONTROL DISTRITAL'!G9 -> 0.9 | H10: ='PANEL DE CONTROL DISTRITAL'!H9 -> Fichas requistadas correctamente | I10: 0 | J10: 0 | K10: 0 | L10: 0 | M10: 0 | N10: 0 | O10: 0 | P10: 0 | Q10: 0 | R10: 0 | S10: 0 | T10: 0 | U10: 0 | V10: 5 | W10: 5 | X10: 7 | Y10: 5 | Z10: 6 | AA10: 9 | AB10: 2 | AC10: 0 | AD10: 0 | AE10: 0 | AF10: 26 | AG10: 32 | AH10: 50 | AI10: 36 | AJ10: 36 | AK10: 30 | AL10: 40 | AM10: 40 | AN10: 42 | AO10: 42 | AP10: 40 | AQ10: 40 | AR10: 30 | AS10: =IFERROR(SUM(I10:AR10)/SUM(I11:AR11),0) -> 1
H11: ='PANEL DE CONTROL DISTRITAL'!H10 -> Fichas revisadas en la Muestra del 10% | I11: 0 | J11: 0 | K11: 0 | L11: 0 | M11: 0 | N11: 0 | O11: 0 | P11: 0 | Q11: 0 | R11: 0 | S11: 0 | T11: 0 | U11: 0 | V11: 5 | W11: 5 | X11: 7 | Y11: 5 | Z11: 6 | AA11: 9 | AB11: 2 | AC11: 0 | AD11: 0 | AE11: 0 | AF11: 26 | AG11: 32 | AH11: 50 | AI11: 36 | AJ11: 36 | AK11: 30 | AL11: 40 | AM11: 40 | AN11: 42 | AO11: 42 | AP11: 40 | AQ11: 40 | AR11: 30
A13: ='PANEL DE CONTROL DISTRITAL'!A12 -> 2 | B13: ='PANEL DE CONTROL DISTRITAL'!B12 -> Trámite | C13: ='PANEL DE CONTROL DISTRITAL'!C12 -> Operador de Equipo Tecnológico | D13: ='PANEL DE CONTROL DISTRITAL'!D12 -> Trámites exitosos. | E13: ='PANEL DE CONTROL DISTRITAL'!E12 -> (Número de trámites exitosos / Número de trámites aplicados) x 100 | F13: ='PANEL DE CONTROL DISTRITAL'!F12 -> Semanal (remesa) | G13: ='PANEL DE CONTROL DISTRITAL'!G12 -> 0.9 | H13: ='PANEL DE CONTROL DISTRITAL'!H12 -> Número de trámites exitosos | I13: 0 | J13: 0 | K13: 0 | L13: 0 | M13: 0 | N13: 0 | O13: 0 | P13: 0 | Q13: 0 | R13: 0 | S13: 0 | T13: 0 | U13: 0 | V13: 50 | W13: 51 | X13: 68 | Y13: 51 | Z13: 58 | AA13: 92 | AB13: 27 | AC13: 0 | AD13: 0 | AE13: 0 | AF13: 264 | AG13: 329 | AH13: 441 | AI13: 363 | AJ13: 357 | AK13: 351 | AL13: 405 | AM13: 388 | AN13: 419 | AO13: 420 | AP13: 404 | AQ13: 400 | AR13: 261 | AS13: =IFERROR(SUM(I13:AR13)/SUM(I14:AR14),0) -> 0.98559242
H14: ='PANEL DE CONTROL DISTRITAL'!H13 -> Número de trámites aplicados | I14: 0 | J14: 0 | K14: 0 | L14: 0 | M14: 0 | N14: 0 | O14: 0 | P14: 0 | Q14: 0 | R14: 0 | S14: 0 | T14: 0 | U14: 0 | V14: 50 | W14: 51 | X14: 68 | Y14: 51 | Z14: 58 | AA14: 92 | AB14: 27 | AC14: 0 | AD14: 0 | AE14: 0 | AF14: 265 | AG14: 329 | AH14: 443 | AI14: 365 | AJ14: 358 | AK14: 351 | AL14: 406 | AM14: 390 | AN14: 421 | AO14: 420 | AP14: 405 | AQ14: 400 | AR14: 325
A16: ='PANEL DE CONTROL DISTRITAL'!A15 -> 3 | B16: ='PANEL DE CONTROL DISTRITAL'!B15 -> Transferencia de la Información. | C16: ='PANEL DE CONTROL DISTRITAL'!C15 -> Responsable de Módulo | D16: ='PANEL DE CONTROL DISTRITAL'!D15 -> Reenvíos exitosos. | E16: ='PANEL DE CONTROL DISTRITAL'!E15 -> (Ejecución de los scripts de reenvío de notificaciones / Solicitud de reenvíos de scripts requeridos) x100 | F16: ='PANEL DE CONTROL DISTRITAL'!F15 -> Semanal (remesa) | G16: ='PANEL DE CONTROL DISTRITAL'!G15 -> 1 | H16: ='PANEL DE CONTROL DISTRITAL'!H15 -> Ejecución de los scripts de reenvío de notificaciones | I16: 0 | J16: 0 | K16: 0 | L16: 0 | M16: 0 | N16: 0 | O16: 0 | P16: 0 | Q16: 0 | R16: 0 | S16: 0 | T16: 0 | U16: 0 | V16: 0 | W16: 0 | X16: 0 | Y16: 0 | Z16: 0 | AA16: 0 | AB16: 0 | AC16: 0 | AD16: 0 | AE16: 0 | AF16: 0 | AG16: 0 | AH16: 0 | AI16: 0 | AJ16: 0 | AK16: 0 | AL16: 0 | AM16: 0 | AN16: 0 | AO16: 0 | AP16: 0 | AQ16: 0 | AR16: 0 | AS16: =IFERROR(SUM(I16:AR16)/SUM(I17:AR17),1) -> 1
H17: ='PANEL DE CONTROL DISTRITAL'!H16 -> Solicitud de reevíos de scripts requeridos | I17: 0 | J17: 0 | K17: 0 | L17: 0 | M17: 0 | N17: 0 | O17: 0 | P17: 0 | Q17: 0 | R17: 0 | S17: 0 | T17: 0 | U17: 0 | V17: 0 | W17: 0 | X17: 0 | Y17: 0 | Z17: 0 | AA17: 0 | AB17: 0 | AC17: 0 | AD17: 0 | AE17: 0 | AF17: 0 | AG17: 0 | AH17: 0 | AI17: 0 | AJ17: 0 | AK17: 0 | AL17: 0 | AM17: 0 | AN17: 0 | AO17: 0 | AP17: 0 | AQ17: 0 | AR17: 0
A19: ='PANEL DE CONTROL DISTRITAL'!A18 -> 4 | B19: ='PANEL DE CONTROL DISTRITAL'!B18 -> Conciliación de Credenciales para Votar. | C19: ='PANEL DE CONTROL DISTRITAL'!C18 -> Responsable de Módulo | D19: ='PANEL DE CONTROL DISTRITAL'!D18 -> Credenciales disponibles para entrega. | E19: ='PANEL DE CONTROL DISTRITAL'!E18 -> [(Credenciales recibidas - Credenciales inconsistentes) / Credenciales recibidas] x 100 | F19: ='PANEL DE CONTROL DISTRITAL'!F18 -> Semanal (remesa) | G19: ='PANEL DE CONTROL DISTRITAL'!G18 -> 0.9 | H19: ='PANEL DE CONTROL DISTRITAL'!H18 -> Credenciales Recibidas - Credenciales inconsistentes | I19: 0 | J19: 0 | K19: 0 | L19: 0 | M19: 0 | N19: 0 | O19: 0 | P19: 0 | Q19: 0 | R19: 0 | S19: 0 | T19: 0 | U19: 0 | V19: 43 | W19: 58 | X19: 68 | Y19: 44 | Z19: 67 | AA19: 55 | AB19: 0 | AC19: 87 | AD19: 0 | AE19: 0 | AF19: 149 | AG19: 262 | AH19: 350 | AI19: 411 | AJ19: 348 | AK19: 425 | AL19: 300 | AM19: 351 | AN19: 461 | AO19: 485 | AP19: 342 | AQ19: 401 | AR19: 390 | AS19: =IFERROR(SUM(I19:AR19)/SUM(I20:AR20),0) -> 1
H20: ='PANEL DE CONTROL DISTRITAL'!H19 -> Credenciales recibidas | I20: 0 | J20: 0 | K20: 0 | L20: 0 | M20: 0 | N20: 0 | O20: 0 | P20: 0 | Q20: 0 | R20: 0 | S20: 0 | T20: 0 | U20: 0 | V20: 43 | W20: 58 | X20: 68 | Y20: 44 | Z20: 67 | AA20: 55 | AB20: 0 | AC20: 87 | AD20: 0 | AE20: 0 | AF20: 149 | AG20: 262 | AH20: 350 | AI20: 411 | AJ20: 348 | AK20: 425 | AL20: 300 | AM20: 351 | AN20: 461 | AO20: 485 | AP20: 342 | AQ20: 401 | AR20: 390
A22: ='PANEL DE CONTROL DISTRITAL'!A21 -> 5 | B22: ='PANEL DE CONTROL DISTRITAL'!B21 -> Conciliación de Credenciales para Votar. | C22: ='PANEL DE CONTROL DISTRITAL'!C21 -> Responsable de Módulo | D22: ='PANEL DE CONTROL DISTRITAL'!D21 -> Arqueo de credenciales. | E22: ='PANEL DE CONTROL DISTRITAL'!E21 -> (Credenciales disponibles (físicas) / Credenciales disponibles registradas en SIIRFE-MAC) x 100 | F22: ='PANEL DE CONTROL DISTRITAL'!F21 -> Semanal (remesa) | G22: ='PANEL DE CONTROL DISTRITAL'!G21 -> 1 | H22: ='PANEL DE CONTROL DISTRITAL'!H21 -> Credenciales disponibles (físicas) | I22: 0 | J22: 0 | K22: 0 | L22: 0 | M22: 0 | N22: 0 | O22: 0 | P22: 0 | Q22: 0 | R22: 0 | S22: 0 | T22: 0 | U22: 0 | V22: 148 | W22: 154 | X22: 175 | Y22: 159 | Z22: 167 | AA22: 135 | AB22: 109 | AC22: 128 | AD22: 71 | AE22: 0 | AF22: 285 | AG22: 424 | AH22: 521 | AI22: 624 | AJ22: 602 | AK22: 677 | AL22: 583 | AM22: 577 | AN22: 657 | AO22: 758 | AP22: 684 | AQ22: 650 | AR22: 688 | AS22: =IFERROR(SUM(I22:AR22)/SUM(I23:AR23),0) -> 1
H23: ='PANEL DE CONTROL DISTRITAL'!H22 -> Credenciales disponibles registradas en SIIRFE | I23: 0 | J23: 0 | K23: 0 | L23: 0 | M23: 0 | N23: 0 | O23: 0 | P23: 0 | Q23: 0 | R23: 0 | S23: 0 | T23: 0 | U23: 0 | V23: 148 | W23: 154 | X23: 175 | Y23: 159 | Z23: 167 | AA23: 135 | AB23: 109 | AC23: 128 | AD23: 71 | AE23: 0 | AF23: 285 | AG23: 424 | AH23: 521 | AI23: 624 | AJ23: 602 | AK23: 677 | AL23: 583 | AM23: 577 | AN23: 657 | AO23: 758 | AP23: 684 | AQ23: 650 | AR23: 688
A25: ='PANEL DE CONTROL DISTRITAL'!A24 -> 6 | B25: ='PANEL DE CONTROL DISTRITAL'!B24 -> Entrega de la Credencial para Votar. | C25: ='PANEL DE CONTROL DISTRITAL'!C24 -> Operador de Equipo Tecnológico | D25: ='PANEL DE CONTROL DISTRITAL'!D24 -> Efectividad de entrega de CPV en MAC. | E25: ='PANEL DE CONTROL DISTRITAL'!E24 -> (Total de credenciales entregadas / Total de ciudadanas y ciudadanos que acuden al MAC a recoger su credencial) x 100 | F25: ='PANEL DE CONTROL DISTRITAL'!F24 -> Semanal (remesa) | G25: ='PANEL DE CONTROL DISTRITAL'!G24 -> 0.9 | H25: ='PANEL DE CONTROL DISTRITAL'!H24 -> Total de credenciales entregadas | I25: 0 | J25: 0 | K25: 0 | L25: 0 | M25: 0 | N25: 0 | O25: 0 | P25: 0 | Q25: 0 | R25: 0 | S25: 0 | T25: 0 | U25: 0 | V25: 45 | W25: 52 | X25: 47 | Y25: 60 | Z25: 59 | AA25: 87 | AB25: 26 | AC25: 68 | AD25: 57 | AE25: 0 | AF25: 6 | AG25: 123 | AH25: 250 | AI25: 308 | AJ25: 354 | AK25: 350 | AL25: 394 | AM25: 357 | AN25: 381 | AO25: 382 | AP25: 416 | AQ25: 435 | AR25: 352 | AS25: =IFERROR(SUM(I25:AR25)/SUM(I26:AR26),0) -> 1
H26: ='PANEL DE CONTROL DISTRITAL'!H25 -> Total de ciudadanos que acuden a MAC a recoger su credencial | I26: 0 | J26: 0 | K26: 0 | L26: 0 | M26: 0 | N26: 0 | O26: 0 | P26: 0 | Q26: 0 | R26: 0 | S26: 0 | T26: 0 | U26: 0 | V26: 45 | W26: 52 | X26: 47 | Y26: 60 | Z26: 59 | AA26: 87 | AB26: 26 | AC26: 68 | AD26: 57 | AE26: 0 | AF26: 6 | AG26: 123 | AH26: 250 | AI26: 308 | AJ26: 354 | AK26: 350 | AL26: 394 | AM26: 357 | AN26: 381 | AO26: 382 | AP26: 416 | AQ26: 435 | AR26: 352
B27: *Registre el valor nominal solicitado en la celda, el resultado proporcional esta automatizado.
I29: Semaforización
J30: Valor que requiere atención y justificación en el apartado de observaciones
J31: Valor suficiente
J32: Valor esperado
B34: CUADRO DE OBSERVACIONES
B35: Descripción | H35: No conformidad
B36: En la remesa 202418,202419,202420,202421,202422,202423,202424,202425,202426,202427,202428,202429,202430,202431,202432,202433,202434,202435,202436 no se tuvieron solicitudes de reenvío

Sheet 150954
A1: ='PANEL DE CONTROL DISTRITAL'!A1:Q1 -> INSTITUTO NACIONAL ELECTORAL SISTEMA DE GESTIÓN DE LA CALIDAD ESTADO DE MÉXICO
D2: Distrito | E2: 9 | F2: Módulo | H2: 150954
A4: TABLERO DE CONTROL DE PROCESOS SUSTANTIVOS DEL SISTEMA DE GESTIÓN DE LA CALIDAD
A6: ='PANEL DE CONTROL DISTRITAL'!A6 -> Número | B6: ='PANEL DE CONTROL DISTRITAL'!B6 -> PROCESOS SUSTANTIVOS E INDICADORES | I6: SEMANA OPERATIVA | AS6: % AVANCE REGISTRADO
B7: ='PANEL DE CONTROL DISTRITAL'!B7 -> DESCRIPCIÓN | E7: ='PANEL DE CONTROL DISTRITAL'!E7 -> MEDICIÓN | I7: ='PANEL DE CONTROL DISTRITAL'!A5 -> CAMPAÑA ANUAL PERMANENTE 2024
B9: ='PANEL DE CONTROL DISTRITAL'!B8 -> Proceso | C9: ='PANEL DE CONTROL DISTRITAL'!C8 -> Dueño de Proceso | D9: ='PANEL DE CONTROL DISTRITAL'!D8 -> Indicador | E9: ='PANEL DE CONTROL DISTRITAL'!E8 -> Cálculo | F9: ='PANEL DE CONTROL DISTRITAL'!F8 -> Periodo | G9: ='PANEL DE CONTROL DISTRITAL'!G8 -> Estimado | H9: ='PANEL DE CONTROL DISTRITAL'!H8 -> Nominativo | I9: ='150151'!I9 -> 2024-05 | J9: ='150151'!J9 -> 2024-06 | K9: ='150151'!K9 -> 2024-07 | L9: ='150151'!L9 -> 2024-08 | M9: ='150151'!M9 -> 2024-09 | N9: ='150151'!N9 -> 2024-10 | O9: ='150151'!O9 -> 2024-11 | P9: ='150151'!P9 -> 2024-12 | ... AR9: ='150151'!AR9 -> 2024-40
A10: ='PANEL DE CONTROL DISTRITAL'!A9 -> 1 | B10: ='PANEL DE CONTROL DISTRITAL'!B9 -> Entrevista | C10: ='PANEL DE CONTROL DISTRITAL'!C9 -> Auxiliar de Atención Ciudadana | D10: ='PANEL DE CONTROL DISTRITAL'!D9 -> Fichas requisitadas correctamente. | E10: ='PANEL DE CONTROL DISTRITAL'!E9 -> (Fichas requisitadas correctamente / Fichas revisadas en la muestra del 10%) x 100 | F10: ='PANEL DE CONTROL DISTRITAL'!F9 -> Semanal (remesa) | G10: ='PANEL DE CONTROL DISTRITAL'!G9 -> 0.9 | H10: ='PANEL DE CONTROL DISTRITAL'!H9 -> Fichas requistadas correctamente | I10: 0 | J10: 0 | K10: 0 | L10: 0 | M10: 0 | N10: 0 | O10: 0 | P10: 0 | Q10: 0 | R10: 0 | S10: 0 | T10: 0 | U10: 0 | V10: 0 | W10: 0 | X10: 0 | Y10: 0 | Z10: 0 | AA10: 0 | AB10: 0 | AC10: 0 | AD10: 0 | AE10: 0 | AF10: 4 | AG10: 6 | AH10: 7 | AI10: 11 | AJ10: 8 | AK10: 15 | AL10: 17 | AM10: 7 | AN10: 13 | AO10: 25 | AP10: 9 | AQ10: 12 | AR10: 18 | AS10: =IFERROR(SUM(I10:AR10)/SUM(I11:AR11),0) -> 1
H11: ='PANEL DE CONTROL DISTRITAL'!H10 -> Fichas revisadas en la Muestra del 10% | I11: 0 | J11: 0 | K11: 0 | L11: 0 | M11: 0 | N11: 0 | O11: 0 | P11: 0 | Q11: 0 | R11: 0 | S11: 0 | T11: 0 | U11: 0 | V11: 0 | W11: 0 | X11: 0 | Y11: 0 | Z11: 0 | AA11: 0 | AB11: 0 | AC11: 0 | AD11: 0 | AE11: 0 | AF11: 4 | AG11: 6 | AH11: 7 | AI11: 11 | AJ11: 8 | AK11: 15 | AL11: 17 | AM11: 7 | AN11: 13 | AO11: 25 | AP11: 9 | AQ11: 12 | AR11: 18
