Workbook

Sheet PANEL DE CONTROL DISTRITAL
A1: INSTITUTO NACIONAL ELECTORAL SISTEMA DE GESTIÓN DE LA CALIDAD ESTADO DE MÉXICO
M2: Fecha de corte: 13/09/2024 | Q2: Version: 0
A4: TABLERO DE CONTROL DISTRITAL DE PROCESOS SUSTANTIVOS DEL SISTEMA DE GESTIÓN DE LA CALIDAD
A5: CAMPAÑA ANUAL PERMANENTE 2024
A6: Número | B6: PROCESOS SUSTANTIVOS E INDICADORES | I6: % AVANCE REGISTRADO | K6: % AVANCE REGISTRADO | M6: % AVANCE REGISTRADO | O6: % AVANCE REGISTRADO | Q6: % AVANCE REGISTRADO | S6: % AVANCE REGISTRADO | U6: % AVANCE REGISTRADO | W6: % AVANCE REGISTRADO | Y6: % AVANCE REGISTRADO | AA6: % AVANCE REGISTRADO | AC6: % AVANCE REGISTRADO | AE6: % AVANCE REGISTRADO | AG6: % AVANCE REGISTRADO | AI6: % AVANCE REGISTRADO | AK6: % AVANCE REGISTRADO | AM6: % AVANCE REGISTRADO | AO6: % AVANCE REGISTRADO | AQ6: % AVANCE REGISTRADO | AS6: % AVANCE REGISTRADO | AU6: % AVANCE REGISTRADO | AW6: % AVANCE REGISTRADO | AY6: % AVANCE REGISTRADO | BA6: % AVANCE REGISTRADO | BC6: % AVANCE REGISTRADO | BE6: % AVANCE REGISTRADO | BG6: % AVANCE REGISTRADO | BI6: % AVANCE REGISTRADO | BK6: % AVANCE REGISTRADO | BM6: % AVANCE REGISTRADO | BO6: % AVANCE REGISTRADO | BQ6: % AVANCE REGISTRADO | BS6: % AVANCE REGISTRADO | BU6: % AVANCE REGISTRADO | BW6: % AVANCE REGISTRADO | BY6: % AVANCE REGISTRADO | CA6: % AVANCE REGISTRADO | CC6: % AVANCE REGISTRADO | CE6: % AVANCE REGISTRADO | CG6: % AVANCE REGISTRADO | CI6: % AVANCE REGISTRADO | CK6: % AVANCE REGISTRADO
B7: DESCRIPCIÓN | E7: MEDICIÓN
B8: Proceso | C8: Dueño de Proceso | D8: Indicador | E8: Cálculo | F8: Periodo | G8: Estimado | H8: Nominativo | I8: Distrito 01 | K8: Distrito 02 | M8: Distrito 03 | O8: Distrito 04 | Q8: Distrito 05 | S8: Distrito 06 | U8: Distrito 07 | W8: Distrito 08 | Y8: Distrito 09 | AA8: Distrito 10 | AC8: Distrito 11 | AE8: Distrito 12 | AG8: Distrito 13 | AI8: Distrito 14 | AK8: Distrito 15 | AM8: Distrito 16 | AO8: Distrito 17 | AQ8: Distrito 18 | AS8: Distrito 19 | AU8: Distrito 20 | AW8: Distrito 21 | AY8: Distrito 22 | BA8: Distrito 23 | BC8: Distrito 24 | BE8: Distrito 25 | BG8: Distrito 26 | BI8: Distrito 27 | BK8: Distrito 28 | BM8: Distrito 29 | BO8: Distrito 30 | BQ8: Distrito 31 | BS8: Distrito 32 | BU8: Distrito 33 | BW8: Distrito 34 | BY8: Distrito 35 | CA8: Distrito 36 | CC8: Distrito 37 | CE8: Distrito 38 | CG8: Distrito 39 | CI8: Distrito 40 | CK8: Estatal
A9: 1 | B9: Entrevista | C9: Auxiliar de Atención Ciudadana | D9: Fichas requisitadas correctamente. | E9: (Fichas requisitadas correctamente / Fichas revisadas en la muestra del 10%) x 100 | F9: Semanal (remesa) | G9: 0.9 | H9: Fichas requistadas correctamente | I9: =AVERAGE('150151'!AS10:AS11,'150152'!AS10:AS11,'150153'!AS10:AS11) -> 1 | K9: =AVERAGE('150251'!AS10:AS11,'150253'!AS10:AS11) -> 0.99284254 | M9: =AVERAGE('150351'!AS10:AS11,'150352'!AS10:AS11,'150353'!AS10:AS11) -> 1 | O9: =AVERAGE('150451'!AS10:AS11) -> 0.98455598 | Q9: =AVERAGE('150551'!AS10:AS11) -> 1 | S9: =AVERAGE('150651'!AS10:AS11,'150652'!AS10:AS11) -> 1 | U9: =AVERAGE('150751'!AS10:AS11) -> 0.99968051 | W9: =AVERAGE('150851'!AS10:AS11) -> 0.9984326 | Y9: =AVERAGE('150951'!AS10:AS11,'150952'!AS10:AS11,'150953'!AS10:AS11,'150954'!AS10:AS11) -> 1 | AA9: =AVERAGE('151051'!AS10:AS11) -> 1 | AC9: =AVERAGE('151151'!AS10:AS11) -> 1 | AE9: =AVERAGE('151251'!AS10:AS11,'151252'!AS10:AS11,'151253'!AS10:AS11) -> 0.99501916 | AG9: =AVERAGE('151351'!AS10:AS11) -> 0.99180328 | AI9: =AVERAGE('151452'!AS10:AS11,'151453'!AS10:AS11) -> 1 | AK9: =AVERAGE('151551'!AS10:AS11) -> 1 | AM9: =AVERAGE('151651'!AS10:AS11,'151652'!AS10:AS11) -> 1 | AO9: =AVERAGE('151751'!AS10:AS11) -> 1 | AQ9: =AVERAGE('151851'!AS10:AS11,'151852'!AS10:AS11,'151853'!AS10:AS11) -> 1 | AS9: =AVERAGE('151951'!AS10:AS11,'151952'!AS10:AS11) -> 1 | AU9: =AVERAGE('152052'!AS10:AS11,'152053'!AS10:AS11,'152054'!AS10:AS11) -> 0.99984036 | AW9: =AVERAGE('152151'!AS10:AS11,'152152'!AS10:AS11) -> 0.99818906 | AY9: =AVERAGE('152251'!AS10:AS11,'152252'!AS10:AS11) -> 0.99388523 | BA9: =AVERAGE('152351'!AS10:AS11,'152352'!AS10:AS11,'152353'!AS10:AS11) -> 1 | BC9: =AVERAGE('152451'!AS10:AS11) -> 1 | BE9: =AVERAGE('152551'!AS10:AS11) -> 1 | BG9: =AVERAGE('152651'!AS10:AS11) -> 1 | BI9: =AVERAGE('152751'!AS10:AS11,'152752'!AS10:AS11,'152753'!AS10:AS11) -> 0.97765576 | BK9: =AVERAGE('152851'!AS10:AS11,'152853'!AS10:AS11) -> 1 | BM9: =AVERAGE('152951'!AS10:AS11) -> 0.99912816 | BO9: =AVERAGE('153051'!AS10:AS11,'153052'!AS10:AS11) -> 0.99939976 | BQ9: =AVERAGE('153151'!AS10:AS11) -> 1 | BS9: =AVERAGE('153251'!AS10:AS11) -> 1 | BU9: =AVERAGE('153351'!AS10:AS11) -> 1 | BW9: =AVERAGE('153451'!AS10:AS11) -> 1 | BY9: =AVERAGE('153551'!AS10:AS11,'153552'!AS10:AS11,'153553'!AS10:AS11) -> 1 | CA9: =AVERAGE('153651'!AS10:AS11,'153652'!AS10:AS11,'153653'!AS10:AS11,'153654'!AS10:AS11) -> 1 | CC9: =AVERAGE('153753'!AS10:AS11,'153752'!AS10:AS11) -> 0.97742373 | CE9: =AVERAGE('153851'!AS10:AS11,'153852'!AS10:AS11) -> 1 | CG9: =AVERAGE('153951'!AS10:AS11) -> 1 | CI9: =AVERAGE('154051'!AS10:AS11,'154052'!AS10:AS11,'154053'!AS10:AS11) -> 1 | CK9: =AVERAGE(I9,K9,M9,O9,Q9,S9,U9,W9,Y9,AA9,AC9,AE9,AG9,AI9,AK9,AM9,AO9,AQ9,AS9,AU9,AW9,AY9,BA9,BC9,BE9,BG9,BI9,BK9,BM9,BO9,BQ9,BS9,BU9,BW9,BY9,CA9,CC9,CE9,CG9,CI9) -> 0.9976964
H10: Fichas revisadas en la Muestra del 10%
A12: 2 | B12: Trámite | C12: Operador de Equipo Tecnológico | D12: Trámites exitosos. | E12: (Número de trámites exitosos / Número de trámites aplicados) x 100 | F12: Semanal (remesa) | G12: 0.9 | H12: Número de trámites exitosos | I12: =AVERAGE('150151'!AS13:AS14,'150152'!AS13:AS14,'150153'!AS13:AS14) -> 0.9983473 | K12: =AVERAGE('150251'!AS13:AS14,'150253'!AS13:AS14) -> 0.99758147 | M12: =AVERAGE('150351'!AS13:AS14,'150352'!AS13:AS14,'150353'!AS13:AS14) -> 0.9988192 | O12: =AVERAGE('150451'!AS13:AS14) -> 0.99792128 | Q12: =AVERAGE('150551'!AS13:AS14) -> 0.99623969 | S12: =AVERAGE('150651'!AS13:AS14,'150652'!AS13:AS14) -> 0.99752236 | U12: =AVERAGE('150751'!AS13:AS14) -> 0.99722484 | W12: =AVERAGE('150851'!AS13:AS14) -> 0.99718939 | Y12: =AVERAGE('150951'!AS13:AS14,'150952'!AS13:AS14,'150953'!AS13:AS14,'150954'!AS13:AS14) -> 0.98347803 | AA12: =AVERAGE('151051'!AS13:AS14) -> 0.97964471 | AC12: =AVERAGE('151151'!AS13:AS14) -> 0.99644172 | AE12: =AVERAGE('151251'!AS13:AS14,'151252'!AS13:AS14) -> 0.99629578 | AG12: =AVERAGE('151351'!AS13:AS14) -> 0.9956436 | AI12: =AVERAGE('151452'!AS13:AS14,'151453'!AS13:AS14) -> 0.99733876 | AK12: =AVERAGE('151551'!AS13:AS14) -> 0.97853346 | AM12: =AVERAGE('151651'!AS13:AS14,'151652'!AS13:AS14) -> 0.98164659 | AO12: =AVERAGE('151751'!AS13:AS14) -> 0.97700175 | AQ12: =AVERAGE('151851'!AS13:AS14,'151852'!AS13:AS14,'151853'!AS13:AS14) -> 0.98144663 | AS12: =AVERAGE('151951'!AS13:AS14,'151952'!AS13:AS14) -> 0.98328275 | AU12: =AVERAGE('152052'!AS13:AS14,'152053'!AS13:AS14,'152054'!AS13:AS14) -> 0.99668773 | AW12: =AVERAGE('152151'!AS13:AS14,'152152'!AS13:AS14) -> 0.99777198 | AY12: =AVERAGE('152251'!AS13:AS14,'152252'!AS13:AS14) -> 0.98442518 | BA12: =AVERAGE('152351'!AS13:AS14,'152352'!AS13:AS14,'152353'!AS13:AS14) -> 0.99559705 | BC12: =AVERAGE('152451'!AS13:AS14) -> 1 | BE12: =AVERAGE('152551'!AS13:AS14) -> 0.99475746 | BG12: =AVERAGE('152651'!AS13:AS14) -> 0.99824407 | BI12: =AVERAGE('152751'!AS13:AS14,'152752'!AS13:AS14,'152753'!AS13:AS14) -> 0.99782081 | BK12: =AVERAGE('152851'!AS13:AS14,'152853'!AS13:AS14) -> 0.99836252 | BM12: =AVERAGE('152951'!AS13:AS14) -> 0.99995632 | BO12: =AVERAGE('153051'!AS13:AS14,'153052'!AS13:AS14) -> 0.99407216 | BQ12: =AVERAGE('153151'!AS13:AS14) -> 0.99688632 | BS12: =AVERAGE('153251'!AS13:AS14) -> 0.98061752 | BU12: =AVERAGE('153351'!AS13:AS14) -> 0.99724457 | BW12: =AVERAGE('153451'!AS13:AS14) -> 0.99912956 | BY12: =AVERAGE('153551'!AS13:AS14,'153552'!AS13:AS14,'153553'!AS13:AS14) -> 0.99715252 | CA12: =AVERAGE('153651'!AS13:AS14,'153652'!AS13:AS14,'153653'!AS13:AS14,'153654'!AS13:AS14) -> 0.99101676 | CC12: =AVERAGE('153753'!AS13:AS14,'153752'!AS13:AS14) -> 0.99795081 | CE12: =AVERAGE('153851'!AS13:AS14,'153852'!AS13:AS14) -> 0.99620893 | CG12: =AVERAGE('153951'!AS13:AS14) -> 0.99604345 | CI12: =AVERAGE('154051'!AS13:AS14,'154052'!AS13:AS14,'154053'!AS13:AS14) -> 0.99790143 | CK12: =AVERAGE(I12,K12,M12,O12,Q12,S12,U12,W12,Y12,AA12,AC12,AE12,AG12,AI12,AK12,AM12,AO12,AQ12,AS12,AU12,AW12,AY12,BA12,BC12,BE12,BG12,BI12,BK12,BM12,BO12,BQ12,BS12,BU12,BW12,BY12,CA12,CC12,CE12,CG12,CI12) -> 0.99348616
H13: Número de trámites aplicados
A15: 3 | B15: Transferencia de la Información. | C15: Responsable de Módulo | D15: Reenvíos exitosos. | E15: (Ejecución de los scripts de reenvío de notificaciones / Solicitud de reenvíos de scripts requeridos) x100 | F15: Semanal (remesa) | G15: 1 | H15: Ejecución de los scripts de reenvío de notificaciones | I15: =AVERAGE('150151'!AS16:AS17,'150152'!AS16:AS17,'150153'!AS16:AS17) -> 1 | K15: =AVERAGE('150251'!AS16:AS17,'150253'!AS16:AS17) -> 1 | M15: =AVERAGE('150351'!AS16:AS17,'150352'!AS16:AS17,'150353'!AS16:AS17) -> 1 | O15: =AVERAGE('150451'!AS16:AS17) -> 1 | Q15: =AVERAGE('150551'!AS16:AS17) -> 1 | S15: =AVERAGE('150651'!AS16:AS17,'150652'!AS16:AS17) -> 1 | U15: =AVERAGE('150751'!AS16:AS17) -> 1 | W15: =AVERAGE('150851'!AS16:AS17) -> 1 | Y15: =AVERAGE('150951'!AS16:AS17,'150952'!AS16:AS17,'150953'!AS16:AS17,'150954'!AS16:AS17) -> 1 | AA15: =AVERAGE('151051'!AS16:AS17) -> 1 | AC15: =AVERAGE('151151'!AS16:AS17) -> 1 | AE15: =AVERAGE('151251'!AS16:AS17,'151252'!AS16:AS17) -> 1 | AG15: =AVERAGE('151351'!AS16:AS17) -> 1 | AI15: =AVERAGE('151452'!AS16:AS17,'151453'!AS16:AS17) -> 1 | AK15: =AVERAGE('151551'!AS16:AS17) -> 1 | AM15: =AVERAGE('151651'!AS16:AS17,'151652'!AS16:AS17) -> 1 | AO15: =AVERAGE('151751'!AS16:AS17) -> 1 | AQ15: =AVERAGE('151851'!AS16:AS17,'151852'!AS16:AS17,'151853'!AS16:AS17) -> 1 | AS15: =AVERAGE('151951'!AS16:AS17,'151952'!AS16:AS17) -> 1 | AU15: =AVERAGE('152052'!AS16:AS17,'152053'!AS16:AS17,'152054'!AS16:AS17) -> 0.97435897 | AW15: =AVERAGE('152151'!AS16:AS17,'152152'!AS16:AS17) -> 1 | AY15: =AVERAGE('152251'!AS16:AS17,'152252'!AS16:AS17) -> 1 | BA15: =AVERAGE('152351'!AS16:AS17,'152352'!AS16:AS17,'152353'!AS16:AS17) -> 1 | BC15: =AVERAGE('152451'!AS16:AS17) -> 1 | BE15: =AVERAGE('152551'!AS16:AS17) -> 1 | BG15: =AVERAGE('152651'!AS16:AS17) -> 1 | BI15: =AVERAGE('152751'!AS16:AS17,'152752'!AS16:AS17,'152753'!AS16:AS17) -> 1 | BK15: =AVERAGE('152851'!AS16:AS17,'152853'!AS16:AS17) -> 1 | BM15: =AVERAGE('152951'!AS16:AS17) -> 1 | BO15: =AVERAGE('153051'!AS16:AS17,'153052'!AS16:AS17) -> 1 | BQ15: =AVERAGE('153151'!AS16:AS17) -> 1 | BS15: =AVERAGE('153251'!AS16:AS17) -> 1 | BU15: =AVERAGE('153351'!AS16:AS17) -> 1 | BW15: =AVERAGE('153451'!AS16:AS17) -> 1 | BY15: =AVERAGE('153551'!AS16:AS17,'153552'!AS16:AS17,'153553'!AS16:AS17) -> 1 | CA15: =AVERAGE('153651'!AS16:AS17,'153652'!AS16:AS17,'153653'!AS16:AS17,'153654'!AS16:AS17) -> 1 | CC15: =AVERAGE('153753'!AS16:AS17,'153752'!AS16:AS17) -> 1 | CE15: =AVERAGE('153851'!AS16:AS17,'153852'!AS16:AS17) -> 1 | CG15: =AVERAGE('153951'!AS16:AS17) -> 1 | CI15: =AVERAGE('154051'!AS16:AS17,'154052'!AS16:AS17,'154053'!AS16:AS17) -> 1 | CK15: =AVERAGE(I15,K15,M15,O15,Q15,S15,U15,W15,Y15,AA15,AC15,AE15,AG15,AI15,AK15,AM15,AO15,AQ15,AS15,AU15,AW15,AY15,BA15,BC15,BE15,BG15,BI15,BK15,BM15,BO15,BQ15,BS15,BU15,BW15,BY15,CA15,CC15,CE15,CG15,CI15) -> 0.99935897
H16: Solicitud de reevíos de scripts requeridos
A18: 4 | B18: Conciliación de Credenciales para Votar. | C18: Responsable de Módulo | D18: Credenciales disponibles para entrega. | E18: [(Credenciales recibidas - Credenciales inconsistentes) / Credenciales recibidas] x 100 | F18: Semanal (remesa) | G18: 0.9 | H18: Credenciales Recibidas - Credenciales inconsistentes | I18: =AVERAGE('150151'!AS19:AS20,'150152'!AS19:AS20,'150153'!AS19:AS20) -> 1 | K18: =AVERAGE('150251'!AS19:AS20,'150253'!AS19:AS20) -> 1 | M18: =AVERAGE('150351'!AS19:AS20,'150352'!AS19:AS20,'150353'!AS19:AS20) -> 1 | O18: =AVERAGE('150451'!AS19:AS20) -> 1 | Q18: =AVERAGE('150551'!AS19:AS20) -> 1 | S18: =AVERAGE('150651'!AS19:AS20,'150652'!AS19:AS20) -> 1 | U18: =AVERAGE('150751'!AS19:AS20) -> 1 | W18: =AVERAGE('150851'!AS19:AS20) -> 1 | Y18: =AVERAGE('150951'!AS19:AS20,'150952'!AS19:AS20,'150953'!AS19:AS20,'150954'!AS19:AS20) -> 1 | AA18: =AVERAGE('151051'!AS19:AS20) -> 1 | AC18: =AVERAGE('151151'!AS19:AS20) -> 1 | AE18: =AVERAGE('151251'!AS19:AS20,'151252'!AS19:AS20) -> 1 | AG18: =AVERAGE('151351'!AS19:AS20) -> 1 | AI18: =AVERAGE('151452'!AS19:AS20,'151453'!AS19:AS20) -> 1 | AK18: =AVERAGE('151551'!AS19:AS20) -> 1 | AM18: =AVERAGE('151651'!AS19:AS20,'151652'!AS19:AS20) -> 1 | AO18: =AVERAGE('151751'!AS19:AS20) -> 1 | AQ18: =AVERAGE('151851'!AS19:AS20,'151852'!AS19:AS20,'151853'!AS19:AS20) -> 1 | AS18: =AVERAGE('151951'!AS19:AS20,'151952'!AS19:AS20) -> 1 | AU18: =AVERAGE('152052'!AS19:AS20,'152053'!AS19:AS20,'152054'!AS19:AS20) -> 1.0000625 | AW18: =AVERAGE('152151'!AS19:AS20,'152152'!AS19:AS20) -> 1 | AY18: =AVERAGE('152251'!AS19:AS20,'152252'!AS19:AS20) -> 1 | BA18: =AVERAGE('152351'!AS19:AS20,'152352'!AS19:AS20,'152353'!AS19:AS20) -> 1 | BC18: =AVERAGE('152451'!AS19:AS20) -> 1 | BE18: =AVERAGE('152551'!AS19:AS20) -> 1 | BG18: =AVERAGE('152651'!AS19:AS20) -> 1 | BI18: =AVERAGE('152751'!AS19:AS20,'152752'!AS19:AS20,'152753'!AS19:AS20) -> 1 | BK18: =AVERAGE('152851'!AS19:AS20,'152853'!AS19:AS20) -> 1 | BM18: =AVERAGE('152951'!AS19:AS20) -> 1 | BO18: =AVERAGE('153051'!AS19:AS20,'153052'!AS19:AS20) -> 1 | BQ18: =AVERAGE('153151'!AS19:AS20) -> 1 | BS18: =AVERAGE('153251'!AS19:AS20) -> 1 | BU18: =AVERAGE('153351'!AS19:AS20) -> 1 | BW18: =AVERAGE('153451'!AS19:AS20) -> 1 | BY18: =AVERAGE('153551'!AS19:AS20,'153552'!AS19:AS20,'153553'!AS19:AS20) -> 1 | CA18: =AVERAGE('153651'!AS19:AS20,'153652'!AS19:AS20,'153653'!AS19:AS20,'153654'!AS19:AS20) -> 1 | CC18: =AVERAGE('153753'!AS19:AS20,'153752'!AS19:AS20) -> 1 | CE18: =AVERAGE('153851'!AS19:AS20,'153852'!AS19:AS20) -> 1 | CG18: =AVERAGE('153951'!AS19:AS20) -> 1 | CI18: =AVERAGE('154051'!AS19:AS20,'154052'!AS19:AS20,'154053'!AS19:AS20) -> 1 | CK18: =AVERAGE(I18,K18,M18,O18,Q18,S18,U18,W18,Y18,AA18,AC18,AE18,AG18,AI18,AK18,AM18,AO18,AQ18,AS18,AU18,AW18,AY18,BA18,BC18,BE18,BG18,BI18,BK18,BM18,BO18,BQ18,BS18,BU18,BW18,BY18,CA18,CC18,CE18,CG18,CI18) -> 1.0000016
H19: Credenciales recibidas
A21: 5 | B21: Conciliación de Credenciales para Votar. | C21: Responsable de Módulo | D21: Arqueo de credenciales. | E21: (Credenciales disponibles (físicas) / Credenciales disponibles registradas en SIIRFE-MAC) x 100 | F21: Semanal (remesa) | G21: 1 | H21: Credenciales disponibles (físicas) | I21: =AVERAGE('150151'!AS22:AS23,'150152'!AS22:AS23,'150153'!AS22:AS23) -> 1 | K21: =AVERAGE('150251'!AS22:AS23,'150253'!AS22:AS23) -> 1 | M21: =AVERAGE('150351'!AS22:AS23,'150352'!AS22:AS23,'150353'!AS22:AS23) -> 1 | O21: =AVERAGE('150451'!AS22:AS23) -> 1 | Q21: =AVERAGE('150551'!AS22:AS23) -> 1 | S21: =AVERAGE('150651'!AS22:AS23,'150652'!AS22:AS23) -> 1 | U21: =AVERAGE('150751'!AS22:AS23) -> 1 | W21: =AVERAGE('150851'!AS22:AS23) -> 1 | Y21: =AVERAGE('150951'!AS22:AS23,'150952'!AS22:AS23,'150953'!AS22:AS23,'150954'!AS22:AS23) -> 1 | AA21: =AVERAGE('151051'!AS22:AS23) -> 1 | AC21: =AVERAGE('151151'!AS22:AS23) -> 1 | AE21: =AVERAGE('151251'!AS22:AS23,'151252'!AS22:AS23) -> 1 | AG21: =AVERAGE('151351'!AS22:AS23) -> 1 | AI21: =AVERAGE('151452'!AS22:AS23,'151453'!AS22:AS23) -> 1 | AK21: =AVERAGE('151551'!AS22:AS23) -> 1 | AM21: =AVERAGE('151651'!AS22:AS23,'151652'!AS22:AS23) -> 1 | AO21: =AVERAGE('151751'!AS22:AS23) -> 1 | AQ21: =AVERAGE('151851'!AS22:AS23,'151852'!AS22:AS23,'151853'!AS22:AS23) -> 1 | AS21: =AVERAGE('151951'!AS22:AS23,'151952'!AS22:AS23) -> 1 | AU21: =AVERAGE('152052'!AS22:AS23,'152053'!AS22:AS23,'152054'!AS22:AS23) -> 1 | AW21: =AVERAGE('152151'!AS22:AS23,'152152'!AS22:AS23) -> 1 | AY21: =AVERAGE('152251'!AS22:AS23,'152252'!AS22:AS23) -> 1 | BA21: =AVERAGE('152351'!AS22:AS23,'152352'!AS22:AS23,'152353'!AS22:AS23) -> 1 | BC21: =AVERAGE('152451'!AS22:AS23) -> 1 | BE21: =AVERAGE('152551'!AS22:AS23) -> 1 | BG21: =AVERAGE('152651'!AS22:AS23) -> 1 | BI21: =AVERAGE('152751'!AS22:AS23,'152752'!AS22:AS23,'152753'!AS22:AS23) -> 1 | BK21: =AVERAGE('152851'!AS22:AS23,'152853'!AS22:AS23) -> 1 | BM21: =AVERAGE('152951'!AS22:AS23) -> 1 | BO21: =AVERAGE('153051'!AS22:AS23,'153052'!AS22:AS23) -> 1 | BQ21: =AVERAGE('153151'!AS22:AS23) -> 1 | BS21: =AVERAGE('153251'!AS22:AS23) -> 1 | BU21: =AVERAGE('153351'!AS22:AS23) -> 1 | BW21: =AVERAGE('153451'!AS22:AS23) -> 1 | BY21: =AVERAGE('153551'!AS22:AS23,'153552'!AS22:AS23,'153553'!AS22:AS23) -> 1 | CA21: =AVERAGE('153651'!AS22:AS23,'153652'!AS22:AS23,'153653'!AS22:AS23,'153654'!AS22:AS23) -> 1 | CC21: =AVERAGE('153753'!AS22:AS23,'153752'!AS22:AS23) -> 1 | CE21: =AVERAGE('153851'!AS22:AS23,'153852'!AS22:AS23) -> 1 | CG21: =AVERAGE('153951'!AS22:AS23) -> 1 | CI21: =AVERAGE('154051'!AS22:AS23,'154052'!AS22:AS23,'154053'!AS22:AS23) -> 1 | CK21: =AVERAGE(I21,K21,M21,O21,Q21,S21,U21,W21,Y21,AA21,AC21,AE21,AG21,AI21,AK21,AM21,AO21,AQ21,AS21,AU21,AW21,AY21,BA21,BC21,BE21,BG21,BI21,BK21,BM21,BO21,BQ21,BS21,BU21,BW21,BY21,CA21,CC21,CE21,CG21,CI21) -> 1
H22: Credenciales disponibles registradas en SIIRFE
A24: 6 | B24: Entrega de la Credencial para Votar. | C24: Operador de Equipo Tecnológico | D24: Efectividad de entrega de CPV en MAC. | E24: (Total de credenciales entregadas / Total de ciudadanas y ciudadanos que acuden al MAC a recoger su credencial) x 100 | F24: Semanal (remesa) | G24: 0.9 | H24: Total de credenciales entregadas | I24: =AVERAGE('150151'!AS25:AS26,'150152'!AS25:AS26,'150153'!AS25:AS26) -> 1 | K24: =AVERAGE('150251'!AS25:AS26,'150253'!AS25:AS26) -> 0.99937994 | M24: =AVERAGE('150351'!AS25:AS26,'150352'!AS25:AS26,'150353'!AS25:AS26) -> 0.99913335 | O24: =AVERAGE('150451'!AS25:AS26) -> 0.99956099 | Q24: =AVERAGE('150551'!AS25:AS26) -> 0.99919818 | S24: =AVERAGE('150651'!AS25:AS26,'150652'!AS25:AS26) -> 0.99996331 | U24: =AVERAGE('150751'!AS25:AS26) -> 0.99949809 | W24: =AVERAGE('150851'!AS25:AS26) -> 1 | Y24: =AVERAGE('150951'!AS25:AS26,'150952'!AS25:AS26,'150953'!AS25:AS26,'150954'!AS25:AS26) -> 0.99936594 | AA24: =AVERAGE('151051'!AS25:AS26) -> 1 | AC24: =AVERAGE('151151'!AS25:AS26) -> 0.99965664 | AE24: =AVERAGE('151251'!AS25:AS26,'151252'!AS25:AS26) -> 0.99993586 | AG24: =AVERAGE('151351'!AS25:AS26) -> 0.99900064 | AI24: =AVERAGE('151452'!AS25:AS26,'151453'!AS25:AS26) -> 1 | AK24: =AVERAGE('151551'!AS25:AS26) -> 1 | AM24: =AVERAGE('151651'!AS25:AS26,'151652'!AS25:AS26) -> 1 | AO24: =AVERAGE('151751'!AS25:AS26) -> 1 | AQ24: =AVERAGE('151851'!AS25:AS26,'151852'!AS25:AS26,'151853'!AS25:AS26) -> 0.9999676 | AS24: =AVERAGE('151951'!AS25:AS26,'151952'!AS25:AS26) -> 1 | AU24: =AVERAGE('152052'!AS25:AS26,'152053'!AS25:AS26,'152054'!AS25:AS26) -> 1 | AW24: =AVERAGE('152151'!AS25:AS26,'152152'!AS25:AS26) -> 0.99986723 | AY24: =AVERAGE('152251'!AS25:AS26,'152252'!AS25:AS26) -> 0.99723758 | BA24: =AVERAGE('152351'!AS25:AS26,'152352'!AS25:AS26,'152353'!AS25:AS26) -> 0.99005618 | BC24: =AVERAGE('152451'!AS25:AS26) -> 1 | BE24: =AVERAGE('152551'!AS25:AS26) -> 0.99987591 | BG24: =AVERAGE('152651'!AS25:AS26) -> 1 | BI24: =AVERAGE('152751'!AS25:AS26,'152752'!AS25:AS26,'152753'!AS25:AS26) -> 1.0381876 | BK24: =AVERAGE('152851'!AS25:AS26,'152853'!AS25:AS26) -> 0.99975223 | BM24: =AVERAGE('152951'!AS25:AS26) -> 0.99990184 | BO24: =AVERAGE('153051'!AS25:AS26,'153052'!AS25:AS26) -> 0.99949691 | BQ24: =AVERAGE('153151'!AS25:AS26) -> 1 | BS24: =AVERAGE('153251'!AS25:AS26) -> 1 | BU24: =AVERAGE('153351'!AS25:AS26) -> 1 | BW24: =AVERAGE('153451'!AS25:AS26) -> 0.99947893 | BY24: =AVERAGE('153551'!AS25:AS26,'153552'!AS25:AS26,'153553'!AS25:AS26) -> 1 | CA24: =AVERAGE('153651'!AS25:AS26,'153652'!AS25:AS26,'153653'!AS25:AS26,'153654'!AS25:AS26) -> 1 | CC24: =AVERAGE('153753'!AS25:AS26,'153752'!AS25:AS26) -> 0.9994393 | CE24: =AVERAGE('153851'!AS25:AS26,'153852'!AS25:AS26) -> 1 | CG24: =AVERAGE('153951'!AS25:AS26) -> 1 | CI24: =AVERAGE('154051'!AS25:AS26,'154052'!AS25:AS26,'154053'!AS25:AS26) -> 0.99959418 | CK24: =AVERAGE(I24,K24,M24,O24,Q24,S24,U24,W24,Y24,AA24,AC24,AE24,AG24,AI24,AK24,AM24,AO24,AQ24,AS24,AU24,AW24,AY24,BA24,BC24,BE24,BG24,BI24,BK24,BM24,BO24,BQ24,BS24,BU24,BW24,BY24,CA24,CC24,CE24,CG24,CI24) -> 1.0004387
H25: Total de ciudadanos que acuden a MAC a recoger su credencial

Sheet 150151
A1: ='PANEL DE CONTROL DISTRITAL'!A1:Q1 -> INSTITUTO NACIONAL ELECTORAL SISTEMA DE GESTIÓN DE LA CALIDAD ESTADO DE MÉXICO
D2: Distrito | E2: 1 | F2: Módulo | H2: 150151
A4: TABLERO DE CONTROL DE PROCESOS SUSTANTIVOS DEL SISTEMA DE GESTIÓN DE LA CALIDAD
A6: ='PANEL DE CONTROL DISTRITAL'!A6 -> Número | B6: ='PANEL DE CONTROL DISTRITAL'!B6 -> PROCESOS SUSTANTIVOS E INDICADORES | I6: SEMANA OPERATIVA | AS6: % AVANCE REGISTRADO
B7: ='PANEL DE CONTROL DISTRITAL'!B7 -> DESCRIPCIÓN | E7: ='PANEL DE CONTROL DISTRITAL'!E7 -> MEDICIÓN | I7: ='PANEL DE CONTROL DISTRITAL'!A5 -> CAMPAÑA ANUAL PERMANENTE 2024
B9: ='PANEL DE CONTROL DISTRITAL'!B8 -> Proceso | C9: ='PANEL DE CONTROL DISTRITAL'!C8 -> Dueño de Proceso | D9: ='PANEL DE CONTROL DISTRITAL'!D8 -> Indicador | E9: ='PANEL DE CONTROL DISTRITAL'!E8 -> Cálculo | F9: ='PANEL DE CONTROL DISTRITAL'!F8 -> Periodo | G9: ='PANEL DE CONTROL DISTRITAL'!G8 -> Estimado | H9: ='PANEL DE CONTROL DISTRITAL'!H8 -> Nominativo | I9: 2024-05 | J9: 2024-06 | K9: 2024-07 | L9: 2024-08 | M9: 2024-09 | N9: 2024-10 | O9: 2024-11 | P9: 2024-12 | Q9: 2024-13 | R9: 2024-14 | S9: 2024-15 | T9: 2024-16 | U9: 2024-17 | V9: 2024-18 | W9: 2024-19 | X9: 2024-20 | Y9: 2024-21 | Z9: 2024-22 | AA9: 2024-23 | AB9: 2024-24 | AC9: 2024-25 | AD9: 2024-26 | AE9: 2024-27 | AF9: 2024-28 | AG9: 2024-29 | AH9: 2024-30 | AI9: 2024-31 | AJ9: 2024-32 | AK9: 2024-33 | AL9: 2024-34 | AM9: 2024-35 | AN9: 2024-36 | AO9: 2024-37 | AP9: 2024-38 | AQ9: 2024-39 | AR9: 2024-40
A10: ='PANEL DE CONTROL DISTRITAL'!A9 -> 1 | B10: ='PANEL DE CONTROL DISTRITAL'!B9 -> Entrevista | C10: ='PANEL DE CONTROL DISTRITAL'!C9 -> Auxiliar de Atención Ciudadana | D10: ='PANEL DE CONTROL DISTRITAL'!D9 -> Fichas requisitadas correctamente. | E10: ='PANEL DE CONTROL DISTRITAL'!E9 -> (Fichas requisitadas correctamente / Fichas revisadas en la muestra del 10%) x 100 | F10: ='PANEL DE CONTROL DISTRITAL'!F9 -> Semanal (remesa) | G10: ='PANEL DE CONTROL DISTRITAL'!G9 -> 0.9 | H10: ='PANEL DE CONTROL DISTRITAL'!H9 -> Fichas requistadas correctamente | I10: 0 | J10: 0 | K10: 0 | L10: 0 | M10: 0 | N10: 0 | O10: 0 | P10: 0 | Q10: 0 | R10: 0 | S10: 0 | T10: 0 | U10: 0 | V10: 11 | W10: 13 | X10: 15 | Y10: 13 | Z10: 16 | AA10: 21 | AB10: 9 | AC10: 0 | AD10: 0 | AE10: 0 | AF10: 27 | AG10: 37 | AH10: 58 | AI10: 60 | AJ10: 57 | AK10: 54 | AL10: 54 | AM10: 53 | AN10: 54 | AO10: 55 | AP10: 53 | AQ10: 51 | AR10: 48 | AS10: =IFERROR(SUM(I10:AR10)/SUM(I11:AR11),0) -> 1
H11: ='PANEL DE CONTROL DISTRITAL'!H10 -> Fichas revisadas en la Muestra del 10% | I11: 0 | J11: 0 | K11: 0 | L11: 0 | M11: 0 | N11: 0 | O11: 0 | P11: 0 | Q11: 0 | R11: 0 | S11: 0 | T11: 0 | U11: 0 | V11: 11 | W11: 13 | X11: 15 | Y11: 13 | Z11: 16 | AA11: 21 | AB11: 9 | AC11: 0 | AD11: 0 | AE11: 0 | AF11: 27 | AG11: 37 | AH11: 58 | AI11: 60 | AJ11: 57 | AK11: 54 | AL11: 54 | AM11: 53 | AN11: 54 | AO11: 55 | AP11: 53 | AQ11: 51 | AR11: 48
A13: ='PANEL DE CONTROL DISTRITAL'!A12 -> 2 | B13: ='PANEL DE CONTROL DISTRITAL'!B12 -> Trámite | C13: ='PANEL DE CONTROL DISTRITAL'!C12 -> Operador de Equipo Tecnológico | D13: ='PANEL DE CONTROL DISTRITAL'!D12 -> Trámites exitosos. | E13: ='PANEL DE CONTROL DISTRITAL'!E12 -> (Número de trámites exitosos / Número de trámites aplicados) x 100 | F13: ='PANEL DE CONTROL DISTRITAL'!F12 -> Semanal (remesa) | G13: ='PANEL DE CONTROL DISTRITAL'!G12 -> 0.9 | H13: ='PANEL DE CONTROL DISTRITAL'!H12 -> Número de trámites exitosos | I13: 0 | J13: 0 | K13: 0 | L13: 0 | M13: 0 | N13: 0 | O13: 0 | P13: 0 | Q13: 0 | R13: 0 | S13: 0 | T13: 0 | U13: 0 | V13: 101 | W13: 121 | X13: 144 | Y13: 121 | Z13: 160 | AA13: 210 | AB13: 82 | AC13: 0 | AD13: 0 | AE13: 0 | AF13: 270 | AG13: 364 | AH13: 574 | AI13: 600 | AJ13: 566 | AK13: 532 | AL13: 535 | AM13: 520 | AN13: 536 | AO13: 548 | AP13: 523 | AQ13: 503 | AR13: 472 | AS13: =IFERROR(SUM(I13:AR13)/SUM(I14:AR14),0) -> 0.9990653
H14: ='PANEL DE CONTROL DISTRITAL'!H13 -> Número de trámites aplicados | I14: 0 | J14: 0 | K14: 0 | L14: 0 | M14: 0 | N14: 0 | O14: 0 | P14: 0 | Q14: 0 | R14: 0 | S14: 0 | T14: 0 | U14: 0 | V14: 101 | W14: 121 | X14: 144 | Y14: 121 | Z14: 160 | AA14: 210 | AB14: 82 | AC14: 0 | AD14: 0 | AE14: 0 | AF14: 270 | AG14: 364 | AH14: 575 | AI14: 600 | AJ14: 566 | AK14: 533 | AL14: 536 | AM14: 521 | AN14: 537 | AO14: 548 | AP14: 523 | AQ14: 504 | AR14: 473
A16: ='PANEL DE CONTROL DISTRITAL'!A15 -> 3 | B16: ='PANEL DE CONTROL DISTRITAL'!B15 -> Transferencia de la Información. | C16: ='PANEL DE CONTROL DISTRITAL'!C15 -> Responsable de Módulo | D16: ='PANEL DE CONTROL DISTRITAL'!D15 -> Reenvíos exitosos. | E16: ='PANEL DE CONTROL DISTRITAL'!E15 -> (Ejecución de los scripts de reenvío de notificaciones / Solicitud de reenvíos de scripts requeridos) x100 | F16: ='PANEL DE CONTROL DISTRITAL'!F15 -> Semanal (remesa) | G16: ='PANEL DE CONTROL DISTRITAL'!G15 -> 1 | H16: ='PANEL DE CONTROL DISTRITAL'!H15 -> Ejecución de los scripts de reenvío de notificaciones | I16: 0 | J16: 0 | K16: 0 | L16: 0 | M16: 0 | N16: 0 | O16: 0 | P16: 0 | Q16: 0 | R16: 0 | S16: 0 | T16: 0 | U16: 0 | V16: 0 | W16: 0 | X16: 0 | Y16: 0 | Z16: 0 | AA16: 0 | AB16: 0 | AC16: 0 | AD16: 0 | AE16: 0 | AF16: 0 | AG16: 0 | AH16: 0 | AI16: 0 | AJ16: 0 | AK16: 0 | AL16: 0 | AM16: 0 | AN16: 1 | AO16: 0 | AP16: 0 | AQ16: 0 | AR16: 0 | AS16: =IFERROR(SUM(I16:AR16)/SUM(I17:AR17),1) -> 1
H17: ='PANEL DE CONTROL DISTRITAL'!H16 -> Solicitud de reevíos de scripts requeridos | I17: 0 | J17: 0 | K17: 0 | L17: 0 | M17: 0 | N17: 0 | O17: 0 | P17: 0 | Q17: 0 | R17: 0 | S17: 0 | T17: 0 | U17: 0 | V17: 0 | W17: 0 | X17: 0 | Y17: 0 | Z17: 0 | AA17: 0 | AB17: 0 | AC17: 0 | AD17: 0 | AE17: 0 | AF17: 0 | AG17: 0 | AH17: 0 | AI17: 0 | AJ17: 0 | AK17: 0 | AL17: 0 | AM17: 0 | AN17: 1 | AO17: 0 | AP17: 0 | AQ17: 0 | AR17: 0
A19: ='PANEL DE CONTROL DISTRITAL'!A18 -> 4 | B19: ='PANEL DE CONTROL DISTRITAL'!B18 -> Conciliación de Credenciales para Votar. | C19: ='PANEL DE CONTROL DISTRITAL'!C18 -> Responsable de Módulo | D19: ='PANEL DE CONTROL DISTRITAL'!D18 -> Credenciales disponibles para entrega. | E19: ='PANEL DE CONTROL DISTRITAL'!E18 -> [(Credenciales recibidas - Credenciales inconsistentes) / Credenciales recibidas] x 100 | F19: ='PANEL DE CONTROL DISTRITAL'!F18 -> Semanal (remesa) | G19: ='PANEL DE CONTROL DISTRITAL'!G18 -> 0.9 | H19: ='PANEL DE CONTROL DISTRITAL'!H18 -> Credenciales Recibidas - Credenciales inconsistentes | I19: 0 | J19: 0 | K19: 0 | L19: 0 | M19: 0 | N19: 0 | O19: 0 | P19: 0 | Q19: 0 | R19: 0 | S19: 0 | T19: 0 | U19: 0 | V19: 95 | W19: 135 | X19: 128 | Y19: 125 | Z19: 138 | AA19: 176 | AB19: 49 | AC19: 147 | AD19: 0 | AE19: 0 | AF19: 112 | AG19: 319 | AH19: 419 | AI19: 569 | AJ19: 566 | AK19: 594 | AL19: 516 | AM19: 549 | AN19: 424 | AO19: 562 | AP19: 506 | AQ19: 556 | AR19: 0 | AS19: =IFERROR(SUM(I19:AR19)/SUM(I20:AR20),0) -> 1
H20: ='PANEL DE CONTROL DISTRITAL'!H19 -> Credenciales recibidas | I20: 0 | J20: 0 | K20: 0 | L20: 0 | M20: 0 | N20: 0 | O20: 0 | P20: 0 | Q20: 0 | R20: 0 | S20: 0 | T20: 0 | U20: 0 | V20: 95 | W20: 135 | X20: 128 | Y20: 125 | Z20: 138 | AA20: 176 | AB20: 49 | AC20: 147 | AD20: 0 | AE20: 0 | AF20: 112 | AG20: 319 | AH20: 419 | AI20: 569 | AJ20: 566 | AK20: 594 | AL20: 516 | AM20: 549 | AN20: 424 | AO20: 562 | AP20: 506 | AQ20: 556 | AR20: 0
A22: ='PANEL DE CONTROL DISTRITAL'!A21 -> 5 | B22: ='PANEL DE CONTROL DISTRITAL'!B21 -> Conciliación de Credenciales para Votar. | C22: ='PANEL DE CONTROL DISTRITAL'!C21 -> Responsable de Módulo | D22: ='PANEL DE CONTROL DISTRITAL'!D21 -> Arqueo de credenciales. | E22: ='PANEL DE CONTROL DISTRITAL'!E21 -> (Credenciales disponibles (físicas) / Credenciales disponibles registradas en SIIRFE-MAC) x 100 | F22: ='PANEL DE CONTROL DISTRITAL'!F21 -> Semanal (remesa) | G22: ='PANEL DE CONTROL DISTRITAL'!G21 -> 1 | H22: ='PANEL DE CONTROL DISTRITAL'!H21 -> Credenciales disponibles (físicas) | I22: 0 | J22: 0 | K22: 0 | L22: 0 | M22: 0 | N22: 0 | O22: 0 | P22: 0 | Q22: 0 | R22: 0 | S22: 0 | T22: 0 | U22: 0 | V22: 73 | W22: 88 | X22: 110 | Y22: 120 | Z22: 98 | AA22: 93 | AB22: 105 | AC22: 55 | AD22: 0 | AE22: 0 | AF22: 205 | AG22: 457 | AH22: 495 | AI22: 606 | AJ22: 673 | AK22: 716 | AL22: 644 | AM22: 702 | AN22: 606 | AO22: 592 | AP22: 576 | AQ22: 596 | AR22: 0 | AS22: =IFERROR(SUM(I22:AR22)/SUM(I23:AR23),0) -> 1
H23: ='PANEL DE CONTROL DISTRITAL'!H22 -> Credenciales disponibles registradas en SIIRFE | I23: 0 | J23: 0 | K23: 0 | L23: 0 | M23: 0 | N23: 0 | O23: 0 | P23: 0 | Q23: 0 | R23: 0 | S23: 0 | T23: 0 | U23: 0 | V23: 73 | W23: 88 | X23: 110 | Y23: 120 | Z23: 98 | AA23: 93 | AB23: 105 | AC23: 55 | AD23: 0 | AE23: 0 | AF23: 205 | AG23: 457 | AH23: 495 | AI23: 606 | AJ23: 673 | AK23: 716 | AL23: 644 | AM23: 702 | AN23: 606 | AO23: 592 | AP23: 576 | AQ23: 596 | AR23: 0
A25: ='PANEL DE CONTROL DISTRITAL'!A24 -> 6 | B25: ='PANEL DE CONTROL DISTRITAL'!B24 -> Entrega de la Credencial para Votar. | C25: ='PANEL DE CONTROL DISTRITAL'!C24 -> Operador de Equipo Tecnológico | D25: ='PANEL DE CONTROL DISTRITAL'!D24 -> Efectividad de entrega de CPV en MAC. | E25: ='PANEL DE CONTROL DISTRITAL'!E24 -> (Total de credenciales entregadas / Total de ciudadanas y ciudadanos que acuden al MAC a recoger su credencial) x 100 | F25: ='PANEL DE CONTROL DISTRITAL'!F24 -> Semanal (remesa) | G25: ='PANEL DE CONTROL DISTRITAL'!G24 -> 0.9 | H25: ='PANEL DE CONTROL DISTRITAL'!H24 -> Total de credenciales entregadas | I25: 0 | J25: 0 | K25: 0 | L25: 0 | M25: 0 | N25: 0 | O25: 0 | P25: 0 | Q25: 0 | R25: 0 | S25: 0 | T25: 0 | U25: 0 | V25: 100 | W25: 120 | X25: 106 | Y25: 115 | Z25: 160 | AA25: 181 | AB25: 37 | AC25: 197 | AD25: 26 | AE25: 0 | AF25: 5 | AG25: 67 | AH25: 381 | AI25: 458 | AJ25: 499 | AK25: 547 | AL25: 588 | AM25: 491 | AN25: 520 | AO25: 543 | AP25: 522 | AQ25: 536 | AR25: 0 | AS25: =IFERROR(SUM(I25:AR25)/SUM(I26:AR26),0) -> 1
H26: ='PANEL DE CONTROL DISTRITAL'!H25 -> Total de ciudadanos que acuden a MAC a recoger su credencial | I26: 0 | J26: 0 | K26: 0 | L26: 0 | M26: 0 | N26: 0 | O26: 0 | P26: 0 | Q26: 0 | R26: 0 | S26: 0 | T26: 0 | U26: 0 | V26: 100 | W26: 120 | X26: 106 | Y26: 115 | Z26: 160 | AA26: 181 | AB26: 37 | AC26: 197 | AD26: 26 | AE26: 0 | AF26: 5 | AG26: 67 | AH26: 381 | AI26: 458 | AJ26: 499 | AK26: 547 | AL26: 588 | AM26: 491 | AN26: 520 | AO26: 543 | AP26: 522 | AQ26: 536 | AR26: 0
B27: *Registre el valor nominal solicitado en la celda, el resultado proporcional esta automatizado.
I29: Semaforización
J30: Valor que requiere atención y justificación en el apartado de observaciones
J31: Valor suficiente
J32: Valor esperado
B34: CUADRO DE OBSERVACIONES
B35: Descripción | H35: No conformidad

Sheet 150152
A1: ='PANEL DE CONTROL DISTRITAL'!A1:Q1 -> INSTITUTO NACIONAL ELECTORAL SISTEMA DE GESTIÓN DE LA CALIDAD ESTADO DE MÉXICO
D2: Distrito | E2: 1 | F2: Módulo | H2: 150152
A4: TABLERO DE CONTROL DE PROCESOS SUSTANTIVOS DEL SISTEMA DE GESTIÓN DE LA CALIDAD
A6: ='PANEL DE CONTROL DISTRITAL'!A6 -> Número | B6: ='PANEL DE CONTROL DISTRITAL'!B6 -> PROCESOS SUSTANTIVOS E INDICADORES | I6: SEMANA OPERATIVA | AS6: % AVANCE REGISTRADO
B7: ='PANEL DE CONTROL DISTRITAL'!B7 -> DESCRIPCIÓN | E7: ='PANEL DE CONTROL DISTRITAL'!E7 -> MEDICIÓN | I7: ='PANEL DE CONTROL DISTRITAL'!A5 -> CAMPAÑA ANUAL PERMANENTE 2024
B9: ='PANEL DE CONTROL DISTRITAL'!B8 -> Proceso | C9: ='PANEL DE CONTROL DISTRITAL'!C8 -> Dueño de Proceso | D9: ='PANEL DE CONTROL DISTRITAL'!D8 -> Indicador | E9: ='PANEL DE CONTROL DISTRITAL'!E8 -> Cálculo | F9: ='PANEL DE CONTROL DISTRITAL'!F8 -> Periodo | G9: ='PANEL DE CONTROL DISTRITAL'!G8 -> Estimado | H9: ='PANEL DE CONTROL DISTRITAL'!H8 -> Nominativo | I9: ='150151'!I9 -> 2024-05 | J9: ='150151'!J9 -> 2024-06 | K9: ='150151'!K9 -> 2024-07 | L9: ='150151'!L9 -> 2024-08 | M9: ='150151'!M9 -> 2024-09 | N9: ='150151'!N9 -> 2024-10 | O9: ='150151'!O9 -> 2024-11 | P9: ='150151'!P9 -> 2024-12 | ... AR9: ='150151'!AR9 -> 2024-40
A10: ='PANEL DE CONTROL DISTRITAL'!A9 -> 1 | B10: ='PANEL DE CONTROL DISTRITAL'!B9 -> Entrevista | C10: ='PANEL DE CONTROL DISTRITAL'!C9 -> Auxiliar de Atención Ciudadana | D10: ='PANEL DE CONTROL DISTRITAL'!D9 -> Fichas requisitadas correctamente. | E10: ='PANEL DE CONTROL DISTRITAL'!E9 -> (Fichas requisitadas correctamente / Fichas revisadas en la muestra del 10%) x 100 | F10: ='PANEL DE CONTROL DISTRITAL'!F9 -> Semanal (remesa) | G10: ='PANEL DE CONTROL DISTRITAL'!G9 -> 0.9 | H10: ='PANEL DE CONTROL DISTRITAL'!H9 -> Fichas requistadas correctamente | I10: 0 | J10: 0 | K10: 0 | L10: 0 | M10: 0 | N10: 0 | O10: 0 | P10: 0 | Q10: 0 | R10: 0 | S10: 0 | T10: 0 | U10: 0 | V10: 0 | W10: 0 | X10: 0 | Y10: 0 | Z10: 0 | AA10: 0 | AB10: 0 | AC10: 0 | AD10: 0 | AE10: 0 | AF10: 4 | AG10: 23 | AH10: 28 | AI10: 17 | AJ10: 25 | AK10: 23 | AL10: 17 | AM10: 25 | AN10: 28 | AO10: 16 | AP10: 23 | AQ10: 20 | AR10: 14 | AS10: =IFERROR(SUM(I10:AR10)/SUM(I11:AR11),0) -> 1
H11: ='PANEL DE CONTROL DISTRITAL'!H10 -> Fichas revisadas en la Muestra del 10% | I11: 0 | J11: 0 | K11: 0 | L11: 0 | M11: 0 | N11: 0 | O11: 0 | P11: 0 | Q11: 0 | R11: 0 | S11: 0 | T11: 0 | U11: 0 | V11: 0 | W11: 0 | X11: 0 | Y11: 0 | Z11: 0 | AA11: 0 | AB11: 0 | AC11: 0 | AD11: 0 | AE11: 0 | AF11: 4 | AG11: 23 | AH11: 28 | AI11: 17 | AJ11: 25 | AK11: 23 | AL11: 17 | AM11: 25 | AN11: 28 | AO11: 16 | AP11: 23 | AQ11: 20 | AR11: 14
A13: ='PANEL DE CONTROL DISTRITAL'!A12 -> 2 | B13: ='PANEL DE CONTROL DISTRITAL'!B12 -> Trámite | C13: ='PANEL DE CONTROL DISTRITAL'!C12 -> Operador de Equipo Tecnológico | D13: ='PANEL DE CONTROL DISTRITAL'!D12 -> Trámites exitosos. | E13: ='PANEL DE CONTROL DISTRITAL'!E12 -> (Número de trámites exitosos / Número de trámites aplicados) x 100 | F13: ='PANEL DE CONTROL DISTRITAL'!F12 -> Semanal (remesa) | G13: ='PANEL DE CONTROL DISTRITAL'!G12 -> 0.9 | H13: ='PANEL DE CONTROL DISTRITAL'!H12 -> Número de trámites exitosos | I13: 0 | J13: 0 | K13: 0 | L13: 0 | M13: 0 | N13: 0 | O13: 0 | P13: 0 | Q13: 0 | R13: 0 | S13: 0 | T13: 0 | U13: 0 | V13: 0 | W13: 0 | X13: 0 | Y13: 0 | Z13: 0 | AA13: 0 | AB13: 0 | AC13: 0 | AD13: 0 | AE13: 0 | AF13: 33 | AG13: 227 | AH13: 279 | AI13: 165 | AJ13: 244 | AK13: 223 | AL13: 162 | AM13: 245 | AN13: 277 | AO13: 154 | AP13: 229 | AQ13: 195 | AR13: 134 | AS13: =IFERROR(SUM(I13:AR13)/SUM(I14:AR14),0) -> 0.99766809
H14: ='PANEL DE CONTROL DISTRITAL'!H13 -> Número de trámites aplicados | I14: 0 | J14: 0 | K14: 0 | L14: 0 | M14: 0 | N14: 0 | O14: 0 | P14: 0 | Q14: 0 | R14: 0 | S14: 0 | T14: 0 | U14: 0 | V14: 0 | W14: 0 | X14: 0 | Y14: 0 | Z14: 0 | AA14: 0 | AB14: 0 | AC14: 0 | AD14: 0 | AE14: 0 | AF14: 33 | AG14: 227 | AH14: 279 | AI14: 165 | AJ14: 244 | AK14: 223 | AL14: 162 | AM14: 246 | AN14: 278 | AO14: 155 | AP14: 230 | AQ14: 197 | AR14: 134
A16: ='PANEL DE CONTROL DISTRITAL'!A15 -> 3 | B16: ='PANEL DE CONTROL DISTRITAL'!B15 -> Transferencia de la Información. | C16: ='PANEL DE CONTROL DISTRITAL'!C15 -> Responsable de Módulo | D16: ='PANEL DE CONTROL DISTRITAL'!D15 -> Reenvíos exitosos. | E16: ='PANEL DE CONTROL DISTRITAL'!E15 -> (Ejecución de los scripts de reenvío de notificaciones / Solicitud de reenvíos de scripts requeridos) x100 | F16: ='PANEL DE CONTROL DISTRITAL'!F15 -> Semanal (remesa) | G16: ='PANEL DE CONTROL DISTRITAL'!G15 -> 1 | H16: ='PANEL DE CONTROL DISTRITAL'!H15 -> Ejecución de los scripts de reenvío de notificaciones | I16: 0 | J16: 0 | K16: 0 | L16: 0 | M16: 0 | N16: 0 | O16: 0 | P16: 0 | Q16: 0 | R16: 0 | S16: 0 | T16: 0 | U16: 0 | V16: 0 | W16: 0 | X16: 0 | Y16: 0 | Z16: 0 | AA16: 0 | AB16: 0 | AC16: 0 | AD16: 0 | AE16: 0 | AF16: 0 | AG16: 0 | AH16: 0 | AI16: 0 | AJ16: 0 | AK16: 0 | AL16: 0 | AM16: 0 | AN16: 0 | AO16: 0 | AP16: 0 | AQ16: 0 | AR16: 0 | AS16: =IFERROR(SUM(I16:AR16)/SUM(I17:AR17),1) -> 1
H17: ='PANEL DE CONTROL DISTRITAL'!H16 -> Solicitud de reevíos de scripts requeridos | I17: 0 | J17: 0 | K17: 0 | L17: 0 | M17: 0 | N17: 0 | O17: 0 | P17: 0 | Q17: 0 | R17: 0 | S17: 0 | T17: 0 | U17: 0 | V17: 0 | W17: 0 | X17: 0 | Y17: 0 | Z17: 0 | AA17: 0 | AB17: 0 | AC17: 0 | AD17: 0 | AE17: 0 | AF17: 0 | AG17: 0 | AH17: 0 | AI17: 0 | AJ17: 0 | AK17: 0 | AL17: 0 | AM17: 0 | AN17: 0 | AO17: 0 | AP17: 0 | AQ17: 0 | AR17: 0
A19: ='PANEL DE CONTROL DISTRITAL'!A18 -> 4 | B19: ='PANEL DE CONTROL DISTRITAL'!B18 -> Conciliación de Credenciales para Votar. | C19: ='PANEL DE CONTROL DISTRITAL'!C18 -> Responsable de Módulo | D19: ='PANEL DE CONTROL DISTRITAL'!D18 -> Credenciales disponibles para entrega. | E19: ='PANEL DE CONTROL DISTRITAL'!E18 -> [(Credenciales recibidas - Credenciales inconsistentes) / Credenciales recibidas] x 100 | F19: ='PANEL DE CONTROL DISTRITAL'!F18 -> Semanal (remesa) | G19: ='PANEL DE CONTROL DISTRITAL'!G18 -> 0.9 | H19: ='PANEL DE CONTROL DISTRITAL'!H18 -> Credenciales Recibidas - Credenciales inconsistentes | I19: 0 | J19: 0 | K19: 0 | L19: 0 | M19: 0 | N19: 0 | O19: 0 | P19: 0 | Q19: 0 | R19: 0 | S19: 0 | T19: 0 | U19: 0 | V19: 0 | W19: 0 | X19: 0 | Y19: 0 | Z19: 0 | AA19: 0 | AB19: 0 | AC19: 0 | AD19: 0 | AE19: 0 | AF19: 48 | AG19: 98 | AH19: 251 | AI19: 312 | AJ19: 131 | AK19: 226 | AL19: 248 | AM19: 146 | AN19: 200 | AO19: 288 | AP19: 117 | AQ19: 247 | AR19: 218 | AS19: =IFERROR(SUM(I19:AR19)/SUM(I20:AR20),0) -> 1
H20: ='PANEL DE CONTROL DISTRITAL'!H19 -> Credenciales recibidas | I20: 0 | J20: 0 | K20: 0 | L20: 0 | M20: 0 | N20: 0 | O20: 0 | P20: 0 | Q20: 0 | R20: 0 | S20: 0 | T20: 0 | U20: 0 | V20: 0 | W20: 0 | X20: 0 | Y20: 0 | Z20: 0 | AA20: 0 | AB20: 0 | AC20: 0 | AD20: 0 | AE20: 0 | AF20: 48 | AG20: 98 | AH20: 251 | AI20: 312 | AJ20: 131 | AK20: 226 | AL20: 248 | AM20: 146 | AN20: 200 | AO20: 288 | AP20: 117 | AQ20: 247 | AR20: 218
A22: ='PANEL DE CONTROL DISTRITAL'!A21 -> 5 | B22: ='PANEL DE CONTROL DISTRITAL'!B21 -> Conciliación de Credenciales para Votar. | C22: ='PANEL DE CONTROL DISTRITAL'!C21 -> Responsable de Módulo | D22: ='PANEL DE CONTROL DISTRITAL'!D21 -> Arqueo de credenciales. | E22: ='PANEL DE CONTROL DISTRITAL'!E21 -> (Credenciales disponibles (físicas) / Credenciales disponibles registradas en SIIRFE-MAC) x 100 | F22: ='PANEL DE CONTROL DISTRITAL'!F21 -> Semanal (remesa) | G22: ='PANEL DE CONTROL DISTRITAL'!G21 -> 1 | H22: ='PANEL DE CONTROL DISTRITAL'!H21 -> Credenciales disponibles (físicas) | I22: 0 | J22: 0 | K22: 0 | L22: 0 | M22: 0 | N22: 0 | O22: 0 | P22: 0 | Q22: 0 | R22: 0 | S22: 0 | T22: 0 | U22: 0 | V22: 0 | W22: 0 | X22: 0 | Y22: 0 | Z22: 0 | AA22: 0 | AB22: 0 | AC22: 0 | AD22: 0 | AE22: 0 | AF22: 48 | AG22: 145 | AH22: 377 | AI22: 669 | AJ22: 581 | AK22: 465 | AL22: 626 | AM22: 523 | AN22: 497 | AO22: 626 | AP22: 504 | AQ22: 420 | AR22: 538 | AS22: =IFERROR(SUM(I22:AR22)/SUM(I23:AR23),1) -> 1
H23: ='PANEL DE CONTROL DISTRITAL'!H22 -> Credenciales disponibles registradas en SIIRFE | I23: 0 | J23: 0 | K23: 0 | L23: 0 | M23: 0 | N23: 0 | O23: 0 | P23: 0 | Q23: 0 | R23: 0 | S23: 0 | T23: 0 | U23: 0 | V23: 0 | W23: 0 | X23: 0 | Y23: 0 | Z23: 0 | AA23: 0 | AB23: 0 | AC23: 0 | AD23: 0 | AE23: 0 | AF23: 48 | AG23: 145 | AH23: 377 | AI23: 669 | AJ23: 581 | AK23: 465 | AL23: 626 | AM23: 523 | AN23: 497 | AO23: 626 | AP23: 504 | AQ23: 420 | AR23: 538
A25: ='PANEL DE CONTROL DISTRITAL'!A24 -> 6 | B25: ='PANEL DE CONTROL DISTRITAL'!B24 -> Entrega de la Credencial para Votar. | C25: ='PANEL DE CONTROL DISTRITAL'!C24 -> Operador de Equipo Tecnológico | D25: ='PANEL DE CONTROL DISTRITAL'!D24 -> Efectividad de entrega de CPV en MAC. | E25: ='PANEL DE CONTROL DISTRITAL'!E24 -> (Total de credenciales entregadas / Total de ciudadanas y ciudadanos que acuden al MAC a recoger su credencial) x 100 | F25: ='PANEL DE CONTROL DISTRITAL'!F24 -> Semanal (remesa) | G25: ='PANEL DE CONTROL DISTRITAL'!G24 -> 0.9 | H25: ='PANEL DE CONTROL DISTRITAL'!H24 -> Total de credenciales entregadas | I25: 0 | J25: 0 | K25: 0 | L25: 0 | M25: 0 | N25: 0 | O25: 0 | P25: 0 | Q25: 0 | R25: 0 | S25: 0 | T25: 0 | U25: 0 | V25: 0 | W25: 0 | X25: 0 | Y25: 0 | Z25: 0 | AA25: 0 | AB25: 0 | AC25: 0 | AD25: 0 | AE25: 0 | AF25: 0 | AG25: 1 | AH25: 19 | AI25: 20 | AJ25: 219 | AK25: 340 | AL25: 87 | AM25: 249 | AN25: 216 | AO25: 158 | AP25: 239 | AQ25: 331 | AR25: 100 | AS25: =IFERROR(SUM(I25:AR25)/SUM(I26:AR26),0) -> 1
H26: ='PANEL DE CONTROL DISTRITAL'!H25 -> Total de ciudadanos que acuden a MAC a recoger su credencial | I26: 0 | J26: 0 | K26: 0 | L26: 0 | M26: 0 | N26: 0 | O26: 0 | P26: 0 | Q26: 0 | R26: 0 | S26: 0 | T26: 0 | U26: 0 | V26: 0 | W26: 0 | X26: 0 | Y26: 0 | Z26: 0 | AA26: 0 | AB26: 0 | AC26: 0 | AD26: 0 | AE26: 0 | AF26: 0 | AG26: 1 | AH26: 19 | AI26: 20 | AJ26: 219 | AK26: 340 | AL26: 87 | AM26: 249 | AN26: 216 | AO26: 158 | AP26: 239 | AQ26: 331 | AR26: 100
B27: *Registre el valor nominal solicitado en la celda, el resultado proporcional esta automatizado.
I29: Semaforización
J30: Valor que requiere atención y justificación en el apartado de observaciones
J31: Valor suficiente
J32: Valor esperado
B34: CUADRO DE OBSERVACIONES
B35: Descripción | H35: No conformidad

Sheet 150153
A1: ='PANEL DE CONTROL DISTRITAL'!A1:Q1 -> INSTITUTO NACIONAL ELECTORAL SISTEMA DE GESTIÓN DE LA CALIDAD ESTADO DE MÉXICO
D2: Distrito | E2: 1 | F2: Módulo | H2: 150153
A4: TABLERO DE CONTROL DE PROCESOS SUSTANTIVOS DEL SISTEMA DE GESTIÓN DE LA CALIDAD
A6: ='PANEL DE CONTROL DISTRITAL'!A6 -> Número | B6: ='PANEL DE CONTROL DISTRITAL'!B6 -> PROCESOS SUSTANTIVOS E INDICADORES | I6: SEMANA OPERATIVA | AS6: % AVANCE REGISTRADO
B7: ='PANEL DE CONTROL DISTRITAL'!B7 -> DESCRIPCIÓN | E7: ='PANEL DE CONTROL DISTRITAL'!E7 -> MEDICIÓN | I7: ='PANEL DE CONTROL DISTRITAL'!A5 -> CAMPAÑA ANUAL PERMANENTE 2024
B9: ='PANEL DE CONTROL DISTRITAL'!B8 -> Proceso | C9: ='PANEL DE CONTROL DISTRITAL'!C8 -> Dueño de Proceso | D9: ='PANEL DE CONTROL DISTRITAL'!D8 -> Indicador | E9: ='PANEL DE CONTROL DISTRITAL'!E8 -> Cálculo | F9: ='PANEL DE CONTROL DISTRITAL'!F8 -> Periodo | G9: ='PANEL DE CONTROL DISTRITAL'!G8 -> Estimado | H9: ='PANEL DE CONTROL DISTRITAL'!H8 -> Nominativo | I9: ='150151'!I9 -> 2024-05 | J9: ='150151'!J9 -> 2024-06 | K9: ='150151'!K9 -> 2024-07 | L9: ='150151'!L9 -> 2024-08 | M9: ='150151'!M9 -> 2024-09 | N9: ='150151'!N9 -> 2024-10 | O9: ='150151'!O9 -> 2024-11 | P9: ='150151'!P9 -> 2024-12 | ... AR9: ='150151'!AR9 -> 2024-40
A10: ='PANEL DE CONTROL DISTRITAL'!A9 -> 1 | B10: ='PANEL DE CONTROL DISTRITAL'!B9 -> Entrevista | C10: ='PANEL DE CONTROL DISTRITAL'!C9 -> Auxiliar de Atención Ciudadana | D10: ='PANEL DE CONTROL DISTRITAL'!D9 -> Fichas requisitadas correctamente. | E10: ='PANEL DE CONTROL DISTRITAL'!E9 -> (Fichas requisitadas correctamente / Fichas revisadas en la muestra del 10%) x 100 | F10: ='PANEL DE CONTROL DISTRITAL'!F9 -> Semanal (remesa) | G10: ='PANEL DE CONTROL DISTRITAL'!G9 -> 0.9 | H10: ='PANEL DE CONTROL DISTRITAL'!H9 -> Fichas requistadas correctamente | I10: 0 | J10: 0 | K10: 0 | L10: 0 | M10: 0 | N10: 0 | O10: 0 | P10: 0 | Q10: 0 | R10: 0 | S10: 0 | T10: 0 | U10: 0 | V10: 0 | W10: 0 | X10: 0 | Y10: 0 | Z10: 0 | AA10: 0 | AB10: 0 | AC10: 0 | AD10: 0 | AE10: 0 | AF10: 11 | AG10: 18 | AH10: 25 | AI10: 31 | AJ10: 19 | AK10: 29 | AL10: 23 | AM10: 32 | AN10: 16 | AO10: 32 | AP10: 16 | AQ10: 31 | AR10: 18 | AS10: =IFERROR(SUM(I10:AR10)/SUM(I11:AR11),0) -> 1
H11: ='PANEL DE CONTROL DISTRITAL'!H10 -> Fichas revisadas en la Muestra del 10% | I11: 0 | J11: 0 | K11: 0 | L11: 0 | M11: 0 | N11: 0 | O11: 0 | P11: 0 | Q11: 0 | R11: 0 | S11: 0 | T11: 0 | U11: 0 | V11: 0 | W11: 0 | X11: 0 | Y11: 0 | Z11: 0 | AA11: 0 | AB11: 0 | AC11: 0 | AD11: 0 | AE11: 0 | AF11: 11 | AG11: 18 | AH11: 25 | AI11: 31 | AJ11: 19 | AK11: 29 | AL11: 23 | AM11: 32 | AN11: 16 | AO11: 32 | AP11: 16 | AQ11: 31 | AR11: 18
A13: ='PANEL DE CONTROL DISTRITAL'!A12 -> 2 | B13: ='PANEL DE CONTROL DISTRITAL'!B12 -> Trámite | C13: ='PANEL DE CONTROL DISTRITAL'!C12 -> Operador de Equipo Tecnológico | D13: ='PANEL DE CONTROL DISTRITAL'!D12 -> Trámites exitosos. | E13: ='PANEL DE CONTROL DISTRITAL'!E12 -> (Número de trámites exitosos / Número de trámites aplicados) x 100 | F13: ='PANEL DE CONTROL DISTRITAL'!F12 -> Semanal (remesa) | G13: ='PANEL DE CONTROL DISTRITAL'!G12 -> 0.9 | H13: ='PANEL DE CONTROL DISTRITAL'!H12 -> Número de trámites exitosos | I13: 0 | J13: 0 | K13: 0 | L13: 0 | M13: 0 | N13: 0 | O13: 0 | P13: 0 | Q13: 0 | R13: 0 | S13: 0 | T13: 0 | U13: 0 | V13: 0 | W13: 0 | X13: 0 | Y13: 0 | Z13: 0 | AA13: 0 | AB13: 0 | AC13: 0 | AD13: 0 | AE13: 0 | AF13: 107 | AG13: 171 | AH13: 245 | AI13: 303 | AJ13: 190 | AK13: 287 | AL13: 222 | AM13: 312 | AN13: 151 | AO13: 318 | AP13: 159 | AQ13: 307 | AR13: 179 | AS13: =IFERROR(SUM(I13:AR13)/SUM(I14:AR14),0) -> 0.99830853
H14: ='PANEL DE CONTROL DISTRITAL'!H13 -> Número de trámites aplicados | I14: 0 | J14: 0 | K14: 0 | L14: 0 | M14: 0 | N14: 0 | O14: 0 | P14: 0 | Q14: 0 | R14: 0 | S14: 0 | T14: 0 | U14: 0 | V14: 0 | W14: 0 | X14: 0 | Y14: 0 | Z14: 0 | AA14: 0 | AB14: 0 | AC14: 0 | AD14: 0 | AE14: 0 | AF14: 107 | AG14: 171 | AH14: 245 | AI14: 304 | AJ14: 191 | AK14: 287 | AL14: 223 | AM14: 312 | AN14: 152 | AO14: 318 | AP14: 160 | AQ14: 307 | AR14: 179
A16: ='PANEL DE CONTROL DISTRITAL'!A15 -> 3 | B16: ='PANEL DE CONTROL DISTRITAL'!B15 -> Transferencia de la Información. | C16: ='PANEL DE CONTROL DISTRITAL'!C15 -> Responsable de Módulo | D16: ='PANEL DE CONTROL DISTRITAL'!D15 -> Reenvíos exitosos. | E16: ='PANEL DE CONTROL DISTRITAL'!E15 -> (Ejecución de los scripts de reenvío de notificaciones / Solicitud de reenvíos de scripts requeridos) x100 | F16: ='PANEL DE CONTROL DISTRITAL'!F15 -> Semanal (remesa) | G16: ='PANEL DE CONTROL DISTRITAL'!G15 -> 1 | H16: ='PANEL DE CONTROL DISTRITAL'!H15 -> Ejecución de los scripts de reenvío de notificaciones | I16: 0 | J16: 0 | K16: 0 | L16: 0 | M16: 0 | N16: 0 | O16: 0 | P16: 0 | Q16: 0 | R16: 0 | S16: 0 | T16: 0 | U16: 0 | V16: 0 | W16: 0 | X16: 0 | Y16: 0 | Z16: 0 | AA16: 0 | AB16: 0 | AC16: 0 | AD16: 0 | AE16: 0 | AF16: 0 | AG16: 0 | AH16: 0 | AI16: 0 | AJ16: 0 | AK16: 0 | AL16: 0 | AM16: 0 | AN16: 0 | AO16: 0 | AP16: 0 | AQ16: 0 | AR16: 0 | AS16: =IFERROR(SUM(I16:AR16)/SUM(I17:AR17),1) -> 1
H17: ='PANEL DE CONTROL DISTRITAL'!H16 -> Solicitud de reevíos de scripts requeridos | I17: 0 | J17: 0 | K17: 0 | L17: 0 | M17: 0 | N17: 0 | O17: 0 | P17: 0 | Q17: 0 | R17: 0 | S17: 0 | T17: 0 | U17: 0 | V17: 0 | W17: 0 | X17: 0 | Y17: 0 | Z17: 0 | AA17: 0 | AB17: 0 | AC17: 0 | AD17: 0 | AE17: 0 | AF17: 0 | AG17: 0 | AH17: 0 | AI17: 0 | AJ17: 0 | AK17: 0 | AL17: 0 | AM17: 0 | AN17: 0 | AO17: 0 | AP17: 0 | AQ17: 0 | AR17: 0
A19: ='PANEL DE CONTROL DISTRITAL'!A18 -> 4 | B19: ='PANEL DE CONTROL DISTRITAL'!B18 -> Conciliación de Credenciales para Votar. | C19: ='PANEL DE CONTROL DISTRITAL'!C18 -> Responsable de Módulo | D19: ='PANEL DE CONTROL DISTRITAL'!D18 -> Credenciales disponibles para entrega. | E19: ='PANEL DE CONTROL DISTRITAL'!E18 -> [(Credenciales recibidas - Credenciales inconsistentes) / Credenciales recibidas] x 100 | F19: ='PANEL DE CONTROL DISTRITAL'!F18 -> Semanal (remesa) | G19: ='PANEL DE CONTROL DISTRITAL'!G18 -> 0.9 | H19: ='PANEL DE CONTROL DISTRITAL'!H18 -> Credenciales Recibidas - Credenciales inconsistentes | I19: 0 | J19: 0 | K19: 0 | L19: 0 | M19: 0 | N19: 0 | O19: 0 | P19: 0 | Q19: 0 | R19: 0 | S19: 0 | T19: 0 | U19: 0 | V19: 0 | W19: 0 | X19: 0 | Y19: 0 | Z19: 0 | AA19: 0 | AB19: 0 | AC19: 0 | AD19: 0 | AE19: 0 | AF19: 3 | AG19: 137 | AH19: 277 | AI19: 256 | AJ19: 280 | AK19: 169 | AL19: 294 | AM19: 230 | AN19: 261 | AO19: 145 | AP19: 303 | AQ19: 154 | AR19: 356 | AS19: =IFERROR(SUM(I19:AR19)/SUM(I20:AR20),0) -> 1
H20: ='PANEL DE CONTROL DISTRITAL'!H19 -> Credenciales recibidas | I20: 0 | J20: 0 | K20: 0 | L20: 0 | M20: 0 | N20: 0 | O20: 0 | P20: 0 | Q20: 0 | R20: 0 | S20: 0 | T20: 0 | U20: 0 | V20: 0 | W20: 0 | X20: 0 | Y20: 0 | Z20: 0 | AA20: 0 | AB20: 0 | AC20: 0 | AD20: 0 | AE20: 0 | AF20: 3 | AG20: 137 | AH20: 277 | AI20: 256 | AJ20: 280 | AK20: 169 | AL20: 294 | AM20: 230 | AN20: 261 | AO20: 145 | AP20: 303 | AQ20: 154 | AR20: 356
A22: ='PANEL DE CONTROL DISTRITAL'!A21 -> 5 | B22: ='PANEL DE CONTROL DISTRITAL'!B21 -> Conciliación de Credenciales para Votar. | C22: ='PANEL DE CONTROL DISTRITAL'!C21 -> Responsable de Módulo | D22: ='PANEL DE CONTROL DISTRITAL'!D21 -> Arqueo de credenciales. | E22: ='PANEL DE CONTROL DISTRITAL'!E21 -> (Credenciales disponibles (físicas) / Credenciales disponibles registradas en SIIRFE-MAC) x 100 | F22: ='PANEL DE CONTROL DISTRITAL'!F21 -> Semanal (remesa) | G22: ='PANEL DE CONTROL DISTRITAL'!G21 -> 1 | H22: ='PANEL DE CONTROL DISTRITAL'!H21 -> Credenciales disponibles (físicas) | I22: 0 | J22: 0 | K22: 0 | L22: 0 | M22: 0 | N22: 0 | O22: 0 | P22: 0 | Q22: 0 | R22: 0 | S22: 0 | T22: 0 | U22: 0 | V22: 0 | W22: 0 | X22: 0 | Y22: 0 | Z22: 0 | AA22: 0 | AB22: 0 | AC22: 0 | AD22: 0 | AE22: 0 | AF22: 21 | AG22: 156 | AH22: 332 | AI22: 379 | AJ22: 491 | AK22: 333 | AL22: 446 | AM22: 371 | AN22: 436 | AO22: 245 | AP22: 421 | AQ22: 230 | AR22: 451 | AS22: =IFERROR(SUM(I22:AR22)/SUM(I23:AR23),0) -> 1
H23: ='PANEL DE CONTROL DISTRITAL'!H22 -> Credenciales disponibles registradas en SIIRFE | I23: 0 | J23: 0 | K23: 0 | L23: 0 | M23: 0 | N23: 0 | O23: 0 | P23: 0 | Q23: 0 | R23: 0 | S23: 0 | T23: 0 | U23: 0 | V23: 0 | W23: 0 | X23: 0 | Y23: 0 | Z23: 0 | AA23: 0 | AB23: 0 | AC23: 0 | AD23: 0 | AE23: 0 | AF23: 21 | AG23: 156 | AH23: 332 | AI23: 379 | AJ23: 491 | AK23: 333 | AL23: 446 | AM23: 371 | AN23: 436 | AO23: 245 | AP23: 421 | AQ23: 230 | AR23: 451
A25: ='PANEL DE CONTROL DISTRITAL'!A24 -> 6 | B25: ='PANEL DE CONTROL DISTRITAL'!B24 -> Entrega de la Credencial para Votar. | C25: ='PANEL DE CONTROL DISTRITAL'!C24 -> Operador de Equipo Tecnológico | D25: ='PANEL DE CONTROL DISTRITAL'!D24 -> Efectividad de entrega de CPV en MAC. | E25: ='PANEL DE CONTROL DISTRITAL'!E24 -> (Total de credenciales entregadas / Total de ciudadanas y ciudadanos que acuden al MAC a recoger su credencial) x 100 | F25: ='PANEL DE CONTROL DISTRITAL'!F24 -> Semanal (remesa) | G25: ='PANEL DE CONTROL DISTRITAL'!G24 -> 0.9 | H25: ='PANEL DE CONTROL DISTRITAL'!H24 -> Total de credenciales entregadas | I25: 0 | J25: 0 | K25: 0 | L25: 0 | M25: 0 | N25: 0 | O25: 0 | P25: 0 | Q25: 0 | R25: 0 | S25: 0 | T25: 0 | U25: 0 | V25: 0 | W25: 0 | X25: 0 | Y25: 0 | Z25: 0 | AA25: 0 | AB25: 0 | AC25: 0 | AD25: 0 | AE25: 0 | AF25: 1 | AG25: 2 | AH25: 101 | AI25: 209 | AJ25: 168 | AK25: 327 | AL25: 181 | AM25: 305 | AN25: 196 | AO25: 336 | AP25: 127 | AQ25: 345 | AR25: 135 | AS25: =IFERROR(SUM(I25:AR25)/SUM(I26:AR26),0) -> 1
H26: ='PANEL DE CONTROL DISTRITAL'!H25 -> Total de ciudadanos que acuden a MAC a recoger su credencial | I26: 0 | J26: 0 | K26: 0 | L26: 0 | M26: 0 | N26: 0 | O26: 0 | P26: 0 | Q26: 0 | R26: 0 | S26: 0 | T26: 0 | U26: 0 | V26: 0 | W26: 0 | X26: 0 | Y26: 0 | Z26: 0 | AA26: 0 | AB26: 0 | AC26: 0 | AD26: 0 | AE26: 0 | AF26: 1 | AG26: 2 | AH26: 101 | AI26: 209 | AJ26: 168 | AK26: 327 | AL26: 181 | AM26: 305 | AN26: 196 | AO26: 336 | AP26: 127 | AQ26: 345 | AR26: 135
B27: *Registre el valor nominal solicitado en la celda, el resultado proporcional esta automatizado.
I29: Semaforización
J30: Valor que requiere atención y justificación en el apartado de observaciones
J31: Valor suficiente
J32: Valor esperado
B34: CUADRO DE OBSERVACIONES
B35: Descripción | H35: No conformidad

Sheet 150251
A1: ='PANEL DE CONTROL DISTRITAL'!A1:Q1 -> INSTITUTO NACIONAL ELECTORAL SISTEMA DE GESTIÓN DE LA CALIDAD ESTADO DE MÉXICO
D2: Distrito | E2: 2 | F2: Módulo | H2: 150251
A4: TABLERO DE CONTROL DE PROCESOS SUSTANTIVOS DEL SISTEMA DE GESTIÓN DE LA CALIDAD
A6: ='PANEL DE CONTROL DISTRITAL'!A6 -> Número | B6: ='PANEL DE CONTROL DISTRITAL'!B6 -> PROCESOS SUSTANTIVOS E INDICADORES | I6: SEMANA OPERATIVA | AS6: % AVANCE REGISTRADO
B7: ='PANEL DE CONTROL DISTRITAL'!B7 -> DESCRIPCIÓN | E7: ='PANEL DE CONTROL DISTRITAL'!E7 -> MEDICIÓN | I7: ='PANEL DE CONTROL DISTRITAL'!A5 -> CAMPAÑA ANUAL PERMANENTE 2024
B9: ='PANEL DE CONTROL DISTRITAL'!B8 -> Proceso | C9: ='PANEL DE CONTROL DISTRITAL'!C8 -> Dueño de Proceso | D9: ='PANEL DE CONTROL DISTRITAL'!D8 -> Indicador | E9: ='PANEL DE CONTROL DISTRITAL'!E8 -> Cálculo | F9: ='PANEL DE CONTROL DISTRITAL'!F8 -> Periodo | G9: ='PANEL DE CONTROL DISTRITAL'!G8 -> Estimado | H9: ='PANEL DE CONTROL DISTRITAL'!H8 -> Nominativo | I9: ='150151'!I9 -> 2024-05 | J9: ='150151'!J9 -> 2024-06 | K9: ='150151'!K9 -> 2024-07 | L9: ='150151'!L9 -> 2024-08 | M9: ='150151'!M9 -> 2024-09 | N9: ='150151'!N9 -> 2024-10 | O9: ='150151'!O9 -> 2024-11 | P9: ='150151'!P9 -> 2024-12 | ... AR9: ='150151'!AR9 -> 2024-40
A10: ='PANEL DE CONTROL DISTRITAL'!A9 -> 1 | B10: ='PANEL DE CONTROL DISTRITAL'!B9 -> Entrevista | C10: ='PANEL DE CONTROL DISTRITAL'!C9 -> Auxiliar de Atención Ciudadana | D10: ='PANEL DE CONTROL DISTRITAL'!D9 -> Fichas requisitadas correctamente. | E10: ='PANEL DE CONTROL DISTRITAL'!E9 -> (Fichas requisitadas correctamente / Fichas revisadas en la muestra del 10%) x 100 | F10: ='PANEL DE CONTROL DISTRITAL'!F9 -> Semanal (remesa) | G10: ='PANEL DE CONTROL DISTRITAL'!G9 -> 0.9 | H10: ='PANEL DE CONTROL DISTRITAL'!H9 -> Fichas requistadas correctamente | I10: 0 | J10: 0 | K10: 0 | L10: 0 | M10: 0 | N10: 0 | O10: 0 | P10: 0 | Q10: 0 | R10: 0 | S10: 0 | T10: 0 | U10: 0 | V10: 18 | W10: 19 | X10: 18 | Y10: 20 | Z10: 24 | AA10: 34 | AB10: 11 | AC10: 0 | AD10: 0 | AE10: 0 | AF10: 37 | AG10: 58 | AH10: 67 | AI10: 63 | AJ10: 63 | AK10: 64 | AL10: 66 | AM10: 68 | AN10: 68 | AO10: 67 | AP10: 67 | AQ10: 66 | AR10: 66 | AS10: =IFERROR(SUM(I10:AR10)/SUM(I11:AR11),0) -> 0.98568507
H11: ='PANEL DE CONTROL DISTRITAL'!H10 -> Fichas revisadas en la Muestra del 10% | I11: 0 | J11: 0 | K11: 0 | L11: 0 | M11: 0 | N11: 0 | O11: 0 | P11: 0 | Q11: 0 | R11: 0 | S11: 0 | T11: 0 | U11: 0 | V11: 18 | W11: 19 | X11: 18 | Y11: 20 | Z11: 24 | AA11: 34 | AB11: 11 | AC11: 0 | AD11: 0 | AE11: 0 | AF11: 39 | AG11: 58 | AH11: 71 | AI11: 63 | AJ11: 66 | AK11: 64 | AL11: 68 | AM11: 68 | AN11: 68 | AO11: 69 | AP11: 67 | AQ11: 67 | AR11: 66
A13: ='PANEL DE CONTROL DISTRITAL'!A12 -> 2 | B13: ='PANEL DE CONTROL DISTRITAL'!B12 -> Trámite | C13: ='PANEL DE CONTROL DISTRITAL'!C12 -> Operador de Equipo Tecnológico | D13: ='PANEL DE CONTROL DISTRITAL'!D12 -> Trámites exitosos. | E13: ='PANEL DE CONTROL DISTRITAL'!E12 -> (Número de trámites exitosos / Número de trámites aplicados) x 100 | F13: ='PANEL DE CONTROL DISTRITAL'!F12 -> Semanal (remesa) | G13: ='PANEL DE CONTROL DISTRITAL'!G12 -> 0.9 | H13: ='PANEL DE CONTROL DISTRITAL'!H12 -> Número de trámites exitosos | I13: 0 | J13: 0 | K13: 0 | L13: 0 | M13: 0 | N13: 0 | O13: 0 | P13: 0 | Q13: 0 | R13: 0 | S13: 0 | T13: 0 | U13: 0 | V13: 182 | W13: 198 | X13: 185 | Y13: 207 | Z13: 242 | AA13: 347 | AB13: 118 | AC13: 0 | AD13: 0 | AE13: 0 | AF13: 396 | AG13: 580 | AH13: 710 | AI13: 635 | AJ13: 662 | AK13: 644 | AL13: 677 | AM13: 685 | AN13: 599 | AO13: 690 | AP13: 672 | AQ13: 674 | AR13: 658 | AS13: =IFERROR(SUM(I13:AR13)/SUM(I14:AR14),0) -> 0.99713965
H14: ='PANEL DE CONTROL DISTRITAL'!H13 -> Número de trámites aplicados | I14: 0 | J14: 0 | K14: 0 | L14: 0 | M14: 0 | N14: 0 | O14: 0 | P14: 0 | Q14: 0 | R14: 0 | S14: 0 | T14: 0 | U14: 0 | V14: 182 | W14: 198 | X14: 185 | Y14: 207 | Z14: 242 | AA14: 347 | AB14: 118 | AC14: 0 | AD14: 0 | AE14: 0 | AF14: 399 | AG14: 585 | AH14: 711 | AI14: 637 | AJ14: 665 | AK14: 646 | AL14: 680 | AM14: 687 | AN14: 601 | AO14: 691 | AP14: 674 | AQ14: 674 | AR14: 660
A16: ='PANEL DE CONTROL DISTRITAL'!A15 -> 3 | B16: ='PANEL DE CONTROL DISTRITAL'!B15 -> Transferencia de la Información. | C16: ='PANEL DE CONTROL DISTRITAL'!C15 -> Responsable de Módulo | D16: ='PANEL DE CONTROL DISTRITAL'!D15 -> Reenvíos exitosos. | E16: ='PANEL DE CONTROL DISTRITAL'!E15 -> (Ejecución de los scripts de reenvío de notificaciones / Solicitud de reenvíos de scripts requeridos) x100 | F16: ='PANEL DE CONTROL DISTRITAL'!F15 -> Semanal (remesa) | G16: ='PANEL DE CONTROL DISTRITAL'!G15 -> 1 | H16: ='PANEL DE CONTROL DISTRITAL'!H15 -> Ejecución de los scripts de reenvío de notificaciones | I16: 0 | J16: 0 | K16: 0 | L16: 0 | M16: 0 | N16: 0 | O16: 0 | P16: 0 | Q16: 0 | R16: 0 | S16: 0 | T16: 0 | U16: 0 | V16: 0 | W16: 0 | X16: 0 | Y16: 0 | Z16: 0 | AA16: 0 | AB16: 0 | AC16: 0 | AD16: 0 | AE16: 0 | AF16: 0 | AG16: 1 | AH16: 3 | AI16: 0 | AJ16: 0 | AK16: 0 | AL16: 0 | AM16: 2 | AN16: 1 | AO16: 3 | AP16: 0 | AQ16: 0 | AR16: 9 | AS16: =IFERROR(SUM(I16:AR16)/SUM(I17:AR17),1) -> 1
H17: ='PANEL DE CONTROL DISTRITAL'!H16 -> Solicitud de reevíos de scripts requeridos | I17: 0 | J17: 0 | K17: 0 | L17: 0 | M17: 0 | N17: 0 | O17: 0 | P17: 0 | Q17: 0 | R17: 0 | S17: 0 | T17: 0 | U17: 0 | V17: 0 | W17: 0 | X17: 0 | Y17: 0 | Z17: 0 | AA17: 0 | AB17: 0 | AC17: 0 | AD17: 0 | AE17: 0 | AF17: 0 | AG17: 1 | AH17: 3 | AI17: 0 | AJ17: 0 | AK17: 0 | AL17: 0 | AM17: 2 | AN17: 1 | AO17: 3 | AP17: 0 | AQ17: 0 | AR17: 9
A19: ='PANEL DE CONTROL DISTRITAL'!A18 -> 4 | B19: ='PANEL DE CONTROL DISTRITAL'!B18 -> Conciliación de Credenciales para Votar. | C19: ='PANEL DE CONTROL DISTRITAL'!C18 -> Responsable de Módulo | D19: ='PANEL DE CONTROL DISTRITAL'!D18 -> Credenciales disponibles para entrega. | E19: ='PANEL DE CONTROL DISTRITAL'!E18 -> [(Credenciales recibidas - Credenciales inconsistentes) / Credenciales recibidas] x 100 | F19: ='PANEL DE CONTROL DISTRITAL'!F18 -> Semanal (remesa) | G19: ='PANEL DE CONTROL DISTRITAL'!G18 -> 0.9 | H19: ='PANEL DE CONTROL DISTRITAL'!H18 -> Credenciales Recibidas - Credenciales inconsistentes | I19: 0 | J19: 0 | K19: 0 | L19: 0 | M19: 0 | N19: 0 | O19: 0 | P19: 0 | Q19: 0 | R19: 0 | S19: 0 | T19: 0 | U19: 0 | V19: 192 | W19: 189 | X19: 194 | Y19: 173 | Z19: 259 | AA19: 284 | AB19: 62 | AC19: 202 | AD19: 0 | AE19: 0 | AF19: 226 | AG19: 500 | AH19: 636 | AI19: 684 | AJ19: 619 | AK19: 685 | AL19: 683 | AM19: 675 | AN19: 512 | AO19: 765 | AP19: 512 | AQ19: 650 | AR19: 552 | AS19: =IFERROR(SUM(I19:AR19)/SUM(I20:AR20),0) -> 1
H20: ='PANEL DE CONTROL DISTRITAL'!H19 -> Credenciales recibidas | I20: 0 | J20: 0 | K20: 0 | L20: 0 | M20: 0 | N20: 0 | O20: 0 | P20: 0 | Q20: 0 | R20: 0 | S20: 0 | T20: 0 | U20: 0 | V20: 192 | W20: 189 | X20: 194 | Y20: 173 | Z20: 259 | AA20: 284 | AB20: 62 | AC20: 202 | AD20: 0 | AE20: 0 | AF20: 226 | AG20: 500 | AH20: 636 | AI20: 684 | AJ20: 619 | AK20: 685 | AL20: 683 | AM20: 675 | AN20: 512 | AO20: 765 | AP20: 512 | AQ20: 650 | AR20: 552
A22: ='PANEL DE CONTROL DISTRITAL'!A21 -> 5 | B22: ='PANEL DE CONTROL DISTRITAL'!B21 -> Conciliación de Credenciales para Votar. | C22: ='PANEL DE CONTROL DISTRITAL'!C21 -> Responsable de Módulo | D22: ='PANEL DE CONTROL DISTRITAL'!D21 -> Arqueo de credenciales. | E22: ='PANEL DE CONTROL DISTRITAL'!E21 -> (Credenciales disponibles (físicas) / Credenciales disponibles registradas en SIIRFE-MAC) x 100 | F22: ='PANEL DE CONTROL DISTRITAL'!F21 -> Semanal (remesa) | G22: ='PANEL DE CONTROL DISTRITAL'!G21 -> 1 | H22: ='PANEL DE CONTROL DISTRITAL'!H21 -> Credenciales disponibles (físicas) | I22: 0 | J22: 0 | K22: 0 | L22: 0 | M22: 0 | N22: 0 | O22: 0 | P22: 0 | Q22: 0 | R22: 0 | S22: 0 | T22: 0 | U22: 0 | V22: 360 | W22: 270 | X22: 257 | Y22: 253 | Z22: 308 | AA22: 290 | AB22: 305 | AC22: 250 | AD22: 70 | AE22: 0 | AF22: 386 | AG22: 636 | AH22: 832 | AI22: 905 | AJ22: 885 | AK22: 927 | AL22: 999 | AM22: 1024 | AN22: 887 | AO22: 969 | AP22: 1024 | AQ22: 966 | AR22: 864 | AS22: =IFERROR(SUM(I22:AR22)/SUM(I23:AR23),0) -> 1
H23: ='PANEL DE CONTROL DISTRITAL'!H22 -> Credenciales disponibles registradas en SIIRFE | I23: 0 | J23: 0 | K23: 0 | L23: 0 | M23: 0 | N23: 0 | O23: 0 | P23: 0 | Q23: 0 | R23: 0 | S23: 0 | T23: 0 | U23: 0 | V23: 360 | W23: 270 | X23: 257 | Y23: 253 | Z23: 308 | AA23: 290 | AB23: 305 | AC23: 250 | AD23: 70 | AE23: 0 | AF23: 386 | AG23: 636 | AH23: 832 | AI23: 905 | AJ23: 885 | AK23: 927 | AL23: 999 | AM23: 1024 | AN23: 887 | AO23: 969 | AP23: 1024 | AQ23: 966 | AR23: 864
